BEGIN:VCALENDAR
VERSION:2.0
PRODID:-//jEvents 2.0 for Joomla//EN
CALSCALE:GREGORIAN
METHOD:PUBLISH
BEGIN:VEVENT
UID:7af68eb2bde23d84d9b080929044aa27
CATEGORIES:7. Bezirk
CREATED:20251018T145130
SUMMARY:MUMelade - Frühstück für Eltern & Kinder
LOCATION:Auferstehungskirche\, Lindengasse 44
DESCRIPTION:Gemeinsam Essen, spielen und sich austauschen. Wenn alle satt sind, werden 
 wir "Singen und Klingen"\nEinfach vorbeikommen! keine Anmeldung notwendig!\
 n \n
X-ALT-DESC;FMTTYPE=text/html:<p style="-webkit-tap-highlight-color: rgba(0, 0, 0, 0); margin: 0px 0px 26
 px; padding-top: 0px; padding-bottom: 0px; color: #a42d88; font-family: 'Lu
 cida Grande', 'Lucida Sans Unicode', sans-serif; font-size: 16px;">Gemeinsa
 m Essen, spielen und sich austauschen. Wenn alle satt sind, werden wir&nbsp
 ;"Singen und Klingen"</p><p>Einfach vorbeikommen! keine Anmeldung notwendig
 !</p><p>&nbsp;</p>
CONTACT:https://www.evang-neubau.at/
X-EXTRAINFO:[preis='400'][anmeldung='false']
DTSTAMP:20260425T000927
DTSTART:20251022T070000
DTEND:20251022T100000
SEQUENCE:0
TRANSP:OPAQUE
END:VEVENT
END:VCALENDAR