BEGIN:VCALENDAR
VERSION:2.0
PRODID:-//jEvents 2.0 for Joomla//EN
CALSCALE:GREGORIAN
METHOD:PUBLISH
BEGIN:VEVENT
UID:1b5fe688f93f71c4075a949871d89716
CATEGORIES:7. Bezirk
CREATED:20251023T190756
SUMMARY:Schnupperstunde im Musikkurs (auf Italienisch)
LOCATION:Neubaugasse 44
DESCRIPTION:Musikkurs für Kinder von 2 bis 5 Jahren – wir spielen und singen auf Italie
 nisch!\n📍 Info:www.cantiamowien.com (http://www.cantiamowien.com/)\n✉️ Anme
 ldung:cantiamowien@gmail.com\n
X-ALT-DESC;FMTTYPE=text/html:<p style="caret-color: #000000; color: #000000; text-size-adjust: auto;" da
 ta-start="315" data-end="400"><strong data-start="315" data-end="400">Musik
 kurs für Kinder von 2 bis 5 Jahren – wir spielen und singen auf Italienisch
 !</strong></p><p>📍 Info:<span class="Apple-converted-space"></span><a href=
 "http://www.cantiamowien.com/" target="_new" rel="noopener" class="decorate
 d-link" data-start="275" data-end="326">www.cantiamowien.com</a></p><p styl
 e="caret-color: #000000; color: #000000; text-size-adjust: auto;" data-star
 t="215" data-end="367">✉️ Anmeldung:<span class="Apple-converted-space"></s
 pan><a rel="noopener" class="decorated-link cursor-pointer" data-start="343
 " data-end="365">cantiamowien@gmail.com<span class="ms-0.5 inline-block ali
 gn-middle leading-none" aria-hidden="true"></span></a></p>
CONTACT:cantiamowien@gmail.com
X-EXTRAINFO:[preis='000'][anmeldung='true']
DTSTAMP:20260425T000755
DTSTART:20251029T150000
DTEND:20251029T160000
SEQUENCE:0
TRANSP:OPAQUE
END:VEVENT
END:VCALENDAR