BEGIN:VCALENDAR
VERSION:2.0
PRODID:-//jEvents 2.0 for Joomla//EN
CALSCALE:GREGORIAN
METHOD:PUBLISH
BEGIN:VEVENT
UID:a2b6b06ff28541d6535d932203d62801
CATEGORIES:3. Bezirk
CREATED:19700101T010000
SUMMARY:Schnupperstunde im Musikkurs (auf Italienisch)
LOCATION:Spielzimmer 5 Sinne
DESCRIPTION:<p style="caret-color: #000000; color: #000000; text-size-adjust: auto;" da
 ta-start="315" data-end="400"><strong data-start="315" data-end="400">&nbsp
 ;für Kinder von 1 bis 4 Jahren – wir spielen und singen auf Italienisch! + 
 JAUSE</strong></p><p>📍 Info:<span class="Apple-converted-space"></span><a h
 ref="http://www.cantiamowien.com/" target="_new" rel="noopener" class="deco
 rated-link" data-start="275" data-end="326">www.cantiamowien.com</a></p><p 
 style="caret-color: #000000; color: #000000; text-size-adjust: auto;" data-
 start="215" data-end="367">✉️ Anmeldung:<span class="Apple-converted-space"
 ></span><a rel="noopener" class="decorated-link cursor-pointer" data-start=
 "343" data-end="365">cantiamowien@gmail.com</a></p>
CONTACT:cantiamowien@gmail.com
X-EXTRAINFO:[preis='000'][anmeldung='true']
DTSTAMP:20260425T120454
DTSTART:20251030T140000
DTEND:20251030T150000
SEQUENCE:0
RRULE:FREQ=WEEKLY;UNTIL=20251128T000000Z;INTERVAL=1;BYDAY=TH
TRANSP:OPAQUE
END:VEVENT
END:VCALENDAR