BEGIN:VCALENDAR
VERSION:2.0
PRODID:-//jEvents 2.0 for Joomla//EN
CALSCALE:GREGORIAN
METHOD:PUBLISH
BEGIN:VEVENT
UID:9fbb57d9f5d058bf4f73af36702e874b
CATEGORIES:16. Bezirk
CREATED:20251030T102259
SUMMARY:Halloween Krimitour
LOCATION:Park
DESCRIPTION:🎃👻 Halloween Schnitzeljagd - 31.10.2025 / 17Uhr 🐾Mach dich bereit für die H
 alloween-Schnitzeljagd! 👻Gemeinsam mit deinem Hund löst du kleine, lustige 
 Aufgaben – mal mit, mal ohne deinen vierbeinigen Spürhund.Jede gelöste Aufg
 abe bringt euch dem nächsten Hinweis ein Stückchen näher... 🕵️‍♀️Und am End
 e wartet eine gruselig-schöne Überraschung auf euch! 🎁✨Die Schnitzeljagd is
 t für Anfänger, Welpen und Kinder ab 10 Jahren geeignet.Gerne könnt ihr an 
 der Schnitzeljagd verkleidet teilnehmen, die Hunde können sich mit einem "L
 euchthalsband" verkleiden :)Wollt ihr dabei sein? Dann schreibt mir gerne e
 ine Email: michaela@herzundgspia.at31.10.2025 - 17:00Uhr - ca. 18:30UhrOrt:
  1160 WienKosten: 28€ pro Mensch/Hund Team, Begleitpersonen 8€, Kinder grat
 isDer genaue Treffpunkt wird noch bekannt gegeben.\n
X-ALT-DESC;FMTTYPE=text/html:<p><span style="color: #000000; font-family: -apple-system, BlinkMacSystemF
 ont, 'Segoe UI', Roboto, Helvetica, Arial, sans-serif; font-size: 14px;">🎃👻
  Halloween Schnitzeljagd - 31.10.2025 / 17Uhr 🐾</span><br style="color: #00
 0000; font-family: -apple-system, BlinkMacSystemFont, 'Segoe UI', Roboto, H
 elvetica, Arial, sans-serif; font-size: 14px;" /><br style="color: #000000;
  font-family: -apple-system, BlinkMacSystemFont, 'Segoe UI', Roboto, Helvet
 ica, Arial, sans-serif; font-size: 14px;" /><span style="color: #000000; fo
 nt-family: -apple-system, BlinkMacSystemFont, 'Segoe UI', Roboto, Helvetica
 , Arial, sans-serif; font-size: 14px;">Mach dich bereit für die Halloween-S
 chnitzeljagd! 👻</span><br style="color: #000000; font-family: -apple-system
 , BlinkMacSystemFont, 'Segoe UI', Roboto, Helvetica, Arial, sans-serif; fon
 t-size: 14px;" /><span style="color: #000000; font-family: -apple-system, B
 linkMacSystemFont, 'Segoe UI', Roboto, Helvetica, Arial, sans-serif; font-s
 ize: 14px;">Gemeinsam mit deinem Hund löst du kleine, lustige Aufgaben – ma
 l mit, mal ohne deinen vierbeinigen Spürhund.</span><br style="color: #0000
 00; font-family: -apple-system, BlinkMacSystemFont, 'Segoe UI', Roboto, Hel
 vetica, Arial, sans-serif; font-size: 14px;" /><span style="color: #000000;
  font-family: -apple-system, BlinkMacSystemFont, 'Segoe UI', Roboto, Helvet
 ica, Arial, sans-serif; font-size: 14px;">Jede gelöste Aufgabe bringt euch 
 dem nächsten Hinweis ein Stückchen näher... 🕵️‍♀️</span><br style="color: #
 000000; font-family: -apple-system, BlinkMacSystemFont, 'Segoe UI', Roboto,
  Helvetica, Arial, sans-serif; font-size: 14px;" /><span style="color: #000
 000; font-family: -apple-system, BlinkMacSystemFont, 'Segoe UI', Roboto, He
 lvetica, Arial, sans-serif; font-size: 14px;">Und am Ende wartet eine gruse
 lig-schöne Überraschung auf euch! 🎁✨</span><br style="color: #000000; font-
 family: -apple-system, BlinkMacSystemFont, 'Segoe UI', Roboto, Helvetica, A
 rial, sans-serif; font-size: 14px;" /><br style="color: #000000; font-famil
 y: -apple-system, BlinkMacSystemFont, 'Segoe UI', Roboto, Helvetica, Arial,
  sans-serif; font-size: 14px;" /><span style="color: #000000; font-family: 
 -apple-system, BlinkMacSystemFont, 'Segoe UI', Roboto, Helvetica, Arial, sa
 ns-serif; font-size: 14px;">Die Schnitzeljagd ist für Anfänger, Welpen und 
 Kinder ab 10 Jahren geeignet.</span><br style="color: #000000; font-family:
  -apple-system, BlinkMacSystemFont, 'Segoe UI', Roboto, Helvetica, Arial, s
 ans-serif; font-size: 14px;" /><span style="color: #000000; font-family: -a
 pple-system, BlinkMacSystemFont, 'Segoe UI', Roboto, Helvetica, Arial, sans
 -serif; font-size: 14px;">Gerne könnt ihr an der Schnitzeljagd verkleidet t
 eilnehmen, die Hunde können sich mit einem "Leuchthalsband" verkleiden :)</
 span><br style="color: #000000; font-family: -apple-system, BlinkMacSystemF
 ont, 'Segoe UI', Roboto, Helvetica, Arial, sans-serif; font-size: 14px;" />
 <br style="color: #000000; font-family: -apple-system, BlinkMacSystemFont, 
 'Segoe UI', Roboto, Helvetica, Arial, sans-serif; font-size: 14px;" /><span
  style="color: #000000; font-family: -apple-system, BlinkMacSystemFont, 'Se
 goe UI', Roboto, Helvetica, Arial, sans-serif; font-size: 14px;">Wollt ihr 
 dabei sein? Dann schreibt mir gerne eine Email: michaela@herzundgspia.at</s
 pan><br style="color: #000000; font-family: -apple-system, BlinkMacSystemFo
 nt, 'Segoe UI', Roboto, Helvetica, Arial, sans-serif; font-size: 14px;" /><
 br style="color: #000000; font-family: -apple-system, BlinkMacSystemFont, '
 Segoe UI', Roboto, Helvetica, Arial, sans-serif; font-size: 14px;" /><span 
 style="color: #000000; font-family: -apple-system, BlinkMacSystemFont, 'Seg
 oe UI', Roboto, Helvetica, Arial, sans-serif; font-size: 14px;">31.10.2025 
 - 17:00Uhr - ca. 18:30Uhr</span><br style="color: #000000; font-family: -ap
 ple-system, BlinkMacSystemFont, 'Segoe UI', Roboto, Helvetica, Arial, sans-
 serif; font-size: 14px;" /><span style="color: #000000; font-family: -apple
 -system, BlinkMacSystemFont, 'Segoe UI', Roboto, Helvetica, Arial, sans-ser
 if; font-size: 14px;">Ort: 1160 Wien</span><br style="color: #000000; font-
 family: -apple-system, BlinkMacSystemFont, 'Segoe UI', Roboto, Helvetica, A
 rial, sans-serif; font-size: 14px;" /><span style="color: #000000; font-fam
 ily: -apple-system, BlinkMacSystemFont, 'Segoe UI', Roboto, Helvetica, Aria
 l, sans-serif; font-size: 14px;">Kosten: 28€ pro Mensch/Hund Team, Begleitp
 ersonen 8€, Kinder gratis</span><br style="color: #000000; font-family: -ap
 ple-system, BlinkMacSystemFont, 'Segoe UI', Roboto, Helvetica, Arial, sans-
 serif; font-size: 14px;" /><span style="color: #000000; font-family: -apple
 -system, BlinkMacSystemFont, 'Segoe UI', Roboto, Helvetica, Arial, sans-ser
 if; font-size: 14px;">Der genaue Treffpunkt wird noch bekannt gegeben.</spa
 n></p>
CONTACT:michaela@herzundgspia.at
X-EXTRAINFO:[preis='2800'][anmeldung='true']
DTSTAMP:20260425T000754
DTSTART:20251031T160000
DTEND:20251031T173000
SEQUENCE:0
TRANSP:OPAQUE
END:VEVENT
END:VCALENDAR