BEGIN:VCALENDAR
VERSION:2.0
PRODID:-//jEvents 2.0 for Joomla//EN
CALSCALE:GREGORIAN
METHOD:PUBLISH
BEGIN:VEVENT
UID:5fbf58d05f1272762f7cb1530a62410d
CATEGORIES:18. Bezirk
CREATED:19700101T010000
SUMMARY:Mama-Baby Pilates
LOCATION:Ferrogasse 9/1 1180 Wien
DESCRIPTION:Diese liebevoll gestaltete Mama-Baby Pilates- und Rückbildungsklasse unters
 tützt dich sanft auf deinem Weg zurück zu einem starken und ausgeglichenen 
 Körper nach der Geburt. Mit Pilates-Übungen, die speziell auf die Bedürfnis
 se von frischgebackenen Müttern abgestimmt sind, liegt der Fokus auf der Kr
 äftigung der Beckenbodenmuskulatur, der Stabilisierung der Rumpfmuskulatur 
 und der Verbesserung der Körperhaltung – wichtige Bausteine für eine effekt
 ive Rückbildung.\nDie Übungen sind sanft und dennoch effektiv, ideal, um de
 inen Körper behutsam wieder aufzubauen, während dein Baby in deiner Nähe is
 t. Vernetze dich mit anderen Müttern, tanke neue Kraft und genieße deine Rü
 ckbildungszeit in einem unterstützenden und entspannten Umfeld.\nDiese Klas
 se wird empfohlen ab etwa 3–6 Monaten nach der Geburt, je nach Genesungsver
 lauf deines Körpers, wenn die Rektusdiastase (Bauchmuskelspaltung) sich zur
 ückgebildet hat und du wieder Lust hast, dich mehr zu bewegen :-)\nBitte be
 achte, dass du auch ohne Baby kommen kannst :-) wenn du frischgebackene Mut
 ter bist und an einem Rückbildungskurs teilnehmen möchtest!\nBitte hole dir
  vor der Teilnahme die Freigabe deiner Ärztin oder deines Arztes ein.\nDies
 er Kurs wird auf Deutsch unterrichtet.\n
X-ALT-DESC;FMTTYPE=text/html:<p style="box-sizing: border-box; border: 0px solid #e5e7eb; --tw-border-sp
 acing-x: 0; --tw-border-spacing-y: 0; --tw-translate-x: 0; --tw-translate-y
 : 0; --tw-rotate: 0; --tw-skew-x: 0; --tw-skew-y: 0; --tw-scale-x: 1; --tw-
 scale-y: 1; --tw-scroll-snap-strictness: proximity; --tw-ring-offset-width:
  0px; --tw-ring-offset-color: #fff; --tw-ring-color: rgb(59 130 246/0.5); -
 -tw-ring-offset-shadow: 0 0 #0000; --tw-ring-shadow: 0 0 #0000; --tw-shadow
 : 0 0 #0000; --tw-shadow-colored: 0 0 #0000; margin: 0px 0px 12px; color: #
 141414; font-family: ui-sans-serif, system-ui, sans-serif, 'Apple Color Emo
 ji', 'Segoe UI Emoji', 'Segoe UI Symbol', 'Noto Color Emoji'; font-size: me
 dium;"><span style="box-sizing: border-box; border: 0px solid #e5e7eb; --tw
 -border-spacing-x: 0; --tw-border-spacing-y: 0; --tw-translate-x: 0; --tw-t
 ranslate-y: 0; --tw-rotate: 0; --tw-skew-x: 0; --tw-skew-y: 0; --tw-scale-x
 : 1; --tw-scale-y: 1; --tw-scroll-snap-strictness: proximity; --tw-ring-off
 set-width: 0px; --tw-ring-offset-color: #fff; --tw-ring-color: rgb(59 130 2
 46/0.5); --tw-ring-offset-shadow: 0 0 #0000; --tw-ring-shadow: 0 0 #0000; -
 -tw-shadow: 0 0 #0000; --tw-shadow-colored: 0 0 #0000; font-weight: bold;">
 Diese liebevoll gestaltete Mama-Baby Pilates- und Rückbildungsklasse</span>
 &nbsp;unterstützt dich sanft auf deinem Weg zurück zu einem starken und aus
 geglichenen Körper nach der Geburt. Mit Pilates-Übungen, die speziell auf d
 ie Bedürfnisse von frischgebackenen Müttern abgestimmt sind, liegt der Foku
 s auf der&nbsp;<span style="box-sizing: border-box; border: 0px solid #e5e7
 eb; --tw-border-spacing-x: 0; --tw-border-spacing-y: 0; --tw-translate-x: 0
 ; --tw-translate-y: 0; --tw-rotate: 0; --tw-skew-x: 0; --tw-skew-y: 0; --tw
 -scale-x: 1; --tw-scale-y: 1; --tw-scroll-snap-strictness: proximity; --tw-
 ring-offset-width: 0px; --tw-ring-offset-color: #fff; --tw-ring-color: rgb(
 59 130 246/0.5); --tw-ring-offset-shadow: 0 0 #0000; --tw-ring-shadow: 0 0 
 #0000; --tw-shadow: 0 0 #0000; --tw-shadow-colored: 0 0 #0000; font-weight:
  bold;">Kräftigung der Beckenbodenmuskulatur</span>, der&nbsp;<span style="
 box-sizing: border-box; border: 0px solid #e5e7eb; --tw-border-spacing-x: 0
 ; --tw-border-spacing-y: 0; --tw-translate-x: 0; --tw-translate-y: 0; --tw-
 rotate: 0; --tw-skew-x: 0; --tw-skew-y: 0; --tw-scale-x: 1; --tw-scale-y: 1
 ; --tw-scroll-snap-strictness: proximity; --tw-ring-offset-width: 0px; --tw
 -ring-offset-color: #fff; --tw-ring-color: rgb(59 130 246/0.5); --tw-ring-o
 ffset-shadow: 0 0 #0000; --tw-ring-shadow: 0 0 #0000; --tw-shadow: 0 0 #000
 0; --tw-shadow-colored: 0 0 #0000; font-weight: bold;">Stabilisierung der R
 umpfmuskulatur</span>&nbsp;und der&nbsp;<span style="box-sizing: border-box
 ; border: 0px solid #e5e7eb; --tw-border-spacing-x: 0; --tw-border-spacing-
 y: 0; --tw-translate-x: 0; --tw-translate-y: 0; --tw-rotate: 0; --tw-skew-x
 : 0; --tw-skew-y: 0; --tw-scale-x: 1; --tw-scale-y: 1; --tw-scroll-snap-str
 ictness: proximity; --tw-ring-offset-width: 0px; --tw-ring-offset-color: #f
 ff; --tw-ring-color: rgb(59 130 246/0.5); --tw-ring-offset-shadow: 0 0 #000
 0; --tw-ring-shadow: 0 0 #0000; --tw-shadow: 0 0 #0000; --tw-shadow-colored
 : 0 0 #0000; font-weight: bold;">Verbesserung der Körperhaltung</span>&nbsp
 ;– wichtige Bausteine für eine effektive Rückbildung.</p><p style="box-sizi
 ng: border-box; border: 0px solid #e5e7eb; --tw-border-spacing-x: 0; --tw-b
 order-spacing-y: 0; --tw-translate-x: 0; --tw-translate-y: 0; --tw-rotate: 
 0; --tw-skew-x: 0; --tw-skew-y: 0; --tw-scale-x: 1; --tw-scale-y: 1; --tw-s
 croll-snap-strictness: proximity; --tw-ring-offset-width: 0px; --tw-ring-of
 fset-color: #fff; --tw-ring-color: rgb(59 130 246/0.5); --tw-ring-offset-sh
 adow: 0 0 #0000; --tw-ring-shadow: 0 0 #0000; --tw-shadow: 0 0 #0000; --tw-
 shadow-colored: 0 0 #0000; margin: 0px 0px 12px; color: #141414; font-famil
 y: ui-sans-serif, system-ui, sans-serif, 'Apple Color Emoji', 'Segoe UI Emo
 ji', 'Segoe UI Symbol', 'Noto Color Emoji'; font-size: medium;">Die Übungen
  sind&nbsp;<span style="box-sizing: border-box; border: 0px solid #e5e7eb; 
 --tw-border-spacing-x: 0; --tw-border-spacing-y: 0; --tw-translate-x: 0; --
 tw-translate-y: 0; --tw-rotate: 0; --tw-skew-x: 0; --tw-skew-y: 0; --tw-sca
 le-x: 1; --tw-scale-y: 1; --tw-scroll-snap-strictness: proximity; --tw-ring
 -offset-width: 0px; --tw-ring-offset-color: #fff; --tw-ring-color: rgb(59 1
 30 246/0.5); --tw-ring-offset-shadow: 0 0 #0000; --tw-ring-shadow: 0 0 #000
 0; --tw-shadow: 0 0 #0000; --tw-shadow-colored: 0 0 #0000; font-weight: bol
 d;">sanft und dennoch effektiv</span>, ideal, um deinen Körper behutsam wie
 der aufzubauen, während dein Baby in deiner Nähe ist. Vernetze dich mit and
 eren Müttern, tanke neue Kraft und genieße deine Rückbildungszeit in einem&
 nbsp;<span style="box-sizing: border-box; border: 0px solid #e5e7eb; --tw-b
 order-spacing-x: 0; --tw-border-spacing-y: 0; --tw-translate-x: 0; --tw-tra
 nslate-y: 0; --tw-rotate: 0; --tw-skew-x: 0; --tw-skew-y: 0; --tw-scale-x: 
 1; --tw-scale-y: 1; --tw-scroll-snap-strictness: proximity; --tw-ring-offse
 t-width: 0px; --tw-ring-offset-color: #fff; --tw-ring-color: rgb(59 130 246
 /0.5); --tw-ring-offset-shadow: 0 0 #0000; --tw-ring-shadow: 0 0 #0000; --t
 w-shadow: 0 0 #0000; --tw-shadow-colored: 0 0 #0000; font-weight: bold;">un
 terstützenden und entspannten Umfeld</span>.</p><p style="box-sizing: borde
 r-box; border: 0px solid #e5e7eb; --tw-border-spacing-x: 0; --tw-border-spa
 cing-y: 0; --tw-translate-x: 0; --tw-translate-y: 0; --tw-rotate: 0; --tw-s
 kew-x: 0; --tw-skew-y: 0; --tw-scale-x: 1; --tw-scale-y: 1; --tw-scroll-sna
 p-strictness: proximity; --tw-ring-offset-width: 0px; --tw-ring-offset-colo
 r: #fff; --tw-ring-color: rgb(59 130 246/0.5); --tw-ring-offset-shadow: 0 0
  #0000; --tw-ring-shadow: 0 0 #0000; --tw-shadow: 0 0 #0000; --tw-shadow-co
 lored: 0 0 #0000; margin: 0px 0px 12px; color: #141414; font-family: ui-san
 s-serif, system-ui, sans-serif, 'Apple Color Emoji', 'Segoe UI Emoji', 'Seg
 oe UI Symbol', 'Noto Color Emoji'; font-size: medium;">Diese Klasse wird em
 pfohlen ab etwa&nbsp;<span style="box-sizing: border-box; border: 0px solid
  #e5e7eb; --tw-border-spacing-x: 0; --tw-border-spacing-y: 0; --tw-translat
 e-x: 0; --tw-translate-y: 0; --tw-rotate: 0; --tw-skew-x: 0; --tw-skew-y: 0
 ; --tw-scale-x: 1; --tw-scale-y: 1; --tw-scroll-snap-strictness: proximity;
  --tw-ring-offset-width: 0px; --tw-ring-offset-color: #fff; --tw-ring-color
 : rgb(59 130 246/0.5); --tw-ring-offset-shadow: 0 0 #0000; --tw-ring-shadow
 : 0 0 #0000; --tw-shadow: 0 0 #0000; --tw-shadow-colored: 0 0 #0000; font-w
 eight: bold;">3–6 Monaten nach der Geburt</span>, je nach Genesungsverlauf 
 deines Körpers, wenn die&nbsp;<span style="box-sizing: border-box; border: 
 0px solid #e5e7eb; --tw-border-spacing-x: 0; --tw-border-spacing-y: 0; --tw
 -translate-x: 0; --tw-translate-y: 0; --tw-rotate: 0; --tw-skew-x: 0; --tw-
 skew-y: 0; --tw-scale-x: 1; --tw-scale-y: 1; --tw-scroll-snap-strictness: p
 roximity; --tw-ring-offset-width: 0px; --tw-ring-offset-color: #fff; --tw-r
 ing-color: rgb(59 130 246/0.5); --tw-ring-offset-shadow: 0 0 #0000; --tw-ri
 ng-shadow: 0 0 #0000; --tw-shadow: 0 0 #0000; --tw-shadow-colored: 0 0 #000
 0; font-weight: bold;">Rektusdiastase (Bauchmuskelspaltung) sich zurückgebi
 ldet hat</span>&nbsp;und du wieder Lust hast, dich mehr zu bewegen :-)</p><
 p style="box-sizing: border-box; border: 0px solid #e5e7eb; --tw-border-spa
 cing-x: 0; --tw-border-spacing-y: 0; --tw-translate-x: 0; --tw-translate-y:
  0; --tw-rotate: 0; --tw-skew-x: 0; --tw-skew-y: 0; --tw-scale-x: 1; --tw-s
 cale-y: 1; --tw-scroll-snap-strictness: proximity; --tw-ring-offset-width: 
 0px; --tw-ring-offset-color: #fff; --tw-ring-color: rgb(59 130 246/0.5); --
 tw-ring-offset-shadow: 0 0 #0000; --tw-ring-shadow: 0 0 #0000; --tw-shadow:
  0 0 #0000; --tw-shadow-colored: 0 0 #0000; margin: 0px 0px 12px; color: #1
 41414; font-family: ui-sans-serif, system-ui, sans-serif, 'Apple Color Emoj
 i', 'Segoe UI Emoji', 'Segoe UI Symbol', 'Noto Color Emoji'; font-size: med
 ium;">Bitte beachte, dass du&nbsp;<span style="box-sizing: border-box; bord
 er: 0px solid #e5e7eb; --tw-border-spacing-x: 0; --tw-border-spacing-y: 0; 
 --tw-translate-x: 0; --tw-translate-y: 0; --tw-rotate: 0; --tw-skew-x: 0; -
 -tw-skew-y: 0; --tw-scale-x: 1; --tw-scale-y: 1; --tw-scroll-snap-strictnes
 s: proximity; --tw-ring-offset-width: 0px; --tw-ring-offset-color: #fff; --
 tw-ring-color: rgb(59 130 246/0.5); --tw-ring-offset-shadow: 0 0 #0000; --t
 w-ring-shadow: 0 0 #0000; --tw-shadow: 0 0 #0000; --tw-shadow-colored: 0 0 
 #0000; font-weight: bold;">auch ohne Baby kommen kannst</span>&nbsp;:-) wen
 n du frischgebackene Mutter bist und an einem Rückbildungskurs teilnehmen m
 öchtest!</p><p style="box-sizing: border-box; border: 0px solid #e5e7eb; --
 tw-border-spacing-x: 0; --tw-border-spacing-y: 0; --tw-translate-x: 0; --tw
 -translate-y: 0; --tw-rotate: 0; --tw-skew-x: 0; --tw-skew-y: 0; --tw-scale
 -x: 1; --tw-scale-y: 1; --tw-scroll-snap-strictness: proximity; --tw-ring-o
 ffset-width: 0px; --tw-ring-offset-color: #fff; --tw-ring-color: rgb(59 130
  246/0.5); --tw-ring-offset-shadow: 0 0 #0000; --tw-ring-shadow: 0 0 #0000;
  --tw-shadow: 0 0 #0000; --tw-shadow-colored: 0 0 #0000; margin: 0px 0px 12
 px; color: #141414; font-family: ui-sans-serif, system-ui, sans-serif, 'App
 le Color Emoji', 'Segoe UI Emoji', 'Segoe UI Symbol', 'Noto Color Emoji'; f
 ont-size: medium;">Bitte hole dir vor der Teilnahme die&nbsp;<span style="b
 ox-sizing: border-box; border: 0px solid #e5e7eb; --tw-border-spacing-x: 0;
  --tw-border-spacing-y: 0; --tw-translate-x: 0; --tw-translate-y: 0; --tw-r
 otate: 0; --tw-skew-x: 0; --tw-skew-y: 0; --tw-scale-x: 1; --tw-scale-y: 1;
  --tw-scroll-snap-strictness: proximity; --tw-ring-offset-width: 0px; --tw-
 ring-offset-color: #fff; --tw-ring-color: rgb(59 130 246/0.5); --tw-ring-of
 fset-shadow: 0 0 #0000; --tw-ring-shadow: 0 0 #0000; --tw-shadow: 0 0 #0000
 ; --tw-shadow-colored: 0 0 #0000; font-weight: bold;">Freigabe deiner Ärzti
 n oder deines Arztes</span>&nbsp;ein.</p><p style="box-sizing: border-box; 
 border: 0px solid #e5e7eb; --tw-border-spacing-x: 0; --tw-border-spacing-y:
  0; --tw-translate-x: 0; --tw-translate-y: 0; --tw-rotate: 0; --tw-skew-x: 
 0; --tw-skew-y: 0; --tw-scale-x: 1; --tw-scale-y: 1; --tw-scroll-snap-stric
 tness: proximity; --tw-ring-offset-width: 0px; --tw-ring-offset-color: #fff
 ; --tw-ring-color: rgb(59 130 246/0.5); --tw-ring-offset-shadow: 0 0 #0000;
  --tw-ring-shadow: 0 0 #0000; --tw-shadow: 0 0 #0000; --tw-shadow-colored: 
 0 0 #0000; margin: 0px 0px 12px; color: #141414; font-family: ui-sans-serif
 , system-ui, sans-serif, 'Apple Color Emoji', 'Segoe UI Emoji', 'Segoe UI S
 ymbol', 'Noto Color Emoji'; font-size: medium;"><span style="box-sizing: bo
 rder-box; border: 0px solid #e5e7eb; --tw-border-spacing-x: 0; --tw-border-
 spacing-y: 0; --tw-translate-x: 0; --tw-translate-y: 0; --tw-rotate: 0; --t
 w-skew-x: 0; --tw-skew-y: 0; --tw-scale-x: 1; --tw-scale-y: 1; --tw-scroll-
 snap-strictness: proximity; --tw-ring-offset-width: 0px; --tw-ring-offset-c
 olor: #fff; --tw-ring-color: rgb(59 130 246/0.5); --tw-ring-offset-shadow: 
 0 0 #0000; --tw-ring-shadow: 0 0 #0000; --tw-shadow: 0 0 #0000; --tw-shadow
 -colored: 0 0 #0000; font-weight: bold;">Dieser Kurs wird auf Deutsch unter
 richtet.</span></p>
CONTACT:https://www.beyourmuse.at/stundenplan
X-EXTRAINFO:[preis='1000'][anmeldung='true']
DTSTAMP:20260425T111146
DTSTART:20251104T084500
DTEND:20251104T100000
SEQUENCE:0
RRULE:FREQ=WEEKLY;UNTIL=20260102T000000Z;INTERVAL=1;BYDAY=TU
TRANSP:OPAQUE
END:VEVENT
END:VCALENDAR