BEGIN:VCALENDAR
VERSION:2.0
PRODID:-//jEvents 2.0 for Joomla//EN
CALSCALE:GREGORIAN
METHOD:PUBLISH
BEGIN:VEVENT
UID:19e8f6627bd4e0e2b217ea2d9eaeb1ec
CATEGORIES:18. Bezirk
CREATED:19700101T010000
SUMMARY:Mantra-Singen mit Babys DEU/ENG
LOCATION:Ferrogasse 9/1 1180 Wien
DESCRIPTION:Babys lieben Musik und Klang – und für uns Mamas kann das Tönen und Singen 
 unglaublich befreiend und wohltuend sein. Gemeinsames Singen schafft Verbin
 dung: zu unseren Babys, zueinander und zu uns selbst.\nIn diesem Kurs singe
 n wir einfache Mantras aus aller Welt – Lieder mit bestärkenden Affirmation
 en und der heilsamen Kraft von Klang. Außerdem tönen wir gemeinsam: mit Min
 i-Mantras wie OM, AOUM, Vokalen oder auch ganz frei und intuitiv. Diese Sti
 mmarbeit hilft uns, im Körper anzukommen und der Seele Raum zu geben.\nDu b
 rauchst keinerlei Singerfahrung – jede Stimme ist willkommen! Dieser Raum i
 st für Mamas gedacht, um einfach zu sein – um sich zu entspannen, sich zu v
 erbinden, zu singen und achtsam mit der eigenen Stimme zu meditieren.\nDies
 er Kurs wird auf Deutsch geleitet (mit englischer Übersetzung bei Bedarf)\n
  \nBabies are naturally drawn to music and sound – and for us moms, using o
 ur voices can be both deeply soothing and incredibly freeing. Singing toget
 her nurtures connection: with our babies, with each other, and with ourselv
 es.\nIn this class, we sing simple mantras from around the world – songs fi
 lled with uplifting affirmations and the healing power of sound. We also ex
 plore gentle vocal toning: using mini-mantras like OM, AOUM, vowels, or eve
 n free, intuitive sounds. This vocal practice helps us ground into our bodi
 es and gives our spirits the space to breathe.\nNo singing experience is ne
 eded – every voice is welcome!This is a space for moms to simply be – to re
 st, reconnect, sing, and share in mindful moments through the power of voic
 e.\nThis class is led in German (with English translation if necessary).\n
X-ALT-DESC;FMTTYPE=text/html:<p style="box-sizing: border-box; border: 0px solid #e5e7eb; margin: 0px 0p
 x 12px; caret-color: #141414; color: #141414; font-family: ui-sans-serif, s
 ystem-ui, sans-serif, 'Apple Color Emoji', 'Segoe UI Emoji', 'Segoe UI Symb
 ol', 'Noto Color Emoji'; -webkit-tap-highlight-color: rgba(0, 0, 0, 0); -we
 bkit-text-size-adjust: 100%;">Babys lieben Musik und Klang – und für uns Ma
 mas kann das Tönen und Singen unglaublich befreiend und wohltuend sein.&nbs
 p;<strong style="box-sizing: border-box; border: 0px solid #e5e7eb; --tw-bo
 rder-spacing-x: 0; --tw-border-spacing-y: 0; --tw-translate-x: 0; --tw-tran
 slate-y: 0; --tw-rotate: 0; --tw-skew-x: 0; --tw-skew-y: 0; --tw-scale-x: 1
 ; --tw-scale-y: 1; --tw-scroll-snap-strictness: proximity; --tw-ring-offset
 -width: 0px; --tw-ring-offset-color: #fff; --tw-ring-color: rgb(59 130 246/
 0.5); --tw-ring-offset-shadow: 0 0 #0000; --tw-ring-shadow: 0 0 #0000; --tw
 -shadow: 0 0 #0000; --tw-shadow-colored: 0 0 #0000;">Gemeinsames Singen sch
 afft Verbindung</strong>: zu unseren Babys, zueinander und zu uns selbst.</
 p><p style="box-sizing: border-box; border: 0px solid #e5e7eb; margin: 0px 
 0px 12px; caret-color: #141414; color: #141414; font-family: ui-sans-serif,
  system-ui, sans-serif, 'Apple Color Emoji', 'Segoe UI Emoji', 'Segoe UI Sy
 mbol', 'Noto Color Emoji'; -webkit-tap-highlight-color: rgba(0, 0, 0, 0); -
 webkit-text-size-adjust: 100%;">In diesem Kurs singen wir einfache Mantras 
 aus aller Welt – Lieder mit bestärkenden Affirmationen und der heilsamen Kr
 aft von Klang. Außerdem tönen wir gemeinsam: mit Mini-Mantras wie OM, AOUM,
  Vokalen oder auch ganz frei und intuitiv. Diese Stimmarbeit hilft uns, im 
 Körper anzukommen und der Seele Raum zu geben.</p><p style="box-sizing: bor
 der-box; border: 0px solid #e5e7eb; margin: 0px 0px 12px; caret-color: #141
 414; color: #141414; font-family: ui-sans-serif, system-ui, sans-serif, 'Ap
 ple Color Emoji', 'Segoe UI Emoji', 'Segoe UI Symbol', 'Noto Color Emoji'; 
 -webkit-tap-highlight-color: rgba(0, 0, 0, 0); -webkit-text-size-adjust: 10
 0%;">Du brauchst&nbsp;<strong style="box-sizing: border-box; border: 0px so
 lid #e5e7eb; --tw-border-spacing-x: 0; --tw-border-spacing-y: 0; --tw-trans
 late-x: 0; --tw-translate-y: 0; --tw-rotate: 0; --tw-skew-x: 0; --tw-skew-y
 : 0; --tw-scale-x: 1; --tw-scale-y: 1; --tw-scroll-snap-strictness: proximi
 ty; --tw-ring-offset-width: 0px; --tw-ring-offset-color: #fff; --tw-ring-co
 lor: rgb(59 130 246/0.5); --tw-ring-offset-shadow: 0 0 #0000; --tw-ring-sha
 dow: 0 0 #0000; --tw-shadow: 0 0 #0000; --tw-shadow-colored: 0 0 #0000;">ke
 inerlei Singerfahrung&nbsp;</strong>– jede Stimme ist willkommen! Dieser Ra
 um ist für Mamas gedacht, um einfach&nbsp;<em style="box-sizing: border-box
 ; border: 0px solid #e5e7eb; --tw-border-spacing-x: 0; --tw-border-spacing-
 y: 0; --tw-translate-x: 0; --tw-translate-y: 0; --tw-rotate: 0; --tw-skew-x
 : 0; --tw-skew-y: 0; --tw-scale-x: 1; --tw-scale-y: 1; --tw-scroll-snap-str
 ictness: proximity; --tw-ring-offset-width: 0px; --tw-ring-offset-color: #f
 ff; --tw-ring-color: rgb(59 130 246/0.5); --tw-ring-offset-shadow: 0 0 #000
 0; --tw-ring-shadow: 0 0 #0000; --tw-shadow: 0 0 #0000; --tw-shadow-colored
 : 0 0 #0000;">zu sein</em>&nbsp;– um sich zu entspannen, sich zu verbinden,
  zu singen und achtsam mit der eigenen Stimme zu meditieren.</p><p style="b
 ox-sizing: border-box; border: 0px solid #e5e7eb; margin: 0px 0px 12px; car
 et-color: #141414; color: #141414; font-family: ui-sans-serif, system-ui, s
 ans-serif, 'Apple Color Emoji', 'Segoe UI Emoji', 'Segoe UI Symbol', 'Noto 
 Color Emoji'; -webkit-tap-highlight-color: rgba(0, 0, 0, 0); -webkit-text-s
 ize-adjust: 100%;">Dieser Kurs wird auf&nbsp;<strong style="box-sizing: bor
 der-box; border: 0px solid #e5e7eb; --tw-border-spacing-x: 0; --tw-border-s
 pacing-y: 0; --tw-translate-x: 0; --tw-translate-y: 0; --tw-rotate: 0; --tw
 -skew-x: 0; --tw-skew-y: 0; --tw-scale-x: 1; --tw-scale-y: 1; --tw-scroll-s
 nap-strictness: proximity; --tw-ring-offset-width: 0px; --tw-ring-offset-co
 lor: #fff; --tw-ring-color: rgb(59 130 246/0.5); --tw-ring-offset-shadow: 0
  0 #0000; --tw-ring-shadow: 0 0 #0000; --tw-shadow: 0 0 #0000; --tw-shadow-
 colored: 0 0 #0000;">Deutsch</strong>&nbsp;geleitet (mit&nbsp;<strong style
 ="box-sizing: border-box; border: 0px solid #e5e7eb; --tw-border-spacing-x:
  0; --tw-border-spacing-y: 0; --tw-translate-x: 0; --tw-translate-y: 0; --t
 w-rotate: 0; --tw-skew-x: 0; --tw-skew-y: 0; --tw-scale-x: 1; --tw-scale-y:
  1; --tw-scroll-snap-strictness: proximity; --tw-ring-offset-width: 0px; --
 tw-ring-offset-color: #fff; --tw-ring-color: rgb(59 130 246/0.5); --tw-ring
 -offset-shadow: 0 0 #0000; --tw-ring-shadow: 0 0 #0000; --tw-shadow: 0 0 #0
 000; --tw-shadow-colored: 0 0 #0000;">englischer Übersetzung</strong>&nbsp;
 bei Bedarf)</p><p>&nbsp;</p><p style="box-sizing: border-box; border: 0px s
 olid #e5e7eb; margin: 0px 0px 12px; caret-color: #141414; color: #141414; f
 ont-family: ui-sans-serif, system-ui, sans-serif, 'Apple Color Emoji', 'Seg
 oe UI Emoji', 'Segoe UI Symbol', 'Noto Color Emoji'; -webkit-tap-highlight-
 color: rgba(0, 0, 0, 0); -webkit-text-size-adjust: 100%;">Babies are natura
 lly drawn to music and sound – and for us moms, using our voices can be bot
 h deeply soothing and incredibly freeing.&nbsp;<strong style="box-sizing: b
 order-box; border: 0px solid #e5e7eb; --tw-border-spacing-x: 0; --tw-border
 -spacing-y: 0; --tw-translate-x: 0; --tw-translate-y: 0; --tw-rotate: 0; --
 tw-skew-x: 0; --tw-skew-y: 0; --tw-scale-x: 1; --tw-scale-y: 1; --tw-scroll
 -snap-strictness: proximity; --tw-ring-offset-width: 0px; --tw-ring-offset-
 color: #fff; --tw-ring-color: rgb(59 130 246/0.5); --tw-ring-offset-shadow:
  0 0 #0000; --tw-ring-shadow: 0 0 #0000; --tw-shadow: 0 0 #0000; --tw-shado
 w-colored: 0 0 #0000;">Singing together nurtures connection</strong>: with 
 our babies, with each other, and with ourselves.</p><p style="box-sizing: b
 order-box; border: 0px solid #e5e7eb; margin: 0px 0px 12px; caret-color: #1
 41414; color: #141414; font-family: ui-sans-serif, system-ui, sans-serif, '
 Apple Color Emoji', 'Segoe UI Emoji', 'Segoe UI Symbol', 'Noto Color Emoji'
 ; -webkit-tap-highlight-color: rgba(0, 0, 0, 0); -webkit-text-size-adjust: 
 100%;">In this class, we sing simple mantras from around the world – songs 
 filled with uplifting affirmations and the healing power of sound. We also 
 explore gentle vocal toning: using mini-mantras like OM, AOUM, vowels, or e
 ven free, intuitive sounds. This vocal practice helps us ground into our bo
 dies and gives our spirits the space to breathe.</p><p style="box-sizing: b
 order-box; border: 0px solid #e5e7eb; margin: 0px 0px 12px; caret-color: #1
 41414; color: #141414; font-family: ui-sans-serif, system-ui, sans-serif, '
 Apple Color Emoji', 'Segoe UI Emoji', 'Segoe UI Symbol', 'Noto Color Emoji'
 ; -webkit-tap-highlight-color: rgba(0, 0, 0, 0); -webkit-text-size-adjust: 
 100%;"><strong style="box-sizing: border-box; border: 0px solid #e5e7eb; --
 tw-border-spacing-x: 0; --tw-border-spacing-y: 0; --tw-translate-x: 0; --tw
 -translate-y: 0; --tw-rotate: 0; --tw-skew-x: 0; --tw-skew-y: 0; --tw-scale
 -x: 1; --tw-scale-y: 1; --tw-scroll-snap-strictness: proximity; --tw-ring-o
 ffset-width: 0px; --tw-ring-offset-color: #fff; --tw-ring-color: rgb(59 130
  246/0.5); --tw-ring-offset-shadow: 0 0 #0000; --tw-ring-shadow: 0 0 #0000;
  --tw-shadow: 0 0 #0000; --tw-shadow-colored: 0 0 #0000;">No singing experi
 ence is needed – every voice is welcome!</strong>This is a space for moms t
 o simply&nbsp;<em style="box-sizing: border-box; border: 0px solid #e5e7eb;
  --tw-border-spacing-x: 0; --tw-border-spacing-y: 0; --tw-translate-x: 0; -
 -tw-translate-y: 0; --tw-rotate: 0; --tw-skew-x: 0; --tw-skew-y: 0; --tw-sc
 ale-x: 1; --tw-scale-y: 1; --tw-scroll-snap-strictness: proximity; --tw-rin
 g-offset-width: 0px; --tw-ring-offset-color: #fff; --tw-ring-color: rgb(59 
 130 246/0.5); --tw-ring-offset-shadow: 0 0 #0000; --tw-ring-shadow: 0 0 #00
 00; --tw-shadow: 0 0 #0000; --tw-shadow-colored: 0 0 #0000;">be</em>&nbsp;–
  to rest, reconnect, sing, and share in mindful moments through the power o
 f voice.</p><p style="box-sizing: border-box; border: 0px solid #e5e7eb; ma
 rgin: 0px 0px 12px; caret-color: #141414; color: #141414; font-family: ui-s
 ans-serif, system-ui, sans-serif, 'Apple Color Emoji', 'Segoe UI Emoji', 'S
 egoe UI Symbol', 'Noto Color Emoji'; -webkit-tap-highlight-color: rgba(0, 0
 , 0, 0); -webkit-text-size-adjust: 100%;">This class is led in&nbsp;<strong
  style="box-sizing: border-box; border: 0px solid #e5e7eb; --tw-border-spac
 ing-x: 0; --tw-border-spacing-y: 0; --tw-translate-x: 0; --tw-translate-y: 
 0; --tw-rotate: 0; --tw-skew-x: 0; --tw-skew-y: 0; --tw-scale-x: 1; --tw-sc
 ale-y: 1; --tw-scroll-snap-strictness: proximity; --tw-ring-offset-width: 0
 px; --tw-ring-offset-color: #fff; --tw-ring-color: rgb(59 130 246/0.5); --t
 w-ring-offset-shadow: 0 0 #0000; --tw-ring-shadow: 0 0 #0000; --tw-shadow: 
 0 0 #0000; --tw-shadow-colored: 0 0 #0000;">German</strong>&nbsp;(with&nbsp
 ;<strong style="box-sizing: border-box; border: 0px solid #e5e7eb; --tw-bor
 der-spacing-x: 0; --tw-border-spacing-y: 0; --tw-translate-x: 0; --tw-trans
 late-y: 0; --tw-rotate: 0; --tw-skew-x: 0; --tw-skew-y: 0; --tw-scale-x: 1;
  --tw-scale-y: 1; --tw-scroll-snap-strictness: proximity; --tw-ring-offset-
 width: 0px; --tw-ring-offset-color: #fff; --tw-ring-color: rgb(59 130 246/0
 .5); --tw-ring-offset-shadow: 0 0 #0000; --tw-ring-shadow: 0 0 #0000; --tw-
 shadow: 0 0 #0000; --tw-shadow-colored: 0 0 #0000;">English translation&nbs
 p;</strong>if necessary).</p>
CONTACT:https://www.beyourmuse.at/stundenplan
X-EXTRAINFO:[preis='1000'][anmeldung='true']
DTSTAMP:20260424T225502
DTSTART:20251104T101500
DTEND:20251104T111500
SEQUENCE:0
RRULE:FREQ=WEEKLY;UNTIL=20251226T000000Z;INTERVAL=1;BYDAY=TU
TRANSP:OPAQUE
END:VEVENT
END:VCALENDAR