BEGIN:VCALENDAR
VERSION:2.0
PRODID:-//jEvents 2.0 for Joomla//EN
CALSCALE:GREGORIAN
METHOD:PUBLISH
BEGIN:VEVENT
UID:c5ea6c2771a068113b2a1627ca6a566c
CATEGORIES:18. Bezirk
CREATED:20251103T104407
SUMMARY:Kleine Entdecker
LOCATION:Spielringel  Mollgasse  11-13
DESCRIPTION:Kleine Entdecker2 bis 4 Jahre (mit Begleitung)In dieser Spielgruppe für Kin
 der im Alter von 2 bis 4 Jahren heißen wir alle neugierigen Entdecker willk
 ommen, die die Welt spielerisch entdecken möchten.\nJede Stunde starten wir
  mit dem Öffnen unseres Entdeckerkoffers, der das spannende Thema des Tages
  enthüllt. Dieser Koffer ist gefüllt mit faszinierenden Materialien und Ide
 en, die die Fantasie der Kinder anregen und sie zum Mitmachen animieren.\nI
 m Anschluss werden vielfältige Aktionstabletts und Spiele angeboten, die zu
 m Thema passen. Die kleinen Entdecker haben die Möglichkeit, kreativ zu sei
 n und neue Fähigkeiten zu entwickeln. \n
X-ALT-DESC;FMTTYPE=text/html:<h2 class="element-header" style="box-sizing: border-box; margin-top: 0px; 
 margin-bottom: 0.5rem; font-family: Montserrat; font-weight: 300; line-heig
 ht: 1.2; font-size: 2.275rem; color: #2b2b2b;">Kleine Entdecker</h2><h4 sty
 le="box-sizing: border-box; margin-top: 0px; margin-bottom: 1rem; font-fami
 ly: Montserrat; font-weight: 300; line-height: 1.2; font-size: 1.625rem; co
 lor: #2b2b2b;">2 bis 4 Jahre (mit Begleitung)</h4><p style="box-sizing: bor
 der-box; margin-top: 0px; margin-bottom: 1rem; color: #2b2b2b; font-family:
  Roboto; font-size: 16px;">In dieser Spielgruppe für Kinder im Alter von 2 
 bis 4 Jahren heißen wir alle neugierigen Entdecker willkommen, die die Welt
  spielerisch entdecken möchten.</p><p style="box-sizing: border-box; margin
 -top: 0px; margin-bottom: 1rem; color: #2b2b2b; font-family: Roboto; font-s
 ize: 16px;">Jede Stunde starten wir mit dem Öffnen unseres Entdeckerkoffers
 , der das spannende Thema des Tages enthüllt. Dieser Koffer ist gefüllt mit
  faszinierenden Materialien und Ideen, die die Fantasie der Kinder anregen 
 und sie zum Mitmachen animieren.</p><p style="box-sizing: border-box; margi
 n-top: 0px; margin-bottom: 0px; color: #2b2b2b; font-family: Roboto; font-s
 ize: 16px;">Im Anschluss werden vielfältige Aktionstabletts und Spiele ange
 boten, die zum Thema passen. Die kleinen Entdecker haben die Möglichkeit, k
 reativ zu sein und neue Fähigkeiten zu entwickeln.&nbsp;</p>
CONTACT:www.spielringel.at
X-EXTRAINFO:[preis='9500'][anmeldung='true']
DTSTAMP:20260425T030108
DTSTART:20251104T140000
DTEND:20251104T150000
SEQUENCE:0
TRANSP:OPAQUE
END:VEVENT
END:VCALENDAR