BEGIN:VCALENDAR
VERSION:2.0
PRODID:-//jEvents 2.0 for Joomla//EN
CALSCALE:GREGORIAN
METHOD:PUBLISH
BEGIN:VEVENT
UID:eef8d77e399ff0842c1aa24d2111d5f5
CATEGORIES:18. Bezirk
CREATED:19700101T010000
SUMMARY:Schwangerschaftsyoga (ENG)
LOCATION:Ferrogasse 9/1 1180 Wien
DESCRIPTION:Our prenatal yoga classes offer a gentle, nurturing sanctuary designed espe
 cially for mothers-to-be to connect deeply with their bodies and their grow
 ing babies. Suitable for all trimesters, these classes provide a supportive
  and caring environment where we combine soothing yoga poses, mindful breat
 hing techniques, and calming meditation to enhance your physical strength, 
 flexibility, and mental clarity throughout this beautiful and transformativ
 e journey.\nWhether you’re looking to ease pregnancy discomfort, prepare yo
 ur body and mind for childbirth, or simply carve out peaceful moments amids
 t the joyful chaos of pregnancy, these classes provide a safe and welcoming
  space for you to relax, recharge, and flourish.\nPlease get the OK from yo
 ur doctor before you take part in this course.\nPlease note that this class
  is taught in English.\n
X-ALT-DESC;FMTTYPE=text/html:<p style="box-sizing: border-box; border: 0px solid #e5e7eb; margin: 0px 0p
 x 12px; caret-color: #141414; color: #141414; font-family: ui-sans-serif, s
 ystem-ui, sans-serif, 'Apple Color Emoji', 'Segoe UI Emoji', 'Segoe UI Symb
 ol', 'Noto Color Emoji'; -webkit-tap-highlight-color: rgba(0, 0, 0, 0); -we
 bkit-text-size-adjust: 100%;">Our&nbsp;<strong style="box-sizing: border-bo
 x; border: 0px solid #e5e7eb; --tw-border-spacing-x: 0; --tw-border-spacing
 -y: 0; --tw-translate-x: 0; --tw-translate-y: 0; --tw-rotate: 0; --tw-skew-
 x: 0; --tw-skew-y: 0; --tw-scale-x: 1; --tw-scale-y: 1; --tw-scroll-snap-st
 rictness: proximity; --tw-ring-offset-width: 0px; --tw-ring-offset-color: #
 fff; --tw-ring-color: rgb(59 130 246/0.5); --tw-ring-offset-shadow: 0 0 #00
 00; --tw-ring-shadow: 0 0 #0000; --tw-shadow: 0 0 #0000; --tw-shadow-colore
 d: 0 0 #0000;">prenatal yoga classes</strong>&nbsp;offer a gentle, nurturin
 g sanctuary designed especially for mothers-to-be to connect deeply with th
 eir bodies and their growing babies. Suitable for&nbsp;<strong style="box-s
 izing: border-box; border: 0px solid #e5e7eb; --tw-border-spacing-x: 0; --t
 w-border-spacing-y: 0; --tw-translate-x: 0; --tw-translate-y: 0; --tw-rotat
 e: 0; --tw-skew-x: 0; --tw-skew-y: 0; --tw-scale-x: 1; --tw-scale-y: 1; --t
 w-scroll-snap-strictness: proximity; --tw-ring-offset-width: 0px; --tw-ring
 -offset-color: #fff; --tw-ring-color: rgb(59 130 246/0.5); --tw-ring-offset
 -shadow: 0 0 #0000; --tw-ring-shadow: 0 0 #0000; --tw-shadow: 0 0 #0000; --
 tw-shadow-colored: 0 0 #0000;">all trimesters</strong>, these classes provi
 de a supportive and caring environment where we combine&nbsp;<strong style=
 "box-sizing: border-box; border: 0px solid #e5e7eb; --tw-border-spacing-x: 
 0; --tw-border-spacing-y: 0; --tw-translate-x: 0; --tw-translate-y: 0; --tw
 -rotate: 0; --tw-skew-x: 0; --tw-skew-y: 0; --tw-scale-x: 1; --tw-scale-y: 
 1; --tw-scroll-snap-strictness: proximity; --tw-ring-offset-width: 0px; --t
 w-ring-offset-color: #fff; --tw-ring-color: rgb(59 130 246/0.5); --tw-ring-
 offset-shadow: 0 0 #0000; --tw-ring-shadow: 0 0 #0000; --tw-shadow: 0 0 #00
 00; --tw-shadow-colored: 0 0 #0000;">soothing yoga poses, mindful breathing
  techniques, and calming meditation</strong>&nbsp;to enhance your physical 
 strength, flexibility, and mental clarity throughout this beautiful and tra
 nsformative journey.</p><p style="box-sizing: border-box; border: 0px solid
  #e5e7eb; margin: 0px 0px 12px; caret-color: #141414; color: #141414; font-
 family: ui-sans-serif, system-ui, sans-serif, 'Apple Color Emoji', 'Segoe U
 I Emoji', 'Segoe UI Symbol', 'Noto Color Emoji'; -webkit-tap-highlight-colo
 r: rgba(0, 0, 0, 0); -webkit-text-size-adjust: 100%;">Whether you’re lookin
 g to&nbsp;<strong style="box-sizing: border-box; border: 0px solid #e5e7eb;
  --tw-border-spacing-x: 0; --tw-border-spacing-y: 0; --tw-translate-x: 0; -
 -tw-translate-y: 0; --tw-rotate: 0; --tw-skew-x: 0; --tw-skew-y: 0; --tw-sc
 ale-x: 1; --tw-scale-y: 1; --tw-scroll-snap-strictness: proximity; --tw-rin
 g-offset-width: 0px; --tw-ring-offset-color: #fff; --tw-ring-color: rgb(59 
 130 246/0.5); --tw-ring-offset-shadow: 0 0 #0000; --tw-ring-shadow: 0 0 #00
 00; --tw-shadow: 0 0 #0000; --tw-shadow-colored: 0 0 #0000;">ease pregnancy
  discomfort, prepare your body and mind for childbirth</strong>, or simply 
 carve out peaceful moments amidst the joyful chaos of pregnancy, these clas
 ses provide a safe and welcoming space for you to relax, recharge, and flou
 rish.</p><p style="box-sizing: border-box; border: 0px solid #e5e7eb; margi
 n: 0px 0px 12px; caret-color: #141414; color: #141414; font-family: ui-sans
 -serif, system-ui, sans-serif, 'Apple Color Emoji', 'Segoe UI Emoji', 'Sego
 e UI Symbol', 'Noto Color Emoji'; -webkit-tap-highlight-color: rgba(0, 0, 0
 , 0); -webkit-text-size-adjust: 100%;">Please get the&nbsp;<strong style="b
 ox-sizing: border-box; border: 0px solid #e5e7eb; --tw-border-spacing-x: 0;
  --tw-border-spacing-y: 0; --tw-translate-x: 0; --tw-translate-y: 0; --tw-r
 otate: 0; --tw-skew-x: 0; --tw-skew-y: 0; --tw-scale-x: 1; --tw-scale-y: 1;
  --tw-scroll-snap-strictness: proximity; --tw-ring-offset-width: 0px; --tw-
 ring-offset-color: #fff; --tw-ring-color: rgb(59 130 246/0.5); --tw-ring-of
 fset-shadow: 0 0 #0000; --tw-ring-shadow: 0 0 #0000; --tw-shadow: 0 0 #0000
 ; --tw-shadow-colored: 0 0 #0000;">OK from your doctor&nbsp;</strong>before
  you take part in this course.</p><p style="box-sizing: border-box; border:
  0px solid #e5e7eb; margin: 0px 0px 12px; caret-color: #141414; color: #141
 414; font-family: ui-sans-serif, system-ui, sans-serif, 'Apple Color Emoji'
 , 'Segoe UI Emoji', 'Segoe UI Symbol', 'Noto Color Emoji'; -webkit-tap-high
 light-color: rgba(0, 0, 0, 0); -webkit-text-size-adjust: 100%;">Please note
  that&nbsp;<strong style="box-sizing: border-box; border: 0px solid #e5e7eb
 ; --tw-border-spacing-x: 0; --tw-border-spacing-y: 0; --tw-translate-x: 0; 
 --tw-translate-y: 0; --tw-rotate: 0; --tw-skew-x: 0; --tw-skew-y: 0; --tw-s
 cale-x: 1; --tw-scale-y: 1; --tw-scroll-snap-strictness: proximity; --tw-ri
 ng-offset-width: 0px; --tw-ring-offset-color: #fff; --tw-ring-color: rgb(59
  130 246/0.5); --tw-ring-offset-shadow: 0 0 #0000; --tw-ring-shadow: 0 0 #0
 000; --tw-shadow: 0 0 #0000; --tw-shadow-colored: 0 0 #0000;">this class is
  taught in English.</strong></p>
CONTACT:https://www.beyourmuse.at/stundenplan
X-EXTRAINFO:[preis='1000'][anmeldung='true']
DTSTAMP:20260424T224657
DTSTART:20251112T160000
DTEND:20251112T171000
SEQUENCE:0
RRULE:FREQ=WEEKLY;UNTIL=20251221T000000Z;INTERVAL=1;BYDAY=WE
TRANSP:OPAQUE
END:VEVENT
END:VCALENDAR