BEGIN:VCALENDAR
VERSION:2.0
PRODID:-//jEvents 2.0 for Joomla//EN
CALSCALE:GREGORIAN
METHOD:PUBLISH
BEGIN:VEVENT
UID:f4ebf47f38035476880c6625ffc461b0
CATEGORIES:18. Bezirk
CREATED:19700101T010000
SUMMARY:Spiel & Spaß zu Mittag
LOCATION:Spielringel  Mollgasse  11-13
DESCRIPTION:Spiel &amp; Spaß zu Mittag für Babys und Kleinkinder 8 Monate - 2 Jahre Sta
 rt: 12.11.2025\nMit: Claudia (https://spielringel.at/angebote/das-team/mag-
 claudia-weissmann-karacsonyi)\nKurstag: Mittwoch 13:00-14:00\nTermine: 12.1
 1., 19.11., 26.11., 03.12., 10.12.\nKosten: €90,- (für 5 Einheiten)\nDas fr
 eie Spiel steht im Vordergrund. Nebenbei werden motorische Fähigkeiten gesc
 hult, alle Sinne gefördert und erste soziale Kontakte zu Gleichaltrigen gem
 acht.\nAuch die "Großen" können Erfahrungen austauschen und neue Kontakte k
 nüpfen!\n
X-ALT-DESC;FMTTYPE=text/html:<header class="frame-header" style="box-sizing: border-box; color: #2b2b2b;
  font-family: Roboto; font-size: 16px;"><h2 class="element-header" style="b
 ox-sizing: border-box; margin-top: 0px; margin-bottom: 0.5rem; font-family:
  Montserrat; font-weight: 300; line-height: 1.2; font-size: 2.275rem;">Spie
 l &amp; Spaß zu Mittag&nbsp;</h2><h4 style="box-sizing: border-box; margin-
 top: 0px; margin-bottom: 1rem; font-family: Montserrat; font-weight: 300; l
 ine-height: 1.2; font-size: 1.625rem;">für Babys und Kleinkinder 8 Monate -
  2 Jahre</h4></header><div class="frame-container" style="box-sizing: borde
 r-box; position: relative; width: 815px; padding-right: 0px; padding-left: 
 0px; margin-right: auto; margin-left: auto; max-width: 1140px; margin-botto
 m: 0px; color: #2b2b2b; font-family: Roboto; font-size: 16px;"><div class="
 frame-inner" style="box-sizing: border-box;"><div class="textpic textpic-ri
 ght" style="box-sizing: border-box; display: flex; flex-wrap: wrap; margin-
 left: -20px; margin-right: -20px; margin-bottom: 0px;"><div class="textpic-
 item textpic-gallery" style="box-sizing: border-box; order: 2; width: 427.5
 px; padding-left: 20px; padding-right: 20px; margin-bottom: 0px;"><div clas
 s="gallery-row" style="box-sizing: border-box; display: flex; flex-wrap: wr
 ap; margin-left: -0.5rem; margin-right: -0.5rem; margin-bottom: -1rem;"><di
 v class="gallery-item gallery-item-size-1" style="box-sizing: border-box; p
 adding-left: 0.5rem; padding-right: 0.5rem; width: 403.5px;">&nbsp;</div></
 div></div><div class="textpic-item textpic-text" style="box-sizing: border-
 box; order: 1; width: 427.5px; padding-left: 20px; padding-right: 20px; mar
 gin-bottom: 0px;"><p style="box-sizing: border-box; margin-top: 0px; margin
 -bottom: 1rem;"><span class="text-primary font-weight-bold" style="box-sizi
 ng: border-box; font-weight: 700 !important; color: #158795 !important;">St
 art:&nbsp;</span>12.11.2025</p><p style="box-sizing: border-box; margin-top
 : 0px; margin-bottom: 1rem;"><span class="text-primary font-weight-bold" st
 yle="box-sizing: border-box; font-weight: 700 !important; color: #158795 !i
 mportant;">Mit:&nbsp;</span><a href="https://spielringel.at/angebote/das-te
 am/mag-claudia-weissmann-karacsonyi" style="box-sizing: border-box; color: 
 #158795; text-decoration-line: none; background-color: transparent;">Claudi
 a</a></p><p style="box-sizing: border-box; margin-top: 0px; margin-bottom: 
 1rem;"><span class="text-primary font-weight-bold" style="box-sizing: borde
 r-box; font-weight: 700 !important; color: #158795 !important;">Kurstag:&nb
 sp;</span>Mittwoch 13:00-14:00</p><p style="box-sizing: border-box; margin-
 top: 0px; margin-bottom: 1rem;"><span class="text-primary font-weight-bold"
  style="box-sizing: border-box; font-weight: 700 !important; color: #158795
  !important;">Termine:&nbsp;</span>12.11., 19.11., 26.11., 03.12., 10.12.</
 p><p style="box-sizing: border-box; margin-top: 0px; margin-bottom: 1rem;">
 <span class="text-primary font-weight-bold" style="box-sizing: border-box; 
 font-weight: 700 !important; color: #158795 !important;">Kosten:&nbsp;</spa
 n>€90,- (für 5 Einheiten)</p><p style="box-sizing: border-box; margin-top: 
 0px; margin-bottom: 1rem;">Das freie Spiel steht im Vordergrund. Nebenbei w
 erden motorische Fähigkeiten geschult, alle Sinne gefördert und erste sozia
 le Kontakte zu Gleichaltrigen gemacht.</p><p style="box-sizing: border-box;
  margin-top: 0px; margin-bottom: 1rem;">Auch die "Großen" können Erfahrunge
 n austauschen und neue Kontakte knüpfen!</p></div></div></div></div>
CONTACT:www.spielringel.at
X-EXTRAINFO:[preis='9000'][anmeldung='true']
DTSTAMP:20260425T032610
DTSTART:20251112T120000
DTEND:20251112T130000
SEQUENCE:0
RRULE:FREQ=WEEKLY;UNTIL=20251213T000000Z;INTERVAL=1;BYDAY=WE
TRANSP:OPAQUE
END:VEVENT
END:VCALENDAR