BEGIN:VCALENDAR
VERSION:2.0
PRODID:-//jEvents 2.0 for Joomla//EN
CALSCALE:GREGORIAN
METHOD:PUBLISH
BEGIN:VEVENT
UID:dca6b78c75fcf620dceff51be6974918
CATEGORIES:Online
CREATED:20251110T194358
SUMMARY:Kind & Hund - Impulse zur Begleitung einer besonderen Freundschaft
LOCATION:Zoom
DESCRIPTION:<p><span style="color: #615454; font-family: Lato, sans-serif; font-size: 1
 6px; white-space-collapse: preserve;">Kind &amp; Hund - Impulse zur Begleit
 ung einer besonderen Freundschaft </span></p><p><span style="color: #615454
 ; font-family: Lato, sans-serif; font-size: 16px; white-space-collapse: pre
 serve;">Kinder profitieren auf so vielen Ebenen von der Beziehung zu Hunden
  – und Hunde genauso! </span></p><p><span style="color: #615454; font-famil
 y: Lato, sans-serif; font-size: 16px; white-space-collapse: preserve;">In d
 ieser Weiterbildung bekommst du: </span></p><p><span style="color: #615454;
  font-family: Lato, sans-serif; font-size: 16px; white-space-collapse: pres
 erve;">✨ spannende Einblicke in die Mensch-Hund-Beziehung <br /></span><spa
 n style="color: #615454; font-family: Lato, sans-serif; font-size: 16px; wh
 ite-space-collapse: preserve;">✨ praxisnahe Tipps für ein sicheres &amp; re
 spektvolles Miteinander <br /></span><span style="color: #615454; font-fami
 ly: Lato, sans-serif; font-size: 16px; white-space-collapse: preserve;">✨ I
 deen für Spiele &amp; gemeinsame Aktivitäten <br /></span><span style="colo
 r: #615454; font-family: Lato, sans-serif; font-size: 16px; white-space-col
 lapse: preserve;">✨ Workbook + Aufzeichnungen (8 Wochen verfügbar) </span><
 /p><p>&nbsp;</p><p><span style="color: #615454; font-family: Lato, sans-ser
 if; font-size: 16px; white-space-collapse: preserve;">👩‍👧‍👦 Für Eltern, Bez
 ugspersonen &amp; Fachleute im Bereich tiergestützte Interventionen. <br />
 <br />👉 Werde Teil dieser Reise &amp; erfahre, wie Kind &amp; Hund gemeinsa
 m wachsen können. <br /><br />Kosten: 149€ <br /><br />Deine Vorteile: <br 
 />- 3 live Meetings per Zoom <br />- schriftliche Unterlagen <br />- intern
 e Facebookgruppe <br />- Teilnahmebestätigung <br />- Anerkannt vom Messerl
 i-Forschungsinstitut als Weiterbildung <br /><br />❗️Die Live- Termine find
 en am 17.11./24.11./01.12.2025 jeweils von 18:00 - 20:00 Uhr statt. <br /><
 br />In Kooperation von Hundkatzpferd und Herz &amp; G'spia Tiertraining 🤩 
 <br />➡️ Bei Interesse sende bitte eine Email an ina_keckstein@hotmail.com<
 /span></p>
CONTACT:ina_keckstein@hotmail.com
X-EXTRAINFO:[preis='14900'][anmeldung='true']
DTSTAMP:20260425T001102
DTSTART:20251117T173000
DTEND:20251201T190000
SEQUENCE:0
TRANSP:OPAQUE
END:VEVENT
END:VCALENDAR