BEGIN:VCALENDAR
VERSION:2.0
PRODID:-//jEvents 2.0 for Joomla//EN
CALSCALE:GREGORIAN
METHOD:PUBLISH
BEGIN:VEVENT
UID:33f764fde5cf10d8b3bafb5ea9cfc081
CATEGORIES:1. Bezirk
CREATED:20251119T070434
SUMMARY:BABYKONZERT / Winterzauber für Babys
LOCATION:Haus der Musik\, 1.\, Seilerstätte 30
DESCRIPTION:KLASSIK COOL! Winterzauber für Babys\nMit sanften Tönen tauchen wir in die 
 Welt des Winters ein – ein musikalisches Erlebnis für Eltern und Babys.\n D
 ie neue Konzertreihe für Eltern mit Babys lässt ein ausgewähltes Gemälde un
 d klassische Musik zu einem ganzheitlichen Erlebnis verschmelzen.\n Die san
 ften Klänge von Klavier und Violoncello sowie wunderschöne klassische Musik
 stücke und Lieder laden zum Träumen, Lauschen und Kuscheln ein.\n Ein zaube
 rhaftes Konzert für die Jüngsten – inspiriert von Ildikó Szökes Bild ‚Das W
 intermärchen‘.\nKlassik Cool! Babykonzerte sind kurzweilig, entspannend, ab
 wechslungsreich. Schon die Jüngsten reagieren mit Interesse bis Begeisterun
 g auf die komplexen Töne, wiegen sich zum Rhythmus der Musik und lassen sic
 h von der Musiklust der Eltern anstecken.\nFür Babys von 0-1,5 Jahren\nDaue
 r: ca. 40 Minuten\n \nVioloncello: Kamilla Sitinova\nKlavier: David Benold\
 nLieder: Hristina Lazarova\nKonzept, Ausstattung: Szilvia Hegyi\n \nKARTEN 
 gibt es meistens nur im VORVERKAUF!\nÜber die Webseite www.kinderkonzerte.w
 ien (https://www.kinderkonzerte.wien)\n \nKLASSIK COOL! Kinderkonzerte gib 
 es für\nBABYS von 0-1,5 Jahren\nKLEINKINDER von 2 - 8 Jahren\nsowie für\nKI
 NDERGARTENGRUPPEN und VOLKSSCHULKLASSEN\n
X-ALT-DESC;FMTTYPE=text/html:<p class="MsoNormal"><b>KLASSIK COOL! Winterzauber für Babys</b></p><p clas
 s="MsoNormal">Mit sanften Tönen tauchen wir in die Welt des Winters ein – e
 in musikalisches Erlebnis für Eltern und Babys.<br /> Die neue Konzertreihe
  für Eltern mit Babys lässt ein ausgewähltes Gemälde und klassische Musik z
 u einem ganzheitlichen Erlebnis verschmelzen.<br /> Die sanften Klänge von 
 Klavier und Violoncello sowie wunderschöne klassische Musikstücke und Liede
 r laden zum Träumen, Lauschen und Kuscheln ein.<br /> Ein zauberhaftes Konz
 ert für die Jüngsten – inspiriert von Ildikó Szökes Bild ‚Das Wintermärchen
 ‘.</p><p class="MsoNormal"><b>Klassik Cool! Babykonzerte</b>&nbsp;sind kurz
 weilig, entspannend, abwechslungsreich. Schon die Jüngsten reagieren mit In
 teresse bis Begeisterung auf die komplexen Töne, wiegen sich zum Rhythmus d
 er Musik und lassen sich von der Musiklust der Eltern anstecken.</p><p clas
 s="MsoNormal" style="margin-bottom: 0cm;">Für Babys von 0-1,5 Jahren</p><p 
 class="MsoNormal" style="margin-bottom: 0cm;">Dauer: ca. 40 Minuten</p><p c
 lass="MsoNormal" style="margin-bottom: 0cm;">&nbsp;</p><p class="MsoNormal"
  style="margin-bottom: 0cm;">Violoncello: Kamilla Sitinova</p><p class="Mso
 Normal" style="margin-bottom: 0cm;">Klavier: David Benold</p><p class="MsoN
 ormal" style="margin-bottom: 0cm;">Lieder: Hristina Lazarova</p><p class="M
 soNormal" style="margin-bottom: 0cm;">Konzept, Ausstattung: Szilvia Hegyi</
 p><p>&nbsp;</p><p>KARTEN gibt es meistens nur im VORVERKAUF!</p><p>Über die
  Webseite <a href="https://www.kinderkonzerte.wien">www.kinderkonzerte.wien
 </a></p><p class="MsoNormal" style="margin-bottom: 0cm;">&nbsp;</p><p class
 ="MsoNormal" style="margin-bottom: 0cm;">KLASSIK COOL! Kinderkonzerte gib e
 s für</p><p>BABYS von 0-1,5 Jahren</p><p>KLEINKINDER von 2 - 8 Jahren</p><p
 >sowie für</p><p>KINDERGARTENGRUPPEN und VOLKSSCHULKLASSEN</p>
CONTACT:www.kinderkonzerte.wien
X-EXTRAINFO:[preis='1500'][anmeldung='true']
DTSTAMP:20260423T211453
DTSTART:20251207T093000
DTEND:20251207T101500
SEQUENCE:0
TRANSP:OPAQUE
END:VEVENT
END:VCALENDAR