BEGIN:VCALENDAR
VERSION:2.0
PRODID:-//jEvents 2.0 for Joomla//EN
CALSCALE:GREGORIAN
METHOD:PUBLISH
BEGIN:VEVENT
UID:bef51681b407b0c9b60f418b5c214558
CATEGORIES:18. Bezirk
CREATED:19700101T010000
SUMMARY:Sinnesspielgruppe am Freitag
LOCATION:Spielringel  Mollgasse  11-13
DESCRIPTION:Sinnesspielgruppe am Freitagvon ca. 10 Monaten bis 2 JahreKurstag: Freitag 
 09:15-10:15\nTermine: 28.11., 05.12., 12.12., 19.12., 09.01.\nKosten: €95,-
  (5 Einheiten)\nDer Mensch ist eine Sonne, seine Sinne sind seine Planeten.
 Novalis\nIn unserer Sinnesspielgruppe entdecken die Kinder spielend viel Ne
 ues und lernen dabei auch noch neue Freunde kennen. Die Sinne der Kinder we
 rden mit Hilfe verschiedener Materialien spielerisch angeregt, es wird expe
 rimentiert und auch gebastelt. Achtsamkeit, Wahrnehmungsförderung und Sinne
 sschulung stehen im Vordergrund! \nGenießt die Zeit beim gemeinsamen Spiele
 n und Entdecken mit euren Kindern!\n
X-ALT-DESC;FMTTYPE=text/html:<h2 class="element-header" style="box-sizing: border-box; margin-top: 0px; 
 margin-bottom: 0.5rem; font-family: Montserrat; font-weight: 300; line-heig
 ht: 1.2; font-size: 2.275rem; color: #2b2b2b;">Sinnesspielgruppe am Freitag
 </h2><h4 style="box-sizing: border-box; margin-top: 0px; margin-bottom: 1re
 m; font-family: Montserrat; font-weight: 300; line-height: 1.2; font-size: 
 1.625rem; color: #2b2b2b;">von ca. 10 Monaten bis 2 Jahre</h4><p style="box
 -sizing: border-box; margin-top: 0px; margin-bottom: 1rem; color: #2b2b2b; 
 font-family: Roboto; font-size: 16px;"><span class="text-primary font-weigh
 t-bold" style="box-sizing: border-box; font-weight: 700 !important; color: 
 #158795 !important;">Kurstag:&nbsp;</span>Freitag 09:15-10:15</p><p style="
 box-sizing: border-box; margin-top: 0px; margin-bottom: 1rem; color: #2b2b2
 b; font-family: Roboto; font-size: 16px;"><span class="text-primary font-we
 ight-bold" style="box-sizing: border-box; font-weight: 700 !important; colo
 r: #158795 !important;">Termine:&nbsp;</span>28.11., 05.12., 12.12., 19.12.
 , 09.01.</p><p style="box-sizing: border-box; margin-top: 0px; margin-botto
 m: 1rem; color: #2b2b2b; font-family: Roboto; font-size: 16px;"><span class
 ="text-primary font-weight-bold" style="box-sizing: border-box; font-weight
 : 700 !important; color: #158795 !important;">Kosten:&nbsp;</span>€95,- (5 
 Einheiten)</p><p style="box-sizing: border-box; margin-top: 0px; margin-bot
 tom: 1rem; color: #2b2b2b; font-family: Roboto; font-size: 16px;">Der Mensc
 h ist eine Sonne, seine Sinne sind seine Planeten.<br style="box-sizing: bo
 rder-box;" />Novalis</p><p style="box-sizing: border-box; margin-top: 0px; 
 margin-bottom: 1rem; color: #2b2b2b; font-family: Roboto; font-size: 16px;"
 >In unserer Sinnesspielgruppe entdecken die Kinder spielend viel Neues und 
 lernen dabei auch noch neue Freunde kennen. Die Sinne der Kinder werden mit
  Hilfe verschiedener Materialien spielerisch angeregt, es wird experimentie
 rt und auch gebastelt. Achtsamkeit, Wahrnehmungsförderung und Sinnesschulun
 g stehen im Vordergrund!&nbsp;</p><p style="box-sizing: border-box; margin-
 top: 0px; margin-bottom: 0px; color: #2b2b2b; font-family: Roboto; font-siz
 e: 16px;">Genießt die Zeit beim gemeinsamen Spielen und Entdecken mit euren
  Kindern!</p>
CONTACT:www.spielringel.at
X-EXTRAINFO:[preis='9500'][anmeldung='true']
DTSTAMP:20260425T032613
DTSTART:20251128T081500
DTEND:20251128T091500
SEQUENCE:0
RRULE:FREQ=WEEKLY;UNTIL=20251223T000000Z;INTERVAL=1;BYDAY=FR
TRANSP:OPAQUE
END:VEVENT
END:VCALENDAR