BEGIN:VCALENDAR
VERSION:2.0
PRODID:-//jEvents 2.0 for Joomla//EN
CALSCALE:GREGORIAN
METHOD:PUBLISH
BEGIN:VEVENT
UID:4e6d3d370cd77fcdee6282df47925710
CATEGORIES:7. Bezirk
CREATED:20260407T100711
SUMMARY:MUMelade - Frühstück für Eltern & Kinder
LOCATION:Evangelische Pfarrgemeinde Neubau
DESCRIPTION:Alle 2 Wochen treffen wir uns zu gemeinsamen Frühstück und Programm - diese
 s Mal wird es bunt: Fingerfarben, Papier, Walzen, Pinsel,....\nZugang durch
  die Hofeinfahrt &amp; die Stiegen hinunter.\nMehr Infos: https://www.evang
 -neubau.at/mumelade-fruehstueck-fuer-eltern-mit-kleinen-kindern\n
X-ALT-DESC;FMTTYPE=text/html:<p>Alle 2 Wochen treffen wir uns zu gemeinsamen Frühstück und Programm - di
 eses Mal wird es bunt: Fingerfarben, Papier, Walzen, Pinsel,....</p><p>Zuga
 ng durch die Hofeinfahrt &amp; die Stiegen hinunter.</p><p>Mehr Infos:&nbsp
 ;https://www.evang-neubau.at/mumelade-fruehstueck-fuer-eltern-mit-kleinen-k
 indern</p>
CONTACT:https://www.evang-neubau.at/
X-EXTRAINFO:[preis='400'][anmeldung='true']
DTSTAMP:20260424T201131
DTSTART:20260408T070000
DTEND:20260408T100000
SEQUENCE:0
TRANSP:OPAQUE
END:VEVENT
END:VCALENDAR