BEGIN:VCALENDAR
VERSION:2.0
PRODID:-//jEvents 2.0 for Joomla//EN
CALSCALE:GREGORIAN
METHOD:PUBLISH
BEGIN:VEVENT
UID:f3a64315b7986131552a95c778b4858b
CATEGORIES:1. Bezirk
CREATED:20260417T095335
SUMMARY:ANIMA WindelWalks -  In der Stadt mit Baby – Zentrums Route
LOCATION:1010 Wien\, Stephansplatz vor der Domminiatur
DESCRIPTION:Entdecke mit anderen Mamas und Papas Spannendes und Neues in Wien\nMit der 
 Geburt eines Kindes beginnt ein neuer Lebensabschnitt. Dabei ist es immer g
 ut sich mit anderen Gleichgesinnten auszutauschen und zu vernetzen.Bei den 
 Stadtführungen mit Baby kannst du nicht nur mit anderen Müttern und Vätern 
 plaudern, sondern auch abseits der klassischen Babythemen spannende Details
  über die Wiener Innenstadt erfahren. Nimm dein Baby in die Trage oder komm
 e mit dem Kinderwagen, treffe andere Jungmamas und Papas, tausche dich über
  Beckenbodentraining und Stoffwindeln aus UND teste dein Wien-Wissen. Als A
 bschluss lassen wir den Vormittag gemeinsam in einem Kaffeehaus oder andere
 n Räumlichkeiten ausklingen.\nWann &amp; Wo:\nDienstag, 12.05.2026, 09:30 -
  11:30 vormittags\nBildung unterwegs, 1010 Wien, Treffpunkt: Stephansplatz 
 vor der Domminiatur\nTelefonnr. der Referentin: +43 680 1243283Kosten:\n€ 2
 5,00 pro Einheit. € 75,00 für 3 Einheiten. Für Teilnehmer:innen mit einem G
 utschein zur Geburt des Kindes kostenfrei. Kennenlernen/Schnuppern jederzei
 t möglich. Anmeldung für jede Einheit unbedingt notwendig!Anmeldung:\nANIMA
  Bildungsinitiative für Frauen, 01/51 552 3352, anima@edw.or.at (mailto:ani
 ma@edw.or.at) oder über unsere Website: &gt;&gt; Anmeldung (https://www.ani
 ma-bildung.at/seminare/detailseite/?kn=A26-151340) \nReferentin:\nMaria Kre
 mser \n \n
X-ALT-DESC;FMTTYPE=text/html:<div class="eventContent"><p>Entdecke mit anderen Mamas und Papas Spannende
 s und Neues in Wien</p><div class="col-12 col-md-9 col-xl-10 mb-3 mb-md-2">
 Mit der Geburt eines Kindes beginnt ein neuer Lebensabschnitt. Dabei ist es
  immer gut sich mit anderen Gleichgesinnten auszutauschen und zu vernetzen.
 <p><span>Bei den Stadtführungen mit Baby kannst du nicht nur mit anderen Mü
 ttern und Vätern plaudern, sondern auch abseits der klassischen Babythemen 
 spannende Details über die Wiener Innenstadt erfahren. Nimm dein Baby in di
 e Trage oder komme mit dem Kinderwagen, treffe andere Jungmamas und Papas, 
 tausche dich über Beckenbodentraining und Stoffwindeln aus UND teste dein W
 ien-Wissen. Als Abschluss lassen wir den Vormittag gemeinsam in einem Kaffe
 ehaus oder anderen Räumlichkeiten ausklingen.</span></p></div><div class="c
 ol-12 col-md-3 col-xl-2 text-md-right"><p class="m-0">Wann &amp; Wo:</p></d
 iv><div class="col-12 col-md-9 col-xl-10 mb-3 mb-md-2">Dienstag, 12.05.2026
 , 09:30 - 11:30 vormittags<br />Bildung unterwegs, 1010 Wien, Treffpunkt: S
 tephansplatz vor der Domminiatur<br />Telefonnr. der Referentin: +43 680 12
 43283</div><div class="col-12 col-md-3 col-xl-2 text-md-right"><p class="m-
 0">Kosten:</p></div><div class="col-12 col-md-9 col-xl-10 mb-3 mb-md-2">€ 2
 5,00 pro Einheit. € 75,00 für 3 Einheiten. Für Teilnehmer:innen mit einem G
 utschein zur Geburt des Kindes kostenfrei. Kennenlernen/Schnuppern jederzei
 t möglich. Anmeldung für jede Einheit unbedingt notwendig!</div><div class=
 "col-12 col-md-3 col-xl-2 text-md-right"><p class="m-0">Anmeldung:</p></div
 ><div class="col-12 col-md-9 col-xl-10 mb-3 mb-md-2">ANIMA Bildungsinitiati
 ve für Frauen, 01/51 552 3352, <a href="mailto:anima@edw.or.at">anima@edw.o
 r.at</a>&nbsp;oder über unsere Website: <a href="https://www.anima-bildung.
 at/seminare/detailseite/?kn=A26-151340">&gt;&gt; Anmeldung</a></div><div cl
 ass="col-12 col-md-3 col-xl-2 text-md-right"><p>&nbsp;</p><p class="m-0"><s
 trong>Referentin:</strong></p></div><div class="col-12 col-md-9 col-xl-10 m
 b-3 mb-md-2">Maria Kremser</div><p>&nbsp;</p></div><p style="text-align: le
 ft;">&nbsp;</p>
CONTACT:ANIMA Bildungsinitiative für Frauen, 01/51 552 3352, anima@edw.or.at
X-EXTRAINFO:[preis='2500'][anmeldung='true']
DTSTAMP:20260425T000403
DTSTART:20260512T073000
DTEND:20260512T093000
SEQUENCE:0
TRANSP:OPAQUE
END:VEVENT
END:VCALENDAR