BEGIN:VCALENDAR
VERSION:2.0
PRODID:-//jEvents 2.0 for Joomla//EN
CALSCALE:GREGORIAN
METHOD:PUBLISH
BEGIN:VEVENT
UID:b4f32d9e16ae018f2089d9ba9bdabbca
CATEGORIES:1. Bezirk
CREATED:20260417T095709
SUMMARY:ANIMA WindelWalks -  In der Stadt mit Baby – Imperiale Route
LOCATION:1010 Wien\, Herbert-von-Karajan Platz/Oper
DESCRIPTION:<div class="eventContent"><p>Entdecke mit anderen Mamas und Papas Spannende
 s und Neues in Wien</p><div class="col-12 col-md-9 col-xl-10 mb-3 mb-md-2">
 Mit der Geburt eines Kindes beginnt ein neuer Lebensabschnitt. Dabei ist es
  immer gut sich mit anderen Gleichgesinnten auszutauschen und zu vernetzen.
 <p><span>Bei den Stadtführungen mit Baby kannst du nicht nur mit anderen Mü
 ttern und Vätern plaudern, sondern auch abseits der klassischen Babythemen 
 spannende Details über die Wiener Innenstadt erfahren. Nimm dein Baby in di
 e Trage oder komme mit dem Kinderwagen, treffe andere Jungmamas und Papas, 
 tausche dich über Beckenbodentraining und Stoffwindeln aus UND teste dein W
 ien-Wissen. Als Abschluss lassen wir den Vormittag gemeinsam in einem Kaffe
 ehaus oder anderen Räumlichkeiten ausklingen.</span></p></div><div class="c
 ol-12 col-md-3 col-xl-2 text-md-right"><p class="m-0">Wann &amp; Wo:</p></d
 iv><div class="col-12 col-md-9 col-xl-10 mb-3 mb-md-2">Dienstag,19.05.2026,
  09:30 - 11:30 vormittags<br />Bildung unterwegs, 1010 Wien, Treffpunkt:&nb
 sp;&nbsp;Herbert-von-Karajan Platz/Oper<br />Telefonnr. der Referentin: +43
  680 1243283</div><div class="col-12 col-md-3 col-xl-2 text-md-right"><p cl
 ass="m-0">Kosten:</p></div><div class="col-12 col-md-9 col-xl-10 mb-3 mb-md
 -2">€ 25,00 pro Einheit. € 75,00 für 3 Einheiten. Für Teilnehmer:innen mit 
 einem Gutschein zur Geburt des Kindes kostenfrei. Kennenlernen/Schnuppern j
 ederzeit möglich. Anmeldung für jede Einheit unbedingt notwendig!</div><div
  class="col-12 col-md-3 col-xl-2 text-md-right"><p class="m-0">Anmeldung:</
 p></div><div class="col-12 col-md-9 col-xl-10 mb-3 mb-md-2">ANIMA Bildungsi
 nitiative für Frauen, 01/51 552 3352, <a href="mailto:anima@edw.or.at">anim
 a@edw.or.at</a>&nbsp;oder über unsere Website: <a href="https://www.anima-b
 ildung.at/seminare/detailseite/?kn=A26-151341">&gt;&gt; Anmeldung</a></div>
 <div class="col-12 col-md-3 col-xl-2 text-md-right"><p>&nbsp;</p><p class="
 m-0"><strong>Referentin:</strong></p></div><div class="col-12 col-md-9 col-
 xl-10 mb-3 mb-md-2">Maria Kremser</div><p>&nbsp;</p></div><p>&nbsp;</p>
CONTACT:ANIMA Bildungsinitiative für Frauen, 01/51 552 3352, anima@edw.or.at
X-EXTRAINFO:[preis='2500'][anmeldung='true']
DTSTAMP:20260424T225110
DTSTART:20260519T073000
DTEND:20260519T093000
SEQUENCE:0
TRANSP:OPAQUE
END:VEVENT
END:VCALENDAR