BEGIN:VCALENDAR
VERSION:2.0
PRODID:-//jEvents 2.0 for Joomla//EN
CALSCALE:GREGORIAN
METHOD:PUBLISH
BEGIN:VEVENT
UID:16f0acd24c1d661aaca4ad3a4c4a34e4
CATEGORIES:1. Bezirk
CREATED:20260417T100407
SUMMARY:ANIMA WindelWalks -  In der Stadt mit Baby – Mittelalter Route
LOCATION:1010 Wien\, Schwedenplatz ggü Eissalon am Schwedenplatz
DESCRIPTION:<p>Entdecke mit anderen Mamas und Papas Spannendes und Neues in Wien</p><di
 v class="col-12 col-md-9 col-xl-10 mb-3 mb-md-2">Mit der Geburt eines Kinde
 s beginnt ein neuer Lebensabschnitt. Dabei ist es immer gut sich mit andere
 n Gleichgesinnten auszutauschen und zu vernetzen.<p><span>Bei den Stadtführ
 ungen mit Baby kannst du nicht nur mit anderen Müttern und Vätern plaudern,
  sondern auch abseits der klassischen Babythemen spannende Details über die
  Wiener Innenstadt erfahren. Nimm dein Baby in die Trage oder komme mit dem
  Kinderwagen, treffe andere Jungmamas und Papas, tausche dich über Beckenbo
 dentraining und Stoffwindeln aus UND teste dein Wien-Wissen. Als Abschluss 
 lassen wir den Vormittag gemeinsam in einem Kaffeehaus oder anderen Räumlic
 hkeiten ausklingen.</span></p></div><div class="col-12 col-md-3 col-xl-2 te
 xt-md-right"><p class="m-0">Wann &amp; Wo:</p></div><div class="col-12 col-
 md-9 col-xl-10 mb-3 mb-md-2">Dienstag, 29.05.2026, 09:30 - 11:30 vormittags
 <br />Bildung unterwegs, 1010 Wien, Treffpunkt: Schwedenplatz ggü Eissalon 
 am Schwedenplatz<br />Telefonnr. der Referentin: +43 680 1243283</div><div 
 class="col-12 col-md-3 col-xl-2 text-md-right"><p class="m-0">Kosten:</p></
 div><div class="col-12 col-md-9 col-xl-10 mb-3 mb-md-2">€ 25,00 pro Einheit
 . € 75,00 für 3 Einheiten. Für Teilnehmer:innen mit einem Gutschein zur Geb
 urt des Kindes kostenfrei. Kennenlernen/Schnuppern jederzeit möglich. Anmel
 dung für jede Einheit unbedingt notwendig!</div><div class="col-12 col-md-3
  col-xl-2 text-md-right"><p class="m-0">Anmeldung:</p></div><div class="col
 -12 col-md-9 col-xl-10 mb-3 mb-md-2">ANIMA Bildungsinitiative für Frauen, 0
 1/51 552 3352, <a href="mailto:anima@edw.or.at">anima@edw.or.at</a>&nbsp;od
 er über unsere Website: <a href="https://www.anima-bildung.at/seminare/deta
 ilseite/?kn=A26-151343">&gt;&gt; Anmeldung</a></div><div class="col-12 col-
 md-3 col-xl-2 text-md-right"><p>&nbsp;</p><p class="m-0"><strong>Referentin
 :</strong></p></div><div class="col-12 col-md-9 col-xl-10 mb-3 mb-md-2">Mar
 ia Kremser</div><p>&nbsp;</p>
CONTACT:ANIMA Bildungsinitiative für Frauen, 01/51 552 3352, anima@edw.or.at
X-EXTRAINFO:[preis='2500'][anmeldung='true']
DTSTAMP:20260424T225106
DTSTART:20260529T073000
DTEND:20260529T093000
SEQUENCE:0
TRANSP:OPAQUE
END:VEVENT
END:VCALENDAR