BEGIN:VCALENDAR
VERSION:2.0
PRODID:-//jEvents 2.0 for Joomla//EN
CALSCALE:GREGORIAN
METHOD:PUBLISH
BEGIN:VEVENT
UID:3b512611a2b44e04f88180cc1fa304cc
CATEGORIES:1. Bezirk
CREATED:20260417T101143
SUMMARY:ANIMA WindelWalks -  In der Stadt mit Baby – Musik Route
LOCATION:1010 Wien\, Musikvereinsplatz
DESCRIPTION:Entdecke mit anderen Mamas und Papas Spannendes und Neues in Wien\nMit der 
 Geburt eines Kindes beginnt ein neuer Lebensabschnitt. Dabei ist es immer g
 ut sich mit anderen Gleichgesinnten auszutauschen und zu vernetzen.Bei den 
 Stadtführungen mit Baby kannst du nicht nur mit anderen Müttern und Vätern 
 plaudern, sondern auch abseits der klassischen Babythemen spannende Details
  über die Wiener Innenstadt erfahren. Nimm dein Baby in die Trage oder komm
 e mit dem Kinderwagen, treffe andere Jungmamas und Papas, tausche dich über
  Beckenbodentraining und Stoffwindeln aus UND teste dein Wien-Wissen. Als A
 bschluss lassen wir den Vormittag gemeinsam in einem Kaffeehaus oder andere
 n Räumlichkeiten ausklingen.\nWann &amp; Wo:\nDiensta12.06.2026, 09:30 - 11
 :30 vormittags\nBildung unterwegs, 1010 Wien, Treffpunkt:  Musikvereinsplat
 z\nTelefonnr. der Referentin: +43 680 1243283Kosten:\n€ 25,00 pro Einheit. 
 € 75,00 für 3 Einheiten. Für Teilnehmer:innen mit einem Gutschein zur Gebur
 t des Kindes kostenfrei. Kennenlernen/Schnuppern jederzeit möglich. Anmeldu
 ng:\nANIMA Bildungsinitiative für Frauen, 01/51 552 3352, anima@edw.or.at (
 mailto:anima@edw.or.at) oder über unsere Website: &gt;&gt; Anmeldung (https
 ://www.anima-bildung.at/seminare/detailseite/?kn=A26-151344) \nReferentin:\
 nMaria Kremser \n \n
X-ALT-DESC;FMTTYPE=text/html:<div class="eventContent"><p>Entdecke mit anderen Mamas und Papas Spannende
 s und Neues in Wien</p><div class="col-12 col-md-9 col-xl-10 mb-3 mb-md-2">
 Mit der Geburt eines Kindes beginnt ein neuer Lebensabschnitt. Dabei ist es
  immer gut sich mit anderen Gleichgesinnten auszutauschen und zu vernetzen.
 <p><span>Bei den Stadtführungen mit Baby kannst du nicht nur mit anderen Mü
 ttern und Vätern plaudern, sondern auch abseits der klassischen Babythemen 
 spannende Details über die Wiener Innenstadt erfahren. Nimm dein Baby in di
 e Trage oder komme mit dem Kinderwagen, treffe andere Jungmamas und Papas, 
 tausche dich über Beckenbodentraining und Stoffwindeln aus UND teste dein W
 ien-Wissen. Als Abschluss lassen wir den Vormittag gemeinsam in einem Kaffe
 ehaus oder anderen Räumlichkeiten ausklingen.</span></p></div><div class="c
 ol-12 col-md-3 col-xl-2 text-md-right"><p class="m-0">Wann &amp; Wo:</p></d
 iv><div class="col-12 col-md-9 col-xl-10 mb-3 mb-md-2">Diensta12.06.2026, 0
 9:30 - 11:30 vormittags<br />Bildung unterwegs, 1010 Wien, Treffpunkt:&nbsp
 ;&nbsp;Musikvereinsplatz<br />Telefonnr. der Referentin: +43 680 1243283</d
 iv><div class="col-12 col-md-3 col-xl-2 text-md-right"><p class="m-0">Koste
 n:</p></div><div class="col-12 col-md-9 col-xl-10 mb-3 mb-md-2">€ 25,00 pro
  Einheit. € 75,00 für 3 Einheiten. Für Teilnehmer:innen mit einem Gutschein
  zur Geburt des Kindes kostenfrei. Kennenlernen/Schnuppern jederzeit möglic
 h.&nbsp;</div><div class="col-12 col-md-3 col-xl-2 text-md-right"><p class=
 "m-0">Anmeldung:</p></div><div class="col-12 col-md-9 col-xl-10 mb-3 mb-md-
 2">ANIMA Bildungsinitiative für Frauen, 01/51 552 3352, <a href="mailto:ani
 ma@edw.or.at">anima@edw.or.at</a>&nbsp;oder über unsere Website: <a href="h
 ttps://www.anima-bildung.at/seminare/detailseite/?kn=A26-151344">&gt;&gt; A
 nmeldung</a></div><div class="col-12 col-md-3 col-xl-2 text-md-right"><p>&n
 bsp;</p><p class="m-0"><strong>Referentin:</strong></p></div><div class="co
 l-12 col-md-9 col-xl-10 mb-3 mb-md-2">Maria Kremser</div><p>&nbsp;</p></div
 ><p>&nbsp;</p>
CONTACT:ANIMA Bildungsinitiative für Frauen, 01/51 552 3352, anima@edw.or.at
X-EXTRAINFO:[preis='2500'][anmeldung='true']
DTSTAMP:20260425T030022
DTSTART:20260612T073000
DTEND:20260612T093000
SEQUENCE:0
TRANSP:OPAQUE
END:VEVENT
END:VCALENDAR