BEGIN:VCALENDAR
VERSION:2.0
PRODID:-//jEvents 2.0 for Joomla//EN
CALSCALE:GREGORIAN
METHOD:PUBLISH
BEGIN:VEVENT
UID:aa319ae8083fdf5c8fc1f142cd82e200
CATEGORIES:1. Bezirk
CREATED:20260417T105713
SUMMARY:ANIMA - Raum für Menschen mit Kindern - Ich, der Bildschirm und meine Gesundheit!
LOCATION:Mamas Café\, 1010 Wien\, Stephansplatz 6
DESCRIPTION:Die Auswirkungen von digitalen Medien und Bildschirmzeit!Digitale Medien be
 gleiten Familien heute selbstverständlich – doch welche Auswirkungen haben 
 Bildschirmzeit und Medienkonsum auf die kindliche Gesundheit? In dieser Wor
 kshopreihe widmen wir uns genau diesen Fragen und beleuchten, welche Rolle 
 Eltern und das Familienleben dabei spielen.\nGemeinsam beschäftigen wir uns
  mit:\n-        den körperlichen, emotionalen und sozialen Aspekten von Ges
 undheit im Zusammenhang mit Bildschirmnutzung\n-        wissenschaftlichen 
 Erkenntnissen und verständlicher Aufklärung\n-        konkreten Ideen und I
 mpulsen für einen bewussten Medienumgang im Familienalltag\n \nRaum für Men
 schen bietet dafür einen geschützten, entspannten Rahmen. Eltern erhalten k
 ompakte Informationen und praxisnahe Anregungen, die zum Nachdenken einlade
 n und sich leicht in den Alltag integrieren lassen. Der Vormittag beginnt i
 m Sitzkreis mit Fingerspielen und Kniereitern, gefolgt von einem kurzen Exp
 erten‑Impuls zum Thema. Auf Wunsch werden Babys und Kinder währenddessen be
 treut. Zum Abschluss besteht die Möglichkeit, bei Kaffee und Austausch gemü
 tlich zu verweilen.\nEin Angebot für Eltern, die sich informieren, reflekti
 eren und gestärkt in ihren Familienalltag zurückkehren möchten.\n\nWann &am
 p; Wo:\nDienstag, 12.05.2026, 10:00 - 11:30 vormittags\nMamas Café, 1010 Wi
 en, Stephansplatz 6 \nKosten:\n€ 18,00 pro einzelner Einheit inkl. Kinderbe
 treuung. € 80,00 für 8-Einheiten-Block. Für Teilnehmer:innen mit einem Guts
 chein zur Geburt des Kindes kostenfrei. Kennenlernen/Schnuppern jederzeit m
 öglich. Anmeldung für jede Einheit unbedingt notwendig! \nAnmeldung:\nANIMA
  Bildungsinitiative für Frauen, 01/51 552 3352, anima@edw.or.at (mailto:ani
 ma@edw.or.at) oder über unsere Website: &gt;&gt; Anmeldung (https://www.ani
 ma-bildung.at/seminare/detailseite/?kn=A26-152422) \nReferentinnen:\nKathar
 ina Antolkovich-Swoboda, Simone Dasek  \n
X-ALT-DESC;FMTTYPE=text/html:<div class="col-12 col-md-9 col-xl-10 mb-3 mb-md-2"><strong>Die Auswirkunge
 n von digitalen Medien und Bildschirmzeit!</strong><p class="MsoNormal">Dig
 itale Medien begleiten Familien heute selbstverständlich – doch welche Ausw
 irkungen haben Bildschirmzeit und Medienkonsum auf die kindliche Gesundheit
 ? In dieser Workshopreihe widmen wir uns genau diesen Fragen und beleuchten
 , welche Rolle Eltern und das Familienleben dabei spielen.</p><p class="Mso
 Normal">Gemeinsam beschäftigen wir uns mit:</p><p class="MsoListParagraphCx
 SpFirst" style="text-indent: -18.0pt; mso-list: l0 level1 lfo1;"><span styl
 e="mso-ascii-font-family: Aptos; mso-fareast-font-family: Aptos; mso-hansi-
 font-family: Aptos; mso-bidi-font-family: Aptos;"><span style="mso-list: Ig
 nore;">-<span style="font: 7.0pt 'Times New Roman';">&nbsp; &nbsp; &nbsp; &
 nbsp; </span></span></span>den körperlichen, emotionalen und sozialen Aspek
 ten von Gesundheit im Zusammenhang mit Bildschirmnutzung</p><p class="MsoLi
 stParagraphCxSpMiddle" style="text-indent: -18.0pt; mso-list: l0 level1 lfo
 1;"><span style="mso-ascii-font-family: Aptos; mso-fareast-font-family: Apt
 os; mso-hansi-font-family: Aptos; mso-bidi-font-family: Aptos;"><span style
 ="mso-list: Ignore;">-<span style="font: 7.0pt 'Times New Roman';">&nbsp; &
 nbsp; &nbsp; &nbsp; </span></span></span>wissenschaftlichen Erkenntnissen u
 nd verständlicher Aufklärung</p><p class="MsoListParagraphCxSpLast" style="
 text-indent: -18.0pt; mso-list: l0 level1 lfo1;"><span style="mso-ascii-fon
 t-family: Aptos; mso-fareast-font-family: Aptos; mso-hansi-font-family: Apt
 os; mso-bidi-font-family: Aptos;"><span style="mso-list: Ignore;">-<span st
 yle="font: 7.0pt 'Times New Roman';">&nbsp;&nbsp;&nbsp;&nbsp;&nbsp;&nbsp;&n
 bsp;&nbsp;</span></span></span>konkreten Ideen und Impulsen für einen bewus
 sten Medienumgang im Familienalltag</p><p>&nbsp;</p><p class="MsoNormal"><s
 trong>Raum für Menschen</strong> bietet dafür einen geschützten, entspannte
 n Rahmen. Eltern erhalten kompakte Informationen und praxisnahe Anregungen,
  die zum Nachdenken einladen und sich leicht in den Alltag integrieren lass
 en. Der Vormittag beginnt im Sitzkreis mit Fingerspielen und Kniereitern, g
 efolgt von einem kurzen Experten<span style="font-family: 'Cambria Math',se
 rif; mso-bidi-font-family: 'Cambria Math';">‑</span>Impuls zum Thema. Auf W
 unsch werden Babys und Kinder w<span style="mso-ascii-font-family: Aptos; m
 so-hansi-font-family: Aptos; mso-bidi-font-family: Aptos;">ä</span>hrenddes
 sen betreut. Zum Abschluss besteht die Möglichkeit, bei Kaffee und Austausc
 h gem<span style="mso-ascii-font-family: Aptos; mso-hansi-font-family: Apto
 s; mso-bidi-font-family: Aptos;">ü</span>tlich zu verweilen.</p><p class="M
 soNormal">Ein Angebot für Eltern, die sich informieren, reflektieren und ge
 stärkt in ihren Familienalltag zurückkehren möchten.</p><br /><div class="c
 ol-12 col-md-9 col-xl-10 mb-3 mb-md-2"><p class="m-0">Wann &amp; Wo:</p></d
 iv><div class="col-12 col-md-9 col-xl-10 mb-3 mb-md-2">Dienstag, 12.05.2026
 , 10:00 - 11:30 vormittags<br />Mamas Café, 1010 Wien, Stephansplatz 6</div
 ></div><div class="col-12 col-md-3 col-xl-2 text-md-right"><p>&nbsp;</p><p 
 class="m-0">Kosten:</p></div><div class="col-12 col-md-9 col-xl-10 mb-3 mb-
 md-2">€ 18,00 pro einzelner Einheit inkl. Kinderbetreuung. € 80,00 für 8-Ei
 nheiten-Block. Für Teilnehmer:innen mit einem Gutschein zur Geburt des Kind
 es kostenfrei. Kennenlernen/Schnuppern jederzeit möglich. Anmeldung für jed
 e Einheit unbedingt notwendig!</div><div class="col-12 col-md-3 col-xl-2 te
 xt-md-right"><p>&nbsp;</p><p class="m-0">Anmeldung:</p></div><div class="co
 l-12 col-md-9 col-xl-10 mb-3 mb-md-2">ANIMA Bildungsinitiative für Frauen, 
 01/51 552 3352, <a href="mailto:anima@edw.or.at">anima@edw.or.at</a>&nbsp;o
 der über unsere Website: <a href="https://www.anima-bildung.at/seminare/det
 ailseite/?kn=A26-152422">&gt;&gt; Anmeldung</a></div><p>&nbsp;</p><div clas
 s="col-12 col-md-3 col-xl-2 text-md-right"><p class="m-0">Referentinnen:</p
 ></div><div class="col-12 col-md-9 col-xl-10 mb-3 mb-md-2">Katharina Antolk
 ovich-Swoboda, Simone Dasek</div><div class="col-12 text-md-right">&nbsp;</
 div><p>&nbsp;</p>
CONTACT:ANIMA Bildungsinitiative für Frauen, 01/51 552 3352, anima@edw.or.at
X-EXTRAINFO:[preis='1800'][anmeldung='true']
DTSTAMP:20260425T000403
DTSTART:20260512T080000
DTEND:20260512T093000
SEQUENCE:0
TRANSP:OPAQUE
END:VEVENT
END:VCALENDAR