BEGIN:VCALENDAR
VERSION:2.0
PRODID:-//jEvents 2.0 for Joomla//EN
CALSCALE:GREGORIAN
METHOD:PUBLISH
BEGIN:VEVENT
UID:be72c2a00abc12ea864d5e2e6996b98a
CATEGORIES:1. Bezirk
CREATED:20260417T111820
SUMMARY:ANIMA - Raum für Menschen mit Kindern - Die Meilensteine Babys motorischer Entwicklung
LOCATION:Mamas Café\, 1010 Wien\, Stephansplatz 6
DESCRIPTION:<p><b>Die Meilensteine Babys motorischer Entwicklung</b></p><p>&nbsp;</p><p
  class="MsoNormal"><em>Der Spagat zwischen dem individuellen Entwicklungste
 mpo und Anzeichen zukünftiger Lernschwächen</em>.</p><p>&nbsp;</p><p class=
 "MsoNormal">Die motorische Entwicklung in den ersten Lebensmonaten unterstü
 tzt nicht nur die gesunde Entwicklung Deines Kindes, sondern auch seine cer
 ebralen Verbindungen und somit sein kognitives Potenzial.</p><p>&nbsp;</p><
 p class="MsoNormal">Welche Meilensteine sollten Babys im ersten Lebensjahr 
 typischerweise zu welchem Zeitpunkt erreichen: das erste gezielte Greifen, 
 Lächeln, Drehen, Krabbeln bis hin zu den ersten Schritten?</p><p>&nbsp;</p>
 <p class="MsoNormal">Wieso ist es so wichtig, dass Babys zu bestimmten Zeit
 en bestimmte Meilensteine erreicht haben? Woran liegt es, dass sie etwas üb
 erspringen oder einen Schritt in der „falschen“ Reihenfolge machen?</p><p>&
 nbsp;</p><p class="MsoNormal">Wir zeigen, wie sich Grob- und Feinmotorik Sc
 hritt für Schritt entfalten, welche Variationen ganz normal sind und worauf
  Eltern achten sollten. Das schrittweise Durchlaufen der Meilensteine ist n
 ur dann möglich, wenn Babys frühkindliche Reflexe ordnungsgemäß integrieren
 , denn dann entwickelt sich ein gesunder Körpertonus als Regulativ für alte
 rsentsprechende Wahrnehmung und kognitive Verarbeitung.</p><p>&nbsp;</p><p 
 class="MsoNormal">Die Meilensteine zu beobachten und einer zu schnellen ode
 r langsamen Entwicklung gegenzuwirken lohnt sich, denn im Babyalter überspr
 ungene Schritte führen langfristig zu Problemen, die sich – leider entgegen
  dem Volksmund – nicht von selbst auswachsen. Sie später zu bearbeiten, ist
  mühsam und langwierig.</p><p>&nbsp;</p><p>&nbsp;</p><p class="MsoNormal">&
 nbsp;</p><p>&nbsp;</p><p class="MsoNormal"><strong>Raum für Menschen</stron
 g> bietet dafür einen geschützten, entspannten Rahmen. Eltern erhalten komp
 akte Informationen und praxisnahe Anregungen, die zum Nachdenken einladen u
 nd sich leicht in den Alltag integrieren lassen. Der Vormittag beginnt im S
 itzkreis mit Fingerspielen und Kniereitern, gefolgt von einem kurzen Expert
 en<span style="font-family: 'Cambria Math',serif; mso-bidi-font-family: 'Ca
 mbria Math';">‑</span>Impuls zum Thema. Auf Wunsch werden Babys und Kinder 
 w<span style="mso-ascii-font-family: Aptos; mso-hansi-font-family: Aptos; m
 so-bidi-font-family: Aptos;">ä</span>hrenddessen betreut. Zum Abschluss bes
 teht die M<span style="mso-ascii-font-family: Aptos; mso-hansi-font-family:
  Aptos; mso-bidi-font-family: Aptos;">ö</span>glichkeit, bei Kaffee und Aus
 tausch gem<span style="mso-ascii-font-family: Aptos; mso-hansi-font-family:
  Aptos; mso-bidi-font-family: Aptos;">ü</span>tlich zu verweilen.</p><p>&nb
 sp;</p><p class="MsoNormal">Ein Angebot für Eltern, die sich informieren, r
 eflektieren und gestärkt in ihren Familienalltag zurückkehren möchten.</p><
 p>&nbsp;</p><p class="MsoNormal">&nbsp;</p><p>&nbsp;</p><p class="MsoNormal
 ">Wann &amp; Wo:</p><p>&nbsp;</p><p class="MsoNormal">Dienstag, 09.06.2026,
  10:00 - 11:30 vormittags<br />Mamas Café, 1010 Wien, Stephansplatz 6</p><p
 >&nbsp;</p><p class="MsoNormal">&nbsp;</p><p>&nbsp;</p><p class="MsoNormal"
 >Kosten:</p><p>&nbsp;</p><p class="MsoNormal">€ 18,00 pro einzelner Einheit
  inkl. Kinderbetreuung. € 80,00 für 8-Einheiten-Block. Für Teilnehmer:innen
  mit einem Gutschein zur Geburt des Kindes kostenfrei. Kennenlernen/Schnupp
 ern jederzeit möglich. Anmeldung für jede Einheit unbedingt notwendig!</p><
 p>&nbsp;</p><p class="MsoNormal">&nbsp;</p><p>&nbsp;</p><div class="col-12 
 col-md-3 col-xl-2 text-md-right"><p class="m-0">Anmeldung:</p></div><div cl
 ass="col-12 col-md-9 col-xl-10 mb-3 mb-md-2">ANIMA Bildungsinitiative für F
 rauen, 01/51 552 3352, <a href="mailto:anima@edw.or.at">anima@edw.or.at</a>
 &nbsp;oder über unsere Website: <a href="https://www.anima-bildung.at/semin
 are/detailseite/?kn=A26-152302">&gt;&gt; Anmeldung</a></div><p>&nbsp;</p><p
  class="MsoNormal">&nbsp;</p><p>&nbsp;</p><p class="MsoNormal">Referentinne
 n:</p><p>&nbsp;</p><p class="MsoNormal">Simone Kostka, Simone Dasek</p><p>&
 nbsp;</p>
CONTACT:ANIMA Bildungsinitiative für Frauen, 01/51 552 3352, anima@edw.or.at
X-EXTRAINFO:[preis='1800'][anmeldung='true']
DTSTAMP:20260425T013850
DTSTART:20260609T080000
DTEND:20260609T093000
SEQUENCE:0
TRANSP:OPAQUE
END:VEVENT
END:VCALENDAR