BEGIN:VCALENDAR
VERSION:2.0
PRODID:-//jEvents 2.0 for Joomla//EN
CALSCALE:GREGORIAN
METHOD:PUBLISH
BEGIN:VEVENT
UID:b7c383331e38adcd30c73d26b2fdc357
CATEGORIES:1. Bezirk
CREATED:20260417T112010
SUMMARY:ANIMA - Raum für Menschen mit Kindern - Die Meilensteine Babys motorischer Entwicklung
LOCATION:Mamas Café\, 1010 Wien\, Stephansplatz 6
DESCRIPTION:Die Meilensteine Babys motorischer Entwicklung\n \nDer Spagat zwischen dem 
 individuellen Entwicklungstempo und Anzeichen zukünftiger Lernschwächen.\n 
 \nDie motorische Entwicklung in den ersten Lebensmonaten unterstützt nicht 
 nur die gesunde Entwicklung Deines Kindes, sondern auch seine cerebralen Ve
 rbindungen und somit sein kognitives Potenzial.\n \nWelche Meilensteine sol
 lten Babys im ersten Lebensjahr typischerweise zu welchem Zeitpunkt erreich
 en: das erste gezielte Greifen, Lächeln, Drehen, Krabbeln bis hin zu den er
 sten Schritten?\n \nWieso ist es so wichtig, dass Babys zu bestimmten Zeite
 n bestimmte Meilensteine erreicht haben? Woran liegt es, dass sie etwas übe
 rspringen oder einen Schritt in der „falschen“ Reihenfolge machen?\n \nWir 
 zeigen, wie sich Grob- und Feinmotorik Schritt für Schritt entfalten, welch
 e Variationen ganz normal sind und worauf Eltern achten sollten. Das schrit
 tweise Durchlaufen der Meilensteine ist nur dann möglich, wenn Babys frühki
 ndliche Reflexe ordnungsgemäß integrieren, denn dann entwickelt sich ein ge
 sunder Körpertonus als Regulativ für altersentsprechende Wahrnehmung und ko
 gnitive Verarbeitung.\n \nDie Meilensteine zu beobachten und einer zu schne
 llen oder langsamen Entwicklung gegenzuwirken lohnt sich, denn im Babyalter
  übersprungene Schritte führen langfristig zu Problemen, die sich – leider 
 entgegen dem Volksmund – nicht von selbst auswachsen. Sie später zu bearbei
 ten, ist mühsam und langwierig.\n \n \n \n \nRaum für Menschen bietet dafür
  einen geschützten, entspannten Rahmen. Eltern erhalten kompakte Informatio
 nen und praxisnahe Anregungen, die zum Nachdenken einladen und sich leicht 
 in den Alltag integrieren lassen. Der Vormittag beginnt im Sitzkreis mit Fi
 ngerspielen und Kniereitern, gefolgt von einem kurzen Experten‑Impuls zum T
 hema. Auf Wunsch werden Babys und Kinder währenddessen betreut. Zum Abschlu
 ss besteht die Möglichkeit, bei Kaffee und Austausch gemütlich zu verweilen
 .\n \nEin Angebot für Eltern, die sich informieren, reflektieren und gestär
 kt in ihren Familienalltag zurückkehren möchten.\n \n \n \nWann &amp; Wo:\n
  \nDienstag, 16.06.2026, 10:00 - 11:30 vormittags\nMamas Café, 1010 Wien, S
 tephansplatz 6\n \n \n \nKosten:\n \n€ 18,00 pro einzelner Einheit inkl. Ki
 nderbetreuung. € 80,00 für 8-Einheiten-Block. Für Teilnehmer:innen mit eine
 m Gutschein zur Geburt des Kindes kostenfrei. Kennenlernen/Schnuppern jeder
 zeit möglich. Anmeldung für jede Einheit unbedingt notwendig!\n \n \n \nAnm
 eldung:\nANIMA Bildungsinitiative für Frauen, 01/51 552 3352, anima@edw.or.
 at (mailto:anima@edw.or.at) oder über unsere Website: &gt;&gt; Anmeldung (h
 ttps://www.anima-bildung.at/seminare/detailseite/?kn=A26-152303) \n \n \nRe
 ferentinnen:\n \nSimone Kostka, Simone Dasek\n \n
X-ALT-DESC;FMTTYPE=text/html:<p><b>Die Meilensteine Babys motorischer Entwicklung</b></p><p>&nbsp;</p><p
  class="MsoNormal"><em>Der Spagat zwischen dem individuellen Entwicklungste
 mpo und Anzeichen zukünftiger Lernschwächen</em>.</p><p>&nbsp;</p><p class=
 "MsoNormal">Die motorische Entwicklung in den ersten Lebensmonaten unterstü
 tzt nicht nur die gesunde Entwicklung Deines Kindes, sondern auch seine cer
 ebralen Verbindungen und somit sein kognitives Potenzial.</p><p>&nbsp;</p><
 p class="MsoNormal">Welche Meilensteine sollten Babys im ersten Lebensjahr 
 typischerweise zu welchem Zeitpunkt erreichen: das erste gezielte Greifen, 
 Lächeln, Drehen, Krabbeln bis hin zu den ersten Schritten?</p><p>&nbsp;</p>
 <p class="MsoNormal">Wieso ist es so wichtig, dass Babys zu bestimmten Zeit
 en bestimmte Meilensteine erreicht haben? Woran liegt es, dass sie etwas üb
 erspringen oder einen Schritt in der „falschen“ Reihenfolge machen?</p><p>&
 nbsp;</p><p class="MsoNormal">Wir zeigen, wie sich Grob- und Feinmotorik Sc
 hritt für Schritt entfalten, welche Variationen ganz normal sind und worauf
  Eltern achten sollten. Das schrittweise Durchlaufen der Meilensteine ist n
 ur dann möglich, wenn Babys frühkindliche Reflexe ordnungsgemäß integrieren
 , denn dann entwickelt sich ein gesunder Körpertonus als Regulativ für alte
 rsentsprechende Wahrnehmung und kognitive Verarbeitung.</p><p>&nbsp;</p><p 
 class="MsoNormal">Die Meilensteine zu beobachten und einer zu schnellen ode
 r langsamen Entwicklung gegenzuwirken lohnt sich, denn im Babyalter überspr
 ungene Schritte führen langfristig zu Problemen, die sich – leider entgegen
  dem Volksmund – nicht von selbst auswachsen. Sie später zu bearbeiten, ist
  mühsam und langwierig.</p><p>&nbsp;</p><p>&nbsp;</p><p class="MsoNormal">&
 nbsp;</p><p>&nbsp;</p><p class="MsoNormal"><strong>Raum für Menschen</stron
 g> bietet dafür einen geschützten, entspannten Rahmen. Eltern erhalten komp
 akte Informationen und praxisnahe Anregungen, die zum Nachdenken einladen u
 nd sich leicht in den Alltag integrieren lassen. Der Vormittag beginnt im S
 itzkreis mit Fingerspielen und Kniereitern, gefolgt von einem kurzen Expert
 en<span style="font-family: 'Cambria Math',serif; mso-bidi-font-family: 'Ca
 mbria Math';">‑</span>Impuls zum Thema. Auf Wunsch werden Babys und Kinder 
 w<span style="mso-ascii-font-family: Aptos; mso-hansi-font-family: Aptos; m
 so-bidi-font-family: Aptos;">ä</span>hrenddessen betreut. Zum Abschluss bes
 teht die M<span style="mso-ascii-font-family: Aptos; mso-hansi-font-family:
  Aptos; mso-bidi-font-family: Aptos;">ö</span>glichkeit, bei Kaffee und Aus
 tausch gem<span style="mso-ascii-font-family: Aptos; mso-hansi-font-family:
  Aptos; mso-bidi-font-family: Aptos;">ü</span>tlich zu verweilen.</p><p>&nb
 sp;</p><p class="MsoNormal">Ein Angebot für Eltern, die sich informieren, r
 eflektieren und gestärkt in ihren Familienalltag zurückkehren möchten.</p><
 p>&nbsp;</p><p class="MsoNormal">&nbsp;</p><p>&nbsp;</p><p class="MsoNormal
 ">Wann &amp; Wo:</p><p>&nbsp;</p><p class="MsoNormal">Dienstag, 16.06.2026,
  10:00 - 11:30 vormittags<br />Mamas Café, 1010 Wien, Stephansplatz 6</p><p
 >&nbsp;</p><p class="MsoNormal">&nbsp;</p><p>&nbsp;</p><p class="MsoNormal"
 >Kosten:</p><p>&nbsp;</p><p class="MsoNormal">€ 18,00 pro einzelner Einheit
  inkl. Kinderbetreuung. € 80,00 für 8-Einheiten-Block. Für Teilnehmer:innen
  mit einem Gutschein zur Geburt des Kindes kostenfrei. Kennenlernen/Schnupp
 ern jederzeit möglich. Anmeldung für jede Einheit unbedingt notwendig!</p><
 p>&nbsp;</p><p class="MsoNormal">&nbsp;</p><p>&nbsp;</p><div class="col-12 
 col-md-3 col-xl-2 text-md-right"><p class="m-0">Anmeldung:</p></div><div cl
 ass="col-12 col-md-9 col-xl-10 mb-3 mb-md-2">ANIMA Bildungsinitiative für F
 rauen, 01/51 552 3352, <a href="mailto:anima@edw.or.at">anima@edw.or.at</a>
 &nbsp;oder über unsere Website: <a href="https://www.anima-bildung.at/semin
 are/detailseite/?kn=A26-152303">&gt;&gt; Anmeldung</a></div><p>&nbsp;</p><p
  class="MsoNormal">&nbsp;</p><p>&nbsp;</p><p class="MsoNormal">Referentinne
 n:</p><p>&nbsp;</p><p class="MsoNormal">Simone Kostka, Simone Dasek</p><p>&
 nbsp;</p>
CONTACT:ANIMA Bildungsinitiative für Frauen, 01/51 552 3352, anima@edw.or.at
X-EXTRAINFO:[preis='1800'][anmeldung='true']
DTSTAMP:20260425T013834
DTSTART:20260616T080000
DTEND:20260616T093000
SEQUENCE:0
TRANSP:OPAQUE
END:VEVENT
END:VCALENDAR