BEGIN:VCALENDAR
VERSION:2.0
PRODID:-//jEvents 2.0 for Joomla//EN
CALSCALE:GREGORIAN
METHOD:PUBLISH
BEGIN:VEVENT
UID:845b932bf6785a094c4639d2a9aaa1e4
CATEGORIES:8. Bezirk
CREATED:20260421T065600
SUMMARY:BABYKONZERT / Mozart für Babys
LOCATION:Bezirksmuseum Josefstadt\, 8.\, Schmidgasse 18
DESCRIPTION:KLASSIK COOL! Babykonzerte\nMozart für Babys\nMusikalische Kuschelzeit für 
 Eltern mit Babys\nAuf dem Kuscheldecke oder auf einen Sessel, sitzend oder 
 liegend, krabbelnd, herumgehend, klatschend:\nKlassik Cool! Babykonzerte si
 nd kurzweilig, entspannend, anregend, abwechslungsreich. Schon die Jüngsten
  reagieren mit Interesse bis Begeisterung auf die komplexen Töne, wiegen si
 ch zum Rhythmus der Musik und lassen sich von der Musiklust der Eltern anst
 ecken.\nVioline: Eveline Podelianchuk, Klavier: Mila Chervanivanovna.\nDaue
 r: ca 40 Minuten\nKarten: 12 Euro pro Person\nSowohl Babys als auch Erwachs
 enen brauchen jeweils eine eigene Karte.\n---------------------------------
 ---------------------------------------------------------\nKLASSIK COOL! sp
 ielt Konzerte für Babys sowie für Kinder von 2 bis 8 Jahren in verschiedene
 n Konzertsälen in Wien. Märchenerzählungen mit klassischer Musik und großen
  Komponisten erwarten euch. Alle Programme und Termine: www.kinderkonzerte.
 wien (http://www.kinderkonzerte.wien)\n
X-ALT-DESC;FMTTYPE=text/html:<div class="StructuredModuleRenderer_structuredContent__k7mNB StructuredMod
 uleRenderer_text__GaXOv" style="box-sizing: border-box; padding: 0px; margi
 n: 0px; color: #585163; align-self: stretch; overflow: hidden; text-overflo
 w: ellipsis; line-height: 23.94px; letter-spacing: 0.1px; font-size: 18px; 
 font-family: 'Neue Plak', -apple-system, BlinkMacSystemFont, Roboto, 'Helve
 tica Neue', Helvetica, Tahoma, Arial, sans-serif;" data-testid="text-conten
 t"><div style="box-sizing: border-box; padding: 0px; margin: 0px;"><p><stro
 ng>KLASSIK COOL! Babykonzerte</strong></p><p><strong>Mozart für Babys</stro
 ng></p><p style="box-sizing: border-box; padding: 0px 0px 12px; margin: 0px
 ;">Musikalische Kuschelzeit für Eltern mit Babys</p></div></div><div class=
 "StructuredModuleRenderer_structuredContent__k7mNB StructuredModuleRenderer
 _text__GaXOv" style="box-sizing: border-box; padding: 0px; margin: 0px; col
 or: #585163; align-self: stretch; overflow: hidden; text-overflow: ellipsis
 ; line-height: 23.94px; letter-spacing: 0.1px; font-size: 18px; font-family
 : 'Neue Plak', -apple-system, BlinkMacSystemFont, Roboto, 'Helvetica Neue',
  Helvetica, Tahoma, Arial, sans-serif;" data-testid="text-content"><div sty
 le="box-sizing: border-box; padding: 0px; margin: 0px;"><p style="box-sizin
 g: border-box; padding: 0px 0px 12px; margin: 0px;">Auf dem Kuscheldecke od
 er auf einen Sessel, sitzend oder liegend, krabbelnd, herumgehend, klatsche
 nd:</p><p style="box-sizing: border-box; padding: 0px 0px 12px; margin: 12p
 x 0px 0px;"><span style="box-sizing: border-box; padding: 0px; margin: 0px;
  font-weight: 600;">Klassik Cool! Babykonzerte</span>&nbsp;sind kurzweilig,
  entspannend, anregend, abwechslungsreich. Schon die Jüngsten reagieren mit
  Interesse bis Begeisterung auf die komplexen Töne, wiegen sich zum Rhythmu
 s der Musik und lassen sich von der Musiklust der Eltern anstecken.</p><p s
 tyle="box-sizing: border-box; padding: 0px 0px 12px; margin: 12px 0px 0px;"
 >Violine: Eveline Podelianchuk, Klavier: Mila Chervanivanovna.</p><p style=
 "box-sizing: border-box; padding: 0px 0px 12px; margin: 12px 0px 0px;">Daue
 r: ca 40 Minuten</p><p style="box-sizing: border-box; padding: 0px 0px 12px
 ; margin: 12px 0px 0px;">Karten: 12 Euro pro Person</p><p style="box-sizing
 : border-box; padding: 0px 0px 12px; margin: 12px 0px 0px;">Sowohl Babys al
 s auch Erwachsenen brauchen jeweils eine eigene Karte.</p><p>--------------
 ---------------------------------------------------------------------------
 -</p><p style="box-sizing: border-box; padding: 0px 0px 12px; margin: 12px 
 0px 0px;">KLASSIK COOL! spielt Konzerte für Babys sowie für Kinder von 2 bi
 s 8 Jahren in verschiedenen Konzertsälen in Wien. Märchenerzählungen mit kl
 assischer Musik und großen Komponisten erwarten euch. Alle Programme und Te
 rmine: <a href="http://www.kinderkonzerte.wien" target="_new" rel="noopener
 " class="decorated-link" data-start="283" data-end="306">www.kinderkonzerte
 .wien</a><span></span></p></div></div>
CONTACT:www.kinderkonzerte.wien
X-EXTRAINFO:[preis='1200'][anmeldung='true']
DTSTAMP:20260424T213804
DTSTART:20260428T080000
DTEND:20260428T084500
SEQUENCE:0
TRANSP:OPAQUE
END:VEVENT
END:VCALENDAR