BEGIN:VCALENDAR
VERSION:2.0
PRODID:-//jEvents 2.0 for Joomla//EN
CALSCALE:GREGORIAN
METHOD:PUBLISH
BEGIN:VEVENT
UID:956cc5bd7983002ab57e3482c2162161
CATEGORIES:1. Bezirk
CREATED:20260421T075806
SUMMARY:BABYKONZERT / Klangzauber für Babys
LOCATION:Haus der Musik\, 1.\, Seilerstätte 30 
DESCRIPTION:KLASSIK COOL! Babykonzerte\nKLANGZAUBER für Babys\nFür Babys von 0-1,5 Jahr
 en\nMit sanften Tönen und verträumten Farben – ein musikalisches Erlebnis f
 ür Eltern und Babys\nDer neue Konzertreihe für Eltern mit Babys lässt ein a
 usgewähltes Gemälde und klassische Musik zu einem ganzheitlichen Erlebnis v
 erschmelzen.\n Durch die sanften Töne des Klaviers und des Violoncellos wer
 den Seerosen, Wellen, Wasserblasen, Libellen lebendig. Ein zauberhaftes Kon
 zert für die Kleinsten – inspiriert von Monets berühmten Seerosenbildern.\n
 Klassik Cool! Babykonzerte sind kurzweilig, entspannend, abwechslungsreich.
  Schon die Jüngsten reagieren mit Interesse bis Begeisterung auf die komple
 xen Töne, wiegen sich zum Rhythmus der Musik und lassen sich von der Musikl
 ust der Eltern anstecken.\n \nFür Babys von 0-1,5 Jahren\n Dauer: ca. 40 Mi
 nuten\nKarten: 15 Euro pro Person / Sowohl Erwachsene als auch Babys brauch
 en eine Karte\n \n---------------------------------------------------------
 ---------------------------------\nKLASSIK COOL! spielt Konzerte für Babys 
 sowie für Kinder von 2 bis 8 Jahren in verschiedenen Konzertsälen in Wien. 
 Märchenerzählungen mit klassischer Musik und großen Komponisten erwarten eu
 ch. Alle Programme und Termine: www.kinderkonzerte.wien (http://www.kinderk
 onzerte.wien)\n
X-ALT-DESC;FMTTYPE=text/html:<div class="StructuredModuleRenderer_structuredContent__k7mNB StructuredMod
 uleRenderer_text__GaXOv" style="box-sizing: border-box; padding: 0px; margi
 n: 0px; color: #585163; align-self: stretch; overflow: hidden; text-overflo
 w: ellipsis; line-height: 23.94px; letter-spacing: 0.1px; font-size: 18px; 
 font-family: 'Neue Plak', -apple-system, BlinkMacSystemFont, Roboto, 'Helve
 tica Neue', Helvetica, Tahoma, Arial, sans-serif;" data-testid="text-conten
 t"><div style="box-sizing: border-box; padding: 0px; margin: 0px;"><p><stro
 ng>KLASSIK COOL! Babykonzerte</strong></p><p><strong>KLANGZAUBER für Babys<
 /strong></p><p class="MsoNormal">Für Babys von 0-1,5 Jahren</p><p class="Ms
 oNormal">Mit sanften Tönen und verträumten Farben – ein musikalisches Erleb
 nis für Eltern und Babys</p><p class="MsoNormal">Der neue Konzertreihe für 
 Eltern mit Babys lässt ein ausgewähltes Gemälde und klassische Musik zu ein
 em ganzheitlichen Erlebnis verschmelzen.<br /> Durch die sanften Töne des K
 laviers und des Violoncellos werden Seerosen, Wellen, Wasserblasen, Libelle
 n lebendig. Ein zauberhaftes Konzert für die Kleinsten – inspiriert von Mon
 ets berühmten Seerosenbildern.</p><p class="MsoNormal"><b>Klassik Cool! Bab
 ykonzerte</b>&nbsp;sind kurzweilig, entspannend,&nbsp;abwechslungsreich. Sc
 hon die Jüngsten reagieren mit Interesse bis Begeisterung auf die komplexen
  Töne, wiegen sich zum Rhythmus der Musik und lassen sich von der Musiklust
  der Eltern anstecken.</p><p>&nbsp;</p><p class="MsoNormal">Für Babys von 0
 -1,5 Jahren<br /> Dauer: ca. 40 Minuten</p><p>Karten: 15 Euro pro Person / 
 Sowohl Erwachsene als auch Babys brauchen eine Karte</p><p>&nbsp;</p></div>
 </div><div class="StructuredModuleRenderer_structuredContent__k7mNB Structu
 redModuleRenderer_text__GaXOv" style="box-sizing: border-box; padding: 0px;
  margin: 0px; color: #585163; align-self: stretch; overflow: hidden; text-o
 verflow: ellipsis; line-height: 23.94px; letter-spacing: 0.1px; font-size: 
 18px; font-family: 'Neue Plak', -apple-system, BlinkMacSystemFont, Roboto, 
 'Helvetica Neue', Helvetica, Tahoma, Arial, sans-serif;" data-testid="text-
 content"><div style="box-sizing: border-box; padding: 0px; margin: 0px;"><p
 >--------------------------------------------------------------------------
 ----------------</p><p style="box-sizing: border-box; padding: 0px 0px 12px
 ; margin: 12px 0px 0px;">KLASSIK COOL! spielt Konzerte für Babys sowie für 
 Kinder von 2 bis 8 Jahren in verschiedenen Konzertsälen in Wien. Märchenerz
 ählungen mit klassischer Musik und großen Komponisten erwarten euch. Alle P
 rogramme und Termine: <a href="http://www.kinderkonzerte.wien" target="_new
 " rel="noopener" class="decorated-link" data-start="283" data-end="306">www
 .kinderkonzerte.wien</a><span></span></p></div></div>
CONTACT:www.kinderkonzerte.wien
X-EXTRAINFO:[preis='1500'][anmeldung='true']
DTSTAMP:20260425T000401
DTSTART:20260510T083000
DTEND:20260510T091500
SEQUENCE:0
TRANSP:OPAQUE
END:VEVENT
END:VCALENDAR