BEGIN:VCALENDAR
VERSION:2.0
PRODID:-//jEvents 2.0 for Joomla//EN
CALSCALE:GREGORIAN
METHOD:PUBLISH
BEGIN:VEVENT
UID:fe1b7bf42e301d4fd1b6a18f0ff38cf1
CATEGORIES:18. Bezirk
CREATED:19700101T010000
SUMMARY:Babyklangwelt 
LOCATION:Spielringel  Mollgasse  11-13
DESCRIPTION:Babyklangwelt für Babys (3-10 Monate) Start: 01.06.2026\nMit: Susanne (http
 s://spielringel.at/angebote/das-team/susanne)\nKurstag: Montag 13:00-13:45\
 nTermine: 01.06., 08.06., 15.06., 22.06., 29.06.\nKosten: €90,- (5 Einheite
 n)\nBabys lieben Klänge, Geräusche, Musik und Gesang. Gemeinsam schaffen wi
 r akustische und musikalische Erlebniswelten, in die sich die Babys nach Mö
 glichkeit einbringen können und erweitern dabei auch Kompetenz und Repertoi
 re das Kind im Alltag spielerisch zu fördern.\n 
X-ALT-DESC;FMTTYPE=text/html:<div id="page-content" class="bp-page-content main-section" style="box-sizi
 ng: border-box; color: #2b2b2b; font-family: Roboto; font-size: 16px;"><div
  class="section section-default" style="box-sizing: border-box; overflow: h
 idden;"><div class="container" style="box-sizing: border-box; width: 1140px
 ; padding-right: 20px; padding-left: 20px; margin-right: auto; margin-left:
  auto; max-width: 1140px;"><div class="section-row" style="box-sizing: bord
 er-box; display: flex; flex-wrap: wrap; margin-left: -20px; margin-right: -
 20px;"><div class="frame frame-default frame-type-textpic frame-layout-0 fr
 ame-background-none frame-no-backgroundimage frame-space-before-none frame-
 space-after-none" style="box-sizing: border-box; position: relative; paddin
 g-top: 3.5rem; padding-bottom: 3.5rem; margin-top: 0rem; margin-bottom: 0re
 m;"><header class="frame-header" style="box-sizing: border-box;"><h2 class=
 "element-header" style="box-sizing: border-box; margin-top: 0px; margin-bot
 tom: 0.5rem; font-family: Montserrat; font-weight: 300; line-height: 1.2; f
 ont-size: 2.275rem;">Babyklangwelt&nbsp;</h2><h4 style="box-sizing: border-
 box; margin-top: 0px; margin-bottom: 1rem; font-family: Montserrat; font-we
 ight: 300; line-height: 1.2; font-size: 1.625rem;">für Babys (3-10 Monate)<
 /h4></header><div class="frame-container" style="box-sizing: border-box; po
 sition: relative; width: 815px; padding-right: 0px; padding-left: 0px; marg
 in-right: auto; margin-left: auto; max-width: 1140px; margin-bottom: 0px;">
 <div class="frame-inner" style="box-sizing: border-box;"><div class="textpi
 c textpic-right" style="box-sizing: border-box; display: flex; flex-wrap: w
 rap; margin-left: -20px; margin-right: -20px; margin-bottom: 0px;"><div cla
 ss="textpic-item textpic-gallery" style="box-sizing: border-box; order: 2; 
 width: 427.5px; padding-left: 20px; padding-right: 20px; margin-bottom: 0px
 ;"><div class="gallery-row" style="box-sizing: border-box; display: flex; f
 lex-wrap: wrap; margin-left: -0.5rem; margin-right: -0.5rem; margin-bottom:
  -1rem;"><div class="gallery-item gallery-item-size-1" style="box-sizing: b
 order-box; padding-left: 0.5rem; padding-right: 0.5rem; width: 403.5px;">&n
 bsp;</div></div></div><div class="textpic-item textpic-text" style="box-siz
 ing: border-box; order: 1; width: 427.5px; padding-left: 20px; padding-righ
 t: 20px; margin-bottom: 0px;"><p style="box-sizing: border-box; margin-top:
  0px; margin-bottom: 1rem;"><span class="text-primary font-weight-bold" sty
 le="box-sizing: border-box; font-weight: 700 !important; color: #158795 !im
 portant;">Start:&nbsp;</span>01.06.2026</p><p style="box-sizing: border-box
 ; margin-top: 0px; margin-bottom: 1rem;"><span class="text-primary font-wei
 ght-bold" style="box-sizing: border-box; font-weight: 700 !important; color
 : #158795 !important;">Mit:&nbsp;</span><a href="https://spielringel.at/ang
 ebote/das-team/susanne" style="box-sizing: border-box; color: #158795; text
 -decoration-line: none; background-color: transparent;">Susanne</a></p><p s
 tyle="box-sizing: border-box; margin-top: 0px; margin-bottom: 1rem;"><span 
 class="text-primary font-weight-bold" style="box-sizing: border-box; font-w
 eight: 700 !important; color: #158795 !important;">Kurstag:&nbsp;</span>Mon
 tag 13:00-13:45</p><p style="box-sizing: border-box; margin-top: 0px; margi
 n-bottom: 1rem;"><span class="text-primary font-weight-bold" style="box-siz
 ing: border-box; font-weight: 700 !important; color: #158795 !important;">T
 ermine:&nbsp;</span>01.06., 08.06., 15.06., 22.06., 29.06.</p><p style="box
 -sizing: border-box; margin-top: 0px; margin-bottom: 1rem;"><span class="te
 xt-primary font-weight-bold" style="box-sizing: border-box; font-weight: 70
 0 !important; color: #158795 !important;">Kosten:&nbsp;</span>€90,- (5 Einh
 eiten)</p><p style="box-sizing: border-box; margin-top: 0px; margin-bottom:
  0px;">Babys lieben Klänge, Geräusche, Musik und Gesang. Gemeinsam schaffen
  wir akustische und musikalische Erlebniswelten, in die sich die Babys nach
  Möglichkeit einbringen können und erweitern dabei auch Kompetenz und Reper
 toire das Kind im Alltag spielerisch zu fördern.</p></div></div></div></div
 ></div><div id="c1576" class="frame frame-default frame-type-form_formframe
 work frame-layout-0 frame-background-none frame-no-backgroundimage frame-sp
 ace-before-none frame-space-after-none" style="box-sizing: border-box; posi
 tion: relative; padding-top: 3.5rem; padding-bottom: 3.5rem; margin-top: -3
 .5rem; margin-bottom: 0rem;"><div class="frame-container" style="box-sizing
 : border-box; position: relative; width: 815px; padding-right: 0px; padding
 -left: 0px; margin-right: auto; margin-left: auto; max-width: 1140px; margi
 n-bottom: 0px;"><div class="frame-inner" style="box-sizing: border-box;"><d
 iv class="form-container form-identifier-anmeldeformular-1576" style="box-s
 izing: border-box; margin-bottom: 0px;"><form enctype="multipart/form-data"
  method="post" novalidate="novalidate" id="anmeldeformular-1576" style="box
 -sizing: border-box;"><div style="box-sizing: border-box;">&nbsp;</div><inp
 ut autocomplete="OSRoIPe85FGps" name="tx_form_formframework[anmeldeformular
 -1576][OSRoIPe85FGps]" type="text" id="anmeldeformular-1576-OSRoIPe85FGps" 
 style="box-sizing: border-box; margin: 0px 0px 0px -999em; font-family: inh
 erit; font-size: inherit; line-height: inherit; overflow: visible; position
 : absolute;" tabindex="-1" aria-hidden="true" /></form></div></div></div></
 div></div></div></div></div>
CONTACT:www.spielringel.at
X-EXTRAINFO:[preis='9000'][anmeldung='true']
DTSTAMP:20260425T030020
DTSTART:20260601T110000
DTEND:20260601T114500
SEQUENCE:0
RRULE:FREQ=WEEKLY;UNTIL=20260701T000000Z;INTERVAL=1;BYDAY=MO
TRANSP:OPAQUE
END:VEVENT
END:VCALENDAR