BEGIN:VCALENDAR
VERSION:2.0
PRODID:-//jEvents 2.0 for Joomla//EN
CALSCALE:GREGORIAN
METHOD:PUBLISH
BEGIN:VEVENT
UID:b7ca1bc130f07b41a3435601601e4989
CATEGORIES:2. Bezirk
CREATED:19700101T010000
SUMMARY:Mondmoment - musikalische Entdeckungsreisen für Kinder 02-15M) und sanftes Yoga für Erwachsene 
LOCATION:Kind&amp;Kegel Eltern-Kind-Zentrum
DESCRIPTION:<p>MONDMOMENT<br />MUSIKALISCHE ENTDECKUNGSREISEN FÜR KINDER UND<br />SANFT
 ES YOGA FÜR ELTERN (ALLE LEVELS)<br />In unserer Gruppe Mondmoment schaffen
  wir einen geschützten Raum für<br />musikalische Neugier und elterliche En
 tspannung. Die Mondqualität lehrt uns,<br />dass wir nicht aus eigener Kraf
 t strahlen müssen – es reicht, präsent zu sein<br />und das Licht des Momen
 ts zu reflektieren.<br />Jeden <strong>Mittwochvormittag</strong> ab 06.05.
 2026 von<br /><strong>09.45 Uhr bis 10.45 Uhr</strong> im Kind &amp; Kegel 
 mit Lisi Rauter<br />(www.resonanzraum.cc)<br />Für Eltern mit Babys von 02
  bis 15 Monate<br /><strong>Kosten: € 16,- pro Einheit | 5er Block € 77,- |
  10er Block € 155,-</strong><br /><strong>Anmeldungen bitte über Kind &amp;
  Kegel BITTE BIS SPÄTESTENS DIENSTAGS 12h<br />info@kind-und-kegel.at l 01/
 503 71 88 l www.kind-und-kegel.at</strong></p>
CONTACT:www.kind-und-kegel.at, 01 503 71 88, info@kind-und-kegel.at
X-EXTRAINFO:[preis='1600'][anmeldung='true']
DTSTAMP:20260424T225109
DTSTART:20260506T060000
DTEND:20260506T150000
SEQUENCE:0
RRULE:FREQ=WEEKLY;UNTIL=20260625T000000Z;INTERVAL=1;BYDAY=WE
TRANSP:OPAQUE
END:VEVENT
END:VCALENDAR