BEGIN:VCALENDAR
VERSION:2.0
PRODID:-//jEvents 2.0 for Joomla//EN
CALSCALE:GREGORIAN
METHOD:PUBLISH
BEGIN:VEVENT
UID:85a9a3286ff3823da531a7eb4fd692e1
CATEGORIES:2. Bezirk
CREATED:19700101T010000
SUMMARY:Craniosacrale Behnadlungen für Erwachsene
LOCATION:Kind&amp;Kegel Eltern-Kind-Zentrum
DESCRIPTION:CRANIOSACRALE BEHANDLUNGEN\nIM KIND &amp; KEGEL\nDie craniosacrale Biodynam
 ik ist ein Teilgebiet der Osteopathie und eine\nsehr sanft arbeitende, ganz
 heitliche Behandlungsmethode. Über das\ncraniosacrale System können wir die
  Selbstregulierungskraft des Bindegewebes,\ndes Muskel- und Skelettsystems,
  des Herz-Kreislauf-, Hormon- und\nStressverarbeitungssystems kontaktieren 
 und unterstützen.\nJeden Mittwochvormittag ab 06.05.2026 ist Lisi Rauter (C
 raniosacralpraktikerin,\nMutter, Yogalehrerin, Musiktherapeutin und Kranken
 pflegerin) für craniosacrale\nBehandlungen bei Kind &amp; Kegel. Von 8.00-9
 .30 Uhr für Ersttermine und von\n11.15-12.15 Uhr für Folgetermine.\nTerminv
 ereinbarungen bitte über Kind &amp; Kegel\ninfo@kind-und-kegel.at l 01/503 
 71 88 l www.kind-und-kegel.at\nPreise auf Anfrage\n
X-ALT-DESC;FMTTYPE=text/html:<p>CRANIOSACRALE BEHANDLUNGEN<br />IM KIND &amp; KEGEL<br />Die craniosacra
 le Biodynamik ist ein Teilgebiet der Osteopathie und eine<br />sehr sanft a
 rbeitende, ganzheitliche Behandlungsmethode. Über das<br />craniosacrale Sy
 stem können wir die Selbstregulierungskraft des Bindegewebes,<br />des Musk
 el- und Skelettsystems, des Herz-Kreislauf-, Hormon- und<br />Stressverarbe
 itungssystems kontaktieren und unterstützen.</p><p>Jeden <strong>Mittwochvo
 rmittag ab 06.05.2026</strong> ist Lisi Rauter (Craniosacralpraktikerin,<br
  />Mutter, Yogalehrerin, Musiktherapeutin und Krankenpflegerin) für cranios
 acrale<br />Behandlungen bei Kind &amp; Kegel. Von 8<strong>.00-9.30 Uhr fü
 r Ersttermine</strong> und von<br /><strong>11.15-12.15 Uhr für Folgetermin
 e.</strong><br />Terminvereinbarungen bitte über Kind &amp; Kegel<br />info
 @kind-und-kegel.at l 01/503 71 88 l www.kind-und-kegel.at<br /><strong>Prei
 se auf Anfrage</strong></p>
CONTACT:www.kind-und-kegel.at, 01 503 71 88, info@kind-und-kegel.at
X-EXTRAINFO:[preis='9000'][anmeldung='true']
DTSTAMP:20260425T000403
DTSTART:20260506T060000
DTEND:20260506T073000
SEQUENCE:0
RRULE:FREQ=WEEKLY;UNTIL=20260625T000000Z;INTERVAL=1;BYDAY=WE
TRANSP:OPAQUE
END:VEVENT
END:VCALENDAR