BEGIN:VCALENDAR
VERSION:2.0
PRODID:-//jEvents 2.0 for Joomla//EN
CALSCALE:GREGORIAN
METHOD:PUBLISH
BEGIN:VEVENT
UID:9e850ad14095a46e75eb29647344a206
CATEGORIES:6. Bezirk
CREATED:20260423T202149
SUMMARY:Muttertags-Baby-Cafe
LOCATION:6.\, Sandwirtgasse 13/12
DESCRIPTION:<p>Muttertags-Baby-Cafe<br /><br />Am Freitag, 8. Mai und Montag, 11. Mai, 
 jeweils zwischen 9.00 und 12.00 Uhr, öffnen wir unseren Raum für ein liebev
 olles Muttertags-Baby-Café in entspannter, achtsamer Atmosphäre.<br /><br /
 >Dich erwartet:&nbsp;<br />- unsere liebevolle, entspannte Atmosphäre zum S
 pielen und Begegnen<br />- Zeit für Austauschen und Genießen<br />- ein fei
 ner Muttertags-Gugelhupf für jede Mama<br />- ein exklusives Mama-Goodie-Ba
 g als liebevolle Aufmerksamkeit<br />- und natürlich unser bewährter, richt
 ig guter Bio-Fair-Trade-Kaffee&nbsp;<br /><br />Für diese besonderen Vormit
 tage bieten wir dir einen Spezialpreis von € 12,- an.<br />Komm so, wie du 
 bist: mit allem, was dich gerade bewegt.</p><p>&nbsp;<br />Hier darfst du e
 infach sein, genießen und dich ein bisschen feiern lassen.&nbsp;<br /><br /
 >Wann:&nbsp;<br />Freitag, 8. Mai 2026 von 9.00 - 12.00 Uhr<br />Montag, 11
 . Mai 2026 von 9.00 - 12.00 Uhr<br /><br />Spezialpreis: € 12,- Mama und ih
 r Kind/ihre Kinder<br /><br />Anmeldung hier: <a href="https://www.biolino.
 at/baby-cafe/">https://www.biolino.at/baby-cafe/&nbsp;</a><br /><br />Wir f
 reuen uns auf dich!</p><p>&nbsp;</p>
CONTACT:martina.novak@biolino.at, 067762892970
X-EXTRAINFO:[preis='1200'][anmeldung='false']
DTSTAMP:20260424T225111
DTSTART:20260511T070000
DTEND:20260511T100000
SEQUENCE:0
TRANSP:OPAQUE
END:VEVENT
END:VCALENDAR