BEGIN:VCALENDAR
VERSION:2.0
PRODID:-//jEvents 2.0 for Joomla//EN
CALSCALE:GREGORIAN
METHOD:PUBLISH
BEGIN:VEVENT
UID:b136e88f357c6d7a92203487aca5e331
CATEGORIES:Online
CREATED:20260424T112722
SUMMARY:ONLINE: Physiotherapeutischer Geburtsvorbereitungskurs - Arbeit mit Körper und Bewegung
LOCATION:online
DESCRIPTION:Wie kann man den Geburtsverlauf positiv beeinflussen?\nAn meinem Kurs nehme
 n nicht nur Erstgebärende teil, sondern auch viele Frauen, die bereits Kind
 er haben und deren Geburten anders verlaufen sind als erhofft.\nDer Kurs fi
 ndet live über Zoom statt, wird aber auch aufgezeichnet. Es ist daher kein 
 Problem, wenn du nicht live dabei sein kannst oder verspätet einsteigst!\n\
 nTermine:\nDi, 26.5., 9:30-11:30\nMi, 3.6., 9:30-11:30\nSo, 14.6., 9:30-11:
 30 (mit Partner*in)\n\nDarum geht es im Kurs:\nWie kann ich meinem Baby hel
 fen, die optimale Startposition zu finden - schon in der Schwangerschaft, a
 ber auch direkt während der Geburt?\nWas kann ich gegen schwangerschaftsbed
 ingte Schmerzen tun?\nDurch welche Positionen und Bewegungen kann ich den G
 eburtsverlauf positiv beeinflussen und welche können nachteilig sein?\nWaru
 m sollte ich meinen Beckenboden schon jetzt trainieren und wie funktioniert
  das?\nWie läuft eine Geburt ab?\nWas hat es mit der richtigen Atmung auf s
 ich?\nWie bewegt sich das Kind durch das Becken?\nWas tun bei Beckenendlage
  oder Sternguckern?\nWarum ist es wichtig, als gebärende Person gut informi
 ert zu sein?\nWie kann ich mithelfen, Geburtsverletzungen vorzubeugen?\nWie
  setze ich meinen Körper während der Geburt optimal ein?\nWie kann mich mei
 n/e Partner*in bestmöglich unterstützen?\nWie gestalte ich die Geburt aktiv
  mit, statt mich passiv entbinden zu lassen?\nWas kann ich selbst oder mein
 /e Partner*in gegen den Wehenschmerz tun?\nWas ist nach der Geburt wichtig 
 für meinen Körper?\nAll das und mehr besprechen wir in diesem Kurs. Er kann
  und soll die Geburtsvorbereitung mit einer Hebamme keineswegs ersetzen, is
 t aber eine sinnvolle Ergänzung dazu. Ich habe als Physiotherapeutin einsch
 lägige Fortbildungen absolviert, eng mit Hebammen zusammengearbeitet, einig
 e Geburten im beruflichen Kontext miterlebt (Krankenhaus, Hausgeburt) und z
 wei eigene Kinder geboren (Krankenhaus, Geburtshaus).\nDie Teilnahme ist ab
  der 13. Schwangerschaftswoche möglich. Der dritte Termin sollte am besten 
 mit Partner*in besucht werden, ist aber auch mit einer anderen Begleitperso
 n oder notfalls alleine möglich. Es dürfen nur Schwangere teilnehmen, dies 
 ist keine Fortbildung!\n\nDie Kosten von € 108 beziehen sich auf den gesamt
 en Kurs, nicht pro Termin.\n
X-ALT-DESC;FMTTYPE=text/html:<p class="MsoNormal" style="border-image: initial; line-height: 1.5em; marg
 in: 0px; color: #000000; font-family: 'Roboto Condensed', sans-serif; font-
 size: 15px; border: medium none currentcolor;">Wie kann man den Geburtsverl
 auf positiv beeinflussen?</p><p class="MsoNormal" style="border-image: init
 ial; line-height: 1.5em; margin: 0px; color: #000000; font-family: 'Roboto 
 Condensed', sans-serif; font-size: 15px; border: medium none currentcolor;"
 >An meinem Kurs nehmen nicht nur Erstgebärende teil, sondern auch viele Fra
 uen, die bereits Kinder haben und deren Geburten anders verlaufen sind als 
 erhofft.<br />Der Kurs findet live über Zoom statt, wird aber auch aufgezei
 chnet. Es ist daher kein Problem, wenn du nicht live dabei sein kannst oder
  verspätet einsteigst!<br /><br />Termine:<br />Di, 26.5., 9:30-11:30<br />
 Mi, 3.6., 9:30-11:30<br />So, 14.6., 9:30-11:30 (mit Partner*in)<br /><br /
 >Darum geht es im Kurs:<br />Wie kann ich meinem Baby helfen, die optimale 
 Startposition zu finden - schon in der Schwangerschaft, aber auch direkt wä
 hrend der Geburt?<br />Was kann ich gegen schwangerschaftsbedingte Schmerze
 n tun?<br />Durch welche Positionen und Bewegungen kann ich den Geburtsverl
 auf positiv beeinflussen und welche können nachteilig sein?<br />Warum soll
 te ich meinen Beckenboden schon jetzt trainieren und wie funktioniert das?<
 br />Wie läuft eine Geburt ab?<br />Was hat es mit der richtigen Atmung auf
  sich?<br />Wie bewegt sich das Kind durch das Becken?<br />Was tun bei Bec
 kenendlage oder Sternguckern?<br />Warum ist es wichtig, als gebärende Pers
 on gut informiert zu sein?<br />Wie kann ich mithelfen, Geburtsverletzungen
  vorzubeugen?<br />Wie setze ich meinen Körper während der Geburt optimal e
 in?<br />Wie kann mich mein/e Partner*in bestmöglich unterstützen?<br />Wie
  gestalte ich die Geburt aktiv mit, statt mich passiv entbinden zu lassen?<
 br />Was kann ich selbst oder mein/e Partner*in gegen den Wehenschmerz tun?
 <br />Was ist nach der Geburt wichtig für meinen Körper?</p><p class="MsoNo
 rmal" style="border-image: initial; line-height: 1.5em; margin: 0px; color:
  #000000; font-family: 'Roboto Condensed', sans-serif; font-size: 15px; bor
 der: medium none currentcolor;">All das und mehr besprechen wir in diesem K
 urs. Er kann und soll die Geburtsvorbereitung mit einer Hebamme keineswegs 
 ersetzen, ist aber eine sinnvolle Ergänzung dazu. Ich habe als Physiotherap
 eutin einschlägige Fortbildungen absolviert, eng mit Hebammen zusammengearb
 eitet, einige Geburten im beruflichen Kontext miterlebt (Krankenhaus, Hausg
 eburt) und zwei eigene Kinder geboren (Krankenhaus, Geburtshaus).</p><p cla
 ss="MsoNormal" style="border-image: initial; line-height: 1.5em; margin: 0p
 x; color: #000000; font-family: 'Roboto Condensed', sans-serif; font-size: 
 15px; border: medium none currentcolor;">Die Teilnahme ist ab der 13. Schwa
 ngerschaftswoche möglich. Der dritte Termin sollte am besten mit Partner*in
  besucht werden, ist aber auch mit einer anderen Begleitperson oder notfall
 s alleine möglich.&nbsp;Es dürfen nur Schwangere teilnehmen, dies ist keine
  Fortbildung!<br /><br />Die Kosten von € 108 beziehen sich auf den gesamte
 n Kurs, nicht pro Termin.</p>
CONTACT:http://www.physiomattes.at/geburtsvorbereitungskurse
X-EXTRAINFO:[preis='10800'][anmeldung='true']
DTSTAMP:20260425T013833
DTSTART:20260603T073000
DTEND:20260603T093000
SEQUENCE:0
TRANSP:OPAQUE
END:VEVENT
END:VCALENDAR