BEGIN:VCALENDAR
VERSION:2.0
PRODID:-//jEvents 2.0 for Joomla//EN
CALSCALE:GREGORIAN
METHOD:PUBLISH
BEGIN:VEVENT
UID:7199cd82be71a590a424111f4e2e9697
CATEGORIES:21. Bezirk
CREATED:20171227T152440
SUMMARY:Zwergerlstunde 2 (Spielgruppe für Babys von 6 bis 12 Monaten)
LOCATION:Seminarraum der Apotheke 21 (Kürschnergasse 1a\, 1210 WIen)
DESCRIPTION:Für dein Baby gibt es in der Zwergerlstunde verschiedene Materialien zum Er
 forschen und Entdecken, zum Ertasten und Begreifen. Außerdem werden wir mit
  den kleinen Zwergerln alterangepasste Spiele (Kniereiter-, Versteck-, Hops
 e-, Fangspiele, usw.) machen, Lieder singen, Reime sprechen und ihnen die M
 öglichkeit zur Kontaktaufnahme zu Gleichaltrigen und anderen Erwachsenen bi
 eten.\nWir werden auch gemeinsam Malereien und Basteleien mit deinem Zwerge
 rl herstellen.\n
X-ALT-DESC;FMTTYPE=text/html:<p>Für dein Baby gibt es in der Zwergerlstunde verschiedene Materialien zum
  Erforschen und Entdecken, zum Ertasten und Begreifen. Außerdem werden wir 
 mit den kleinen Zwergerln alterangepasste Spiele (Kniereiter-, Versteck-, H
 opse-, Fangspiele, usw.) machen, Lieder singen, Reime sprechen und ihnen di
 e Möglichkeit zur Kontaktaufnahme zu Gleichaltrigen und anderen Erwachsenen
  bieten.</p><p>Wir werden auch gemeinsam Malereien und Basteleien mit deine
 m Zwergerl herstellen.</p>
CONTACT:https://www.zwergerlparadies.at/kursangebot/kreative-spielgruppen/zwergerlstunde-2/
X-EXTRAINFO:[preis='13400'][anmeldung='true']
DTSTAMP:20260424T001235
DTSTART:20181123T081000
DTEND:20181123T090000
SEQUENCE:0
TRANSP:OPAQUE
END:VEVENT
END:VCALENDAR