BEGIN:VCALENDAR
VERSION:2.0
PRODID:-//jEvents 2.0 for Joomla//EN
CALSCALE:GREGORIAN
METHOD:PUBLISH
BEGIN:VEVENT
UID:740a126f7709c08d834488b92b4e52fb
CATEGORIES:22. Bezirk
CREATED:20180215T105041
SUMMARY:Mama - Fitness "Sei fit mit deinen Kids"
LOCATION:Pappelweg 3\, 1220 Wien
DESCRIPTION:Bauch Bein Po - Workout mit oder ohne Babytrage\nPower - Workout mit oder o
 hne Babytrage\nBodywork - Workout\nFatburning\nRückenfit\nBoxpower - Workou
 t\n \nAbwechslung für dich und deinen Kinder/Babyalltag!\nAustausch mit Gle
 ichgesinnten und die Bewegung in der Gruppe\nSpaß für dich und dein Kind si
 nd gesichert und durch die Gruppendynamik macht die Bewegung viel mehr Spaß
 !\nWas du brauchst?\n- Handtuch\n- Matte\n- Babytrage\n- Trinkflasche\nMatt
 e und Babytrage sind kein "muss"!\nIch freue mich auf dich und deine Kids\n
 Bis bald, Sabine\n \n \n \n \n \n \n \n \n \n
X-ALT-DESC;FMTTYPE=text/html:<p>Bauch Bein Po - Workout mit oder ohne Babytrage</p><p>Power - Workout mi
 t oder ohne Babytrage</p><p>Bodywork - Workout</p><p>Fatburning</p><p>Rücke
 nfit</p><p>Boxpower - Workout</p><p> </p><p>Abwechslung für dich und deinen
  Kinder/Babyalltag!</p><p>Austausch mit Gleichgesinnten und die Bewegung in
  der Gruppe</p><p>Spaß für dich und dein Kind sind gesichert und durch die 
 Gruppendynamik macht die Bewegung viel mehr Spaß!</p><p>Was du brauchst?</p
 ><p>- Handtuch</p><p>- Matte</p><p>- Babytrage</p><p>- Trinkflasche</p><p>M
 atte und Babytrage sind kein "muss"!</p><p>Ich freue mich auf dich und dein
 e Kids</p><p>Bis bald, Sabine</p><p> </p><p> </p><p> </p><p> </p><p> </p><p
 > </p><p> </p><p> </p><p> </p>
CONTACT:06604941156 oder mail-sabine@mama-fitness.at
X-EXTRAINFO:[preis='990'][anmeldung='true']
DTSTAMP:20260423T182154
DTSTART:20190426T130000
DTEND:20190426T135000
SEQUENCE:0
TRANSP:OPAQUE
END:VEVENT
END:VCALENDAR