BEGIN:VCALENDAR
VERSION:2.0
PRODID:-//jEvents 2.0 for Joomla//EN
CALSCALE:GREGORIAN
METHOD:PUBLISH
BEGIN:VEVENT
UID:ab466b253d14876aa5bedd1ca4528ecb
CATEGORIES:15. Bezirk
CREATED:20180228T132145
SUMMARY:Baby Fußabdrücke auf Keramik 
LOCATION:Paint your Style - Wien 15
DESCRIPTION:Und so funktionierst:\nWir bieten dir regelmäßige Termine, damit Du bei uns
  in aller Ruhe, außerhalb der Öffnungszeiten und mit professioneller Hilfe 
 schöne Babyfußabdrücke auf die Keramik zaubern kannst.\nFuß und Handabdrück
 e sind eine bleibende Erinnerung und noch dazu eine schöne Geschenks Idee.\
 n \nUnsere Babytage sind jeweils in der Zeit von 10-12 Uhr. Gerne kannst Du
  dir einen Termin unter 01/ 786 06 77 oder per Mail: wien15@paintyourstyle.
 at reservieren. Natürlich kannst du auch ohne Anmeldung nachmittags zum Füß
 chen stempeln kommen.\n \nWir freuen uns auf Dich und Dein Baby!! Achja und
  die Farben bei uns sind bleifrei, völlig ungiftig und lassen sich probleml
 os von Händen und Kleidung abwaschen.\n
X-ALT-DESC;FMTTYPE=text/html:<p>Und so funktionierst:</p><p>Wir bieten dir regelmäßige Termine, damit Du
  bei uns in aller Ruhe, außerhalb der Öffnungszeiten und mit professionelle
 r Hilfe schöne Babyfußabdrücke auf die Keramik zaubern kannst.</p><p>Fuß un
 d Handabdrücke sind eine bleibende Erinnerung und noch dazu eine schöne Ges
 chenks Idee.</p><p> </p><p>Unsere Babytage sind jeweils in der Zeit von 10-
 12 Uhr. Gerne kannst Du dir einen Termin unter 01/ 786 06 77 oder per Mail:
  <a href="mailto:wien15@paintyourstyle.at">wien15@paintyourstyle.at</a> res
 ervieren. Natürlich kannst du auch ohne Anmeldung nachmittags zum Füßchen s
 tempeln kommen.</p><p> </p><p>Wir freuen uns auf Dich und Dein Baby!! Achja
  und die Farben bei uns sind bleifrei, völlig ungiftig und lassen sich prob
 lemlos von Händen und Kleidung abwaschen.</p>
CONTACT:wien15@paintyourstyle.at
DTSTAMP:20260425T104843
DTSTART:20181205T110000
DTEND:20181205T180000
SEQUENCE:0
TRANSP:OPAQUE
END:VEVENT
END:VCALENDAR