BEGIN:VCALENDAR
VERSION:2.0
PRODID:-//jEvents 2.0 for Joomla//EN
CALSCALE:GREGORIAN
METHOD:PUBLISH
BEGIN:VEVENT
UID:737013cc33a21fb259e979a2bef9c666
CATEGORIES:15. Bezirk
CREATED:20170118T150622
SUMMARY:Fussabdrücke auf Keramik
LOCATION:Paint your Style - Wien 15
DESCRIPTION: BABYTAGE  \n bei Paint your Style- Wien 15 \nUnd so funktionierst:\nWir bi
 eten dir regelmäßige Termine, damit Du bei uns in aller Ruhe, außerhalb der
  Öffnungszeiten und mit professioneller Hilfe schöne Babyfußabdrücke auf di
 e Keramik zaubern kannst.\nFuß und Handabdrücke sind eine bleibende Erinner
 ung und noch dazu eine schöne Geschenks Idee.\n \nUnsere Babytage sind jewe
 ils in der Zeit von 10-12 Uhr. Gerne kannst Du dir einen Termin unter 01/ 7
 86 06 77 oder per Mail: wien15@paintyourstyle.at reservieren. Natürlich kan
 nst du auch ohne Anmeldung nachmittags zum Füßchen stempeln kommen.\n \nWir
  freuen uns auf Dich und Dein Baby!! Achja und die Farben bei uns sind blei
 frei, völlig ungiftig und lassen sich problemlos von Händen und Kleidung ab
 waschen.\n \nhttps://www.facebook.com/paintyourstylewien15/\n\n
X-ALT-DESC;FMTTYPE=text/html:<h1 style="text-align: center;"><span style="font-family: comic sans ms,san
 s-serif; font-size: 24pt;"><em><strong> BABYTAGE </strong></em></span></h1>
 <h1 style="text-align: center;"><span style="font-family: comic sans ms,san
 s-serif; font-size: 24pt;"><em><strong> </strong></em></span><br /><span st
 yle="font-family: comic sans ms,sans-serif; font-size: 24pt;"><em><strong> 
 bei Paint your Style- Wien 15</strong></em></span></h1><p> </p><p>Und so fu
 nktionierst:</p><p>Wir bieten dir regelmäßige Termine, damit Du bei uns in 
 aller Ruhe, außerhalb der Öffnungszeiten und mit professioneller Hilfe schö
 ne Babyfußabdrücke auf die Keramik zaubern kannst.</p><p>Fuß und Handabdrüc
 ke sind eine bleibende Erinnerung und noch dazu eine schöne Geschenks Idee.
 </p><p> </p><p>Unsere Babytage sind jeweils in der Zeit von 10-12 Uhr. Gern
 e kannst Du dir einen Termin unter 01/ 786 06 77 oder per Mail: <a href="ma
 ilto:wien15@paintyourstyle.at">wien15@paintyourstyle.at</a> reservieren. Na
 türlich kannst du auch ohne Anmeldung nachmittags zum Füßchen stempeln komm
 en.</p><p> </p><p>Wir freuen uns auf Dich und Dein Baby!! Achja und die Far
 ben bei uns sind bleifrei, völlig ungiftig und lassen sich problemlos von H
 änden und Kleidung abwaschen.</p><p style="text-align: center;"> </p><p sty
 le="text-align: center;"><span style="font-family: comic sans ms,sans-serif
 ;"><em><a href="https://www.facebook.com/paintyourstylewien15/">https://www
 .facebook.com/paintyourstylewien15/</a></em></span></p><p style="text-align
 : center;"><span style="font-family: comic sans ms,sans-serif;"><em></em></
 span></p>
CONTACT:https://www.facebook.com/paintyourstylewien15/
X-EXTRAINFO:[preis='000'][anmeldung='false']
DTSTAMP:20260425T141209
DTSTART:20190319T090000
DTEND:20190319T120000
SEQUENCE:0
TRANSP:OPAQUE
END:VEVENT
END:VCALENDAR