BEGIN:VCALENDAR
VERSION:2.0
PRODID:-//jEvents 2.0 for Joomla//EN
CALSCALE:GREGORIAN
METHOD:PUBLISH
BEGIN:VEVENT
UID:b916f2cf73e46da4a753adac79a17f07
CATEGORIES:2. Bezirk
CREATED:20180808T225313
SUMMARY:ORIGINAL PLAY - Offene Spielgruppe für Kinder von 3 bis 15 Jahren
LOCATION:1020 Praterstraße 14/8
DESCRIPTION:Spielen wie Wölfe, Bären, Löwen - bei Original Play gibt es kein Gewinnen u
 nd Verlieren.\nOb sanft oder wild: wir spielen immer liebevoll und sicher!\
 n \nim Eltern-Kind-Zentrum  'Kind &amp; Kegel'\n1020 Wien, Praterstraße 14/
 8\n \nan Montagen (wenn Schultag) von 16.00 bis 17.00 Uhr:\n3.9., 10.9., 17
 .9., 24.9., 1.10., 8.10., 15.10., 22.10., 29.10.,\n5.11., 12.11., 19.11., 2
 6.11., 3.12., 10.12., 17.12.2018,\n7.1., 14.1., 21.1. und 28.1.2019\n \nOri
 ginal Play ist das Ergebnis von 40 Jahren Forschung von Dr. O. Fred Donalds
 on zum Spielverhalten von Kindern und frei lebenden Tieren. Es bedeutet in 
 Verbindung zu sein mit dem eigenen Herzen und in liebevollen Kontakt mit an
 deren Lebewesen zu treten. Bei Original Play gibt es kein Richtig und kein 
 Falsch, keinen Kampf und keine Konkurrenz, kein Stark und kein Schwach, kei
 n Ausgeschlossen sein und keine Angst. Es kann aussehen wie ein nebeneinand
 er Herumkrabbeln auf der Spielfläche, wie sanfte Berührungen mit den Finger
 n, wie wildes Balgen oder wie ...\n \nweitere Informationen:\nwww.originalp
 lay.at\nArmin Knauthe, 0699 -12848864\n\nVerein 'Original Play Österreich -
  von Herzen spielen'\n
X-ALT-DESC;FMTTYPE=text/html:<p class="p1">Spielen wie Wölfe, Bären, Löwen - bei <i>Original Play</i> gi
 bt es kein Gewinnen und Verlieren.</p><p class="p1">Ob sanft oder wild: wir
  spielen immer liebevoll und sicher!</p><p class="p2"> </p><p class="p3">im
  Eltern-Kind-Zentrum  'Kind &amp; Kegel'</p><p class="p3">1020 Wien, Prater
 straße 14/8</p><p class="p2"> </p><p class="p3">an Montagen (wenn Schultag)
  von 16.00 bis 17.00 Uhr:</p><p class="p4">3.9., 10.9., 17.9., 24.9., 1.10.
 , 8.10., 15.10., 22.10., 29.10.,</p><p class="p5">5.11., 12.11., 19.11., 26
 .11., 3.12., 10.12., 17.12.2018,</p><p class="p5">7.1., 14.1., 21.1. und 28
 .1.2019</p><p class="p5"> </p><p class="p1">Original Play ist das Ergebnis 
 von 40 Jahren Forschung von Dr. O. Fred Donaldson zum Spielverhalten von Ki
 ndern und frei lebenden Tieren. Es bedeutet in Verbindung zu sein mit dem e
 igenen Herzen und in liebevollen Kontakt mit anderen Lebewesen zu treten. B
 ei Original Play gibt es kein Richtig und kein Falsch, keinen Kampf und kei
 ne Konkurrenz, kein Stark und kein Schwach, kein Ausgeschlossen sein und ke
 ine Angst. Es kann aussehen wie ein nebeneinander Herumkrabbeln auf der Spi
 elfläche, wie sanfte Berührungen mit den Fingern, wie wildes Balgen oder wi
 e ...</p><p class="p2"> </p><p class="p3">weitere Informationen:</p><p clas
 s="p4">www.originalplay.at</p><p class="p3">Armin Knauthe, 0699 -12848864</
 p><p class="p3"></p><p class="p1">Verein 'Original Play Österreich - von He
 rzen spielen'</p>
CONTACT:robin@originalplay.at
X-EXTRAINFO:[preis='934'][anmeldung='false']
DTSTAMP:20260423T165429
DTSTART:20190128T150000
DTEND:20190128T160000
SEQUENCE:0
TRANSP:OPAQUE
END:VEVENT
END:VCALENDAR