BEGIN:VCALENDAR
VERSION:2.0
PRODID:-//jEvents 2.0 for Joomla//EN
CALSCALE:GREGORIAN
METHOD:PUBLISH
BEGIN:VEVENT
UID:6af3ca7d6760b9cd77ef3a281e671c96
CATEGORIES:14. Bezirk
CREATED:20180815T021140
SUMMARY:Mama-Baby-Yoga  -  für Krabbelkinder
LOCATION:Meiselstraße 66\, 1140 Wien
DESCRIPTION:Mama-Baby-Yoga für Krabbelkinder (bis ca. 1 Jahr)\njeden Dienstag von 10-11
 :30 Uhr\nVon "Mamas für Mamas" ist mein Motto und ich freue mich, dich bei 
 mir im Kurs begrüßen zu dürfen!\nGemeinsam stärken wir deine Mitte, rund um
  Beckenboden, Bauch, Herz und Seele.\n \nEinzelkurs 17€\n10er-Block 140€\n 
 \nweitere Infos unter www.ausliebezudir.at\n
X-ALT-DESC;FMTTYPE=text/html:<p>Mama-Baby-Yoga für Krabbelkinder (bis ca. 1 Jahr)</p><p>jeden Dienstag v
 on 10-11:30 Uhr</p><p>Von "Mamas für Mamas" ist mein Motto und ich freue mi
 ch, dich bei mir im Kurs begrüßen zu dürfen!</p><p>Gemeinsam stärken wir de
 ine Mitte, rund um Beckenboden, Bauch, Herz und Seele.</p><p> </p><p>Einzel
 kurs 17€</p><p>10er-Block 140€</p><p> </p><p>weitere Infos unter www.auslie
 bezudir.at</p>
CONTACT:auszeit@ausliebezudir.at, 0043 (0)677 62081854
X-EXTRAINFO:[preis='1700'][anmeldung='true']
DTSTAMP:20260423T155931
DTSTART:20181225T090000
DTEND:20181225T103000
SEQUENCE:0
TRANSP:OPAQUE
END:VEVENT
END:VCALENDAR