BEGIN:VCALENDAR
VERSION:2.0
PRODID:-//jEvents 2.0 for Joomla//EN
CALSCALE:GREGORIAN
METHOD:PUBLISH
BEGIN:VEVENT
UID:9378ab6d0b93aaf2d1797db6799cf3b4
CATEGORIES:9. Bezirk
CREATED:20180902T163736
SUMMARY:Schwangeren YOGA - RAUM für NEUES
LOCATION:RAUM für NEUES\, Fuchsthallergasse 11/29. 1090 Wien
DESCRIPTION:JEDEN DONNERSTAG 16:30-18:00\nRAUM für NEUES, Fuchsthallergasse 11/29, 1090
  Wien\n16€/Einheit, 140€ 10er Block\nYoga hilft jeder Frau auf unterschiedl
 iche Weise. Jede Schwangerschaft und Mutterschaft ist anders, und jede Frau
  reagiert auf ihre Weise auf die Praxis des Yoga. Nimm dir deshalb genügend
  Zeit, um herauszufinden, was Spaß macht und was den größten Nutzen bringt.
  Dich selbst, deinen Körper und seine Reaktion zu verstehen, wird dir helfe
 n, deine eigene Praxis aufzubauen. \nMehr Information:\nwww.be-in-touch.at/
 yoga\n
X-ALT-DESC;FMTTYPE=text/html:<p>JEDEN DONNERSTAG 16:30-18:00</p><p>RAUM für NEUES, Fuchsthallergasse 11/
 29, 1090 Wien</p><p>16€/Einheit, 140€ 10er Block</p><p>Yoga hilft jeder Fra
 u auf unterschiedliche Weise. Jede Schwangerschaft und Mutterschaft ist and
 ers, und jede Frau reagiert auf ihre Weise auf die Praxis des Yoga. Nimm di
 r deshalb genügend Zeit, um herauszufinden, was Spaß macht und was den größ
 ten Nutzen bringt. Dich selbst, deinen Körper und seine Reaktion zu versteh
 en, wird dir helfen, deine eigene Praxis aufzubauen.<span class="Apple-conv
 erted-space"> </span></p><p><span class="Apple-converted-space">Mehr Inform
 ation:</span></p><p><span class="Apple-converted-space">www.be-in-touch.at/
 yoga</span></p>
CONTACT:www.be-in-touch.at/yoga
X-EXTRAINFO:[preis='1600'][anmeldung='true']
DTSTAMP:20260424T153032
DTSTART:20190523T143000
DTEND:20190523T160000
SEQUENCE:0
TRANSP:OPAQUE
END:VEVENT
END:VCALENDAR