BEGIN:VCALENDAR
VERSION:2.0
PRODID:-//jEvents 2.0 for Joomla//EN
CALSCALE:GREGORIAN
METHOD:PUBLISH
BEGIN:VEVENT
UID:39076e9478bc2c49f4fa8e3ad04555e3
CATEGORIES:2. Bezirk
CREATED:20180902T170825
SUMMARY:YOGA nach der Geburt
LOCATION:IN GOOD SHAPE\, Obere Donaustraße 69\, 1020 Wien
DESCRIPTION:JEDEN DIENSTAG 10:30-12:00\nZiel dieser Klasse ist es, dir bewusst zu mache
 n, wie wichtig es ist, Zeit in die Körperbereiche und Funktionen zu investi
 eren, die jetzt wieder an Kraft gewinnen müssen - wie z.B. der Beckenboden.
  Es gibt eine Reihe von Dingen, auf die du besonders beachten solltest, um 
 deinen Körper nach der Schwangerschaft wieder ins Gleichgewicht zu bringen.
 \nDu kannst zu diesem Kurs mit deinem Baby kommen oder die Zeit alleine für
  dich genießen.\n \nIN GOOD SHAPE\nObere Donaustraße 69, 1020 Wien\n \nEinz
 elstunde 16€\n10er Block 140€\n \n
X-ALT-DESC;FMTTYPE=text/html:<p>JEDEN DIENSTAG 10:30-12:00</p><p>Ziel dieser Klasse ist es, dir bewusst 
 zu machen, wie wichtig es ist, Zeit in die Körperbereiche und Funktionen zu
  investieren, die jetzt wieder an Kraft gewinnen müssen - wie z.B. der Beck
 enboden. Es gibt eine Reihe von Dingen, auf die du besonders beachten sollt
 est, um deinen Körper nach der Schwangerschaft wieder ins Gleichgewicht zu 
 bringen.</p><p>Du kannst zu diesem Kurs mit deinem Baby kommen oder die Zei
 t alleine für dich genießen.</p><p> </p><p>IN GOOD SHAPE</p><p>Obere Donaus
 traße 69, 1020 Wien</p><p> </p><p>Einzelstunde 16€</p><p>10er Block 140€</p
 ><p> </p>
CONTACT:https://www.be-in-touch.at/yoga
X-EXTRAINFO:[preis='1600'][anmeldung='true']
DTSTAMP:20260423T182308
DTSTART:20190305T093000
DTEND:20190305T110000
SEQUENCE:0
TRANSP:OPAQUE
END:VEVENT
END:VCALENDAR