BEGIN:VCALENDAR
VERSION:2.0
PRODID:-//jEvents 2.0 for Joomla//EN
CALSCALE:GREGORIAN
METHOD:PUBLISH
BEGIN:VEVENT
UID:073175ad4d8c047d29a8029a35accccc
CATEGORIES:6. Bezirk
CREATED:20180904T070932
SUMMARY:Baby-Klangraum ( 6 bis 12 Monate)
LOCATION:Sandwirtgasse 13/12
DESCRIPTION:Der Biolino Baby-Klangraum ist für Kinder von 6 - 12 Monaten. Wir experimen
 tieren mit Tönen, Musikinstrumenten und der eigenen Stimme. Die Kinder könn
 en Klanghölzer, Trommeln, Rasseln und andere Basisinstrumente erforschen un
 d die Welt der Klänge kennen lernen.  Musik macht Spaß und fördert die ganz
 heitliche Entwicklung unserer Kinder.\nGemeinsam machen wir Schoßreiter, Fi
 ngerspiele, freies Erforschen der Klanginstrumente, Bewegungslieder und hab
 en viel Spaß! &lt;3\nEinstieg ist jederzeit Möglich! &lt;3\nDu kannst ganz 
 einfach mit der Biolino-Blockkarte (https://bit.ly/2PuEK3w) deine Wunschein
 heiten buchen.\nAuf unserem Stundenplan kannst du alle Stunden sehen.\nwww.
  biolino.at\n \nWir freuen uns auf dein Baby und dich!\nMartina und das Bio
 lino Team\n \n
X-ALT-DESC;FMTTYPE=text/html:<p>Der <strong>Biolino Baby</strong>-<strong>Klangraum</strong> ist für Kin
 der von <strong>6 - 12 Monaten</strong>. Wir experimentieren mit Tönen, Mus
 ikinstrumenten und der eigenen Stimme. Die Kinder können Klanghölzer, Tromm
 eln, Rasseln und andere Basisinstrumente erforschen und die Welt der Klänge
  kennen lernen.  Musik macht Spaß und fördert die ganzheitliche Entwicklung
  unserer Kinder.</p><p>Gemeinsam machen wir Schoßreiter, Fingerspiele, frei
 es Erforschen der Klanginstrumente, Bewegungslieder und haben viel Spaß! &l
 t;3</p><p>Einstieg ist jederzeit Möglich! &lt;3</p><p>Du kannst ganz einfac
 h mit der <a href="https://bit.ly/2PuEK3w">Biolino-Blockkarte</a> deine Wun
 scheinheiten buchen.</p><p>Auf unserem Stundenplan kannst du alle Stunden s
 ehen.</p><p>www. biolino.at</p><p> </p><p>Wir freuen uns auf dein Baby und 
 dich!</p><p>Martina und das Biolino Team</p><p> </p>
CONTACT:martina.novak@biolino.at
X-EXTRAINFO:[preis='1500'][anmeldung='true']
DTSTAMP:20260423T193147
DTSTART:20181218T083000
DTEND:20181218T093000
SEQUENCE:0
TRANSP:OPAQUE
END:VEVENT
END:VCALENDAR