BEGIN:VCALENDAR
VERSION:2.0
PRODID:-//jEvents 2.0 for Joomla//EN
CALSCALE:GREGORIAN
METHOD:PUBLISH
BEGIN:VEVENT
UID:aa11f869ea47bfae4411fb4fe3410002
CATEGORIES:6. Bezirk
CREATED:20180904T074603
SUMMARY:BIOLINO - Bewegungswelt
LOCATION:Sandwirtgasse 13/12
DESCRIPTION:Die Bewegungswelt  ist für Kinder von 8 Monaten - 1,5 Jahren. Wir krabbeln,
  kuscheln, singen, springen, kriechen und tanzen – und haben gemeinsam jede
  Menge Spaß. So stärken wir Körpergefühl, Grobmotorik und die Lust, uns zu 
 bewegen. Wir zeigen dir, wie du aus einfachen Alltagsgegenständen und Möbel
 n attraktive Bewegungswelten für dein Kind zaubern kannst.\n \nDu kannst di
 ese Spielgruppe mit der Biolino-Blockkarte (https://bit.ly/2PuEK3w) besuche
 n. Einfach eine Blockkarte  (https://bit.ly/2PuEK3w)kaufen und alle Spielgr
 uppen, die in unserem Stundenplan  (https://bit.ly/2wH40Mb)mit einem Herz g
 ekennzeichnet sind besuchen.\nMiit dem Code: "Babymamas" bekommst du -10% a
 uf alle Blockkarten &lt;3\nBis bald im Biolino Institut (http://www.biolino
 .at),\nMartina\n
X-ALT-DESC;FMTTYPE=text/html:<p>Die <strong>Bewegungswelt</strong>  ist für Kinder von <strong>8 Monaten
  - 1,5 Jahren</strong>. Wir krabbeln, kuscheln, singen, springen, kriechen 
 und tanzen – und haben gemeinsam jede Menge Spaß. So stärken wir Körpergefü
 hl, Grobmotorik und die Lust, uns zu bewegen. Wir zeigen dir, wie du aus ei
 nfachen Alltagsgegenständen und Möbeln attraktive Bewegungswelten für dein 
 Kind zaubern kannst.</p><p> </p><p>Du kannst diese Spielgruppe mit der <a h
 ref="https://bit.ly/2PuEK3w">Biolino-Blockkarte</a> besuchen. Einfach eine 
 <a href="https://bit.ly/2PuEK3w">Blockkarte </a>kaufen und alle Spielgruppe
 n, die in unserem <a href="https://bit.ly/2wH40Mb">Stundenplan </a>mit eine
 m Herz gekennzeichnet sind besuchen.</p><p>Miit dem Code: "Babymamas" bekom
 mst du -10% auf alle Blockkarten &lt;3</p><p>Bis bald im <a href="http://ww
 w.biolino.at">Biolino Institut</a>,</p><p>Martina</p>
CONTACT:martina.novak@biolino.at
X-EXTRAINFO:[preis='1500'][anmeldung='true']
DTSTAMP:20260423T124932
DTSTART:20190115T100000
DTEND:20190115T110000
SEQUENCE:0
TRANSP:OPAQUE
END:VEVENT
END:VCALENDAR