BEGIN:VCALENDAR
VERSION:2.0
PRODID:-//jEvents 2.0 for Joomla//EN
CALSCALE:GREGORIAN
METHOD:PUBLISH
BEGIN:VEVENT
UID:559c92ac890c2c306ebff10849213987
CATEGORIES:6. Bezirk
CREATED:20180904T075035
SUMMARY:Biolino BABY-ATELIER (Sitzalter bis 2,5 Jahre)
LOCATION:Sandwirtgasse 13/12
DESCRIPTION:Spielgruppe mit dem Schwerpunkt haptische Sinnesschulung:\nExperimentieren 
 mit Farben, Konsistenzen und unterschiedlichsten Materialien. Die Fingerfar
 ben werden frisch selbst hergestellt.\nDie kleinen Künstlerinnen und Künstl
 er können im Biolino Baby-Atelier nach Herzenslust mit selbst hergestellten
  Bio-Farben matschen und gatschen, ohne dass Mama oder Papa nachher aufräum
 en müssen. Über das ganze Semester verteilt führen wir immer wieder neues E
 rlebnismaterial in die Gruppe ein.\n \n Klebrig, matschig, bröselig, kratzi
 g: Sand, Erde, Getreidekörner, Holz und viele andere haptische Anregungen w
 arten auf experimentierfreudige Entdecker*innen. Die Kinder können nach Her
 zenslust die Bio-Farben und Materialien mischen und dabei mit allen Sinnen 
 erleben, wie sie ihre Eigenschaften verändern.\n \n Du kennst das bestimmt:
  Manchen Kindern gefallen sandige Hände und klebrige Füße sehr, andere wied
 erum brauchen Zeit, um sich damit anzufreunden. Genau diese Zeit und den Fr
 eiraum geben wir dir und deinem Kind im Biolino Baby-Atelier. Damit folgen 
 wir auch der Idee von Pädagoge Arno Stern, der das hemmungslose, spielerisc
 he Malen und Experimentieren als "Rückkehr zum wahren Wesen" sieht.\nEinsti
 eg jederzeit möglich! &lt;3\nDu kannst diese Spielgruppe mit der Biolino-Bl
 ockkarte (https://bit.ly/2PuEK3w) besuchen. Einfach eine Blockkarte  (https
 ://bit.ly/2PuEK3w)kaufen und alle Spielgruppen, die in unserem Stundenplan 
  (https://bit.ly/2wH40Mb)mit einem Herz gekennzeichnet sind besuchen.\nBis 
 bald im Biolino Institut (http://www.biolino.at),\nMartina\n
X-ALT-DESC;FMTTYPE=text/html:<p>Spielgruppe mit dem Schwerpunkt haptische Sinnesschulung:</p><p>Experime
 ntieren mit Farben, Konsistenzen und unterschiedlichsten Materialien. Die F
 ingerfarben werden frisch selbst hergestellt.</p><p>Die kleinen Künstlerinn
 en und Künstler können im Biolino Baby-Atelier nach Herzenslust mit selbst 
 hergestellten Bio-Farben matschen und gatschen, ohne dass Mama oder Papa na
 chher aufräumen müssen. Über das ganze Semester verteilt führen wir immer w
 ieder neues Erlebnismaterial in die Gruppe ein.<br /> <br /> Klebrig, matsc
 hig, bröselig, kratzig: Sand, Erde, Getreidekörner, Holz und viele andere h
 aptische Anregungen warten auf experimentierfreudige Entdecker*innen. Die K
 inder können nach Herzenslust die Bio-Farben und Materialien mischen und da
 bei mit allen Sinnen erleben, wie sie ihre Eigenschaften verändern.<br /> <
 br /> Du kennst das bestimmt: Manchen Kindern gefallen sandige Hände und kl
 ebrige Füße sehr, andere wiederum brauchen Zeit, um sich damit anzufreunden
 . Genau diese Zeit und den Freiraum geben wir dir und deinem Kind im Biolin
 o Baby-Atelier. Damit folgen wir auch der Idee von Pädagoge Arno Stern, der
  das hemmungslose, spielerische Malen und Experimentieren als "Rückkehr zum
  wahren Wesen" sieht.</p><p>Einstieg jederzeit möglich! &lt;3</p><p>Du kann
 st diese Spielgruppe mit der <a href="https://bit.ly/2PuEK3w">Biolino-Block
 karte</a> besuchen. Einfach eine <a href="https://bit.ly/2PuEK3w">Blockkart
 e </a>kaufen und alle Spielgruppen, die in unserem <a href="https://bit.ly/
 2wH40Mb">Stundenplan </a>mit einem Herz gekennzeichnet sind besuchen.</p><p
 >Bis bald im <a href="http://www.biolino.at">Biolino Institut</a>,</p><p>Ma
 rtina</p>
CONTACT:martina.novak@biolino.at
X-EXTRAINFO:[preis='1500'][anmeldung='true']
DTSTAMP:20260423T182134
DTSTART:20181219T100000
DTEND:20181219T110000
SEQUENCE:0
TRANSP:OPAQUE
END:VEVENT
END:VCALENDAR