BEGIN:VCALENDAR
VERSION:2.0
PRODID:-//jEvents 2.0 for Joomla//EN
CALSCALE:GREGORIAN
METHOD:PUBLISH
BEGIN:VEVENT
UID:8c274a8ee564f850b0a2dd9e04a9fa6e
CATEGORIES:6. Bezirk
CREATED:20180904T212923
SUMMARY:Kinder-Aterlier( 1,5 - 3 Jahre)
LOCATION:Sandwirtgasse 13/12
DESCRIPTION:<p>Im <strong>Biolino Kinder-Atelier</strong> können sich junge Forscherinn
 en, Künstler und Farben-Köche auf eine spannende Entdeckungsreise ins Reich
  der Farben, Düfte und Geschmäcker begeben. Alle Sinne werden angeregt, wen
 n wir mit den unterschiedlichsten Materialien experimentieren - wir wecken 
 unsere inneren Künstler*innen. Das fördert ein starkes Selbstbewusstsein, v
 erhilft zu einem reflektierten Umgang mit Gefühlen und führt zu einem umfan
 greicheren Wortschatz.</p><p>- wir experimentieren gemeinsam mit Farben, Pl
 astilin, Kreide, und vieles mehr her</p><p>- malen, zeichnen, kneten, druck
 en, schneiden, kleben</p><p>- Erforschen verschiedenen Materialien</p><p>Du
  kannst diese Spielgruppe mit der <a href="https://bit.ly/2PuEK3w">Biolino-
 Blockkarte</a> besuchen. Einfach eine <a href="https://bit.ly/2PuEK3w">Bloc
 kkarte </a>kaufen und alle Spielgruppen, die in unserem <a href="https://bi
 t.ly/2wH40Mb">Stundenplan </a>mit einem Herz gekennzeichnet sind besuchen.<
 /p><p>Bis bald im <a href="http://www.biolino.at">Biolino Institut</a>,</p>
 <p>Martina</p>
CONTACT:martina.novak@biolino.at
X-EXTRAINFO:[preis='1500'][anmeldung='true']
DTSTAMP:20260423T182517
DTSTART:20190116T150000
DTEND:20190116T160000
SEQUENCE:0
TRANSP:OPAQUE
END:VEVENT
END:VCALENDAR