BEGIN:VCALENDAR
VERSION:2.0
PRODID:-//jEvents 2.0 for Joomla//EN
CALSCALE:GREGORIAN
METHOD:PUBLISH
BEGIN:VEVENT
UID:9e438d310fd862207423347c0a7952fb
CATEGORIES:16. Bezirk
CREATED:20181002T153303
SUMMARY:PILATES mit BABY in einer kleinen Gruppe (offene Stunde)
LOCATION:Körpergut im 16.Bezirk\, Steinbruchstraße 6
DESCRIPTION:\nPilates für Mamas, die nach der Geburt in einer kleinen Gruppe (max. 8 Ma
 mas) wieder fit werden möchten. \n Die Übungen kräftigen die Problemzonen n
 ach der Geburt und fördern die allgemeine Beweglichkeit und Entspannungsfäh
 igkeit.\nStillen und Wickeln gehören bei einer "mit Baby" Einheit natürlich
  dazu!\n Für Babys ab 8 Wochen bis ca. 1,5 Jahre geeignet!\nDienstag: 10:15
  – 11:15 – Pilates mit Baby\n Donnerstag: 10:15 – 11:15 – Yoga mit Baby\nSc
 hnupperpreis: 10€\n10er Block – 150€ | 5erBlock - 85€ (6 Monate für alle "m
 it Baby" Kurse bei Körpergut gültig)\nAnmeldung und nähere Infos unter www.
 koerpergut.at (https://www.koerpergut.at/kursformate/) | office@koerpergut.
 at (mailto:office@koerpergut.at) | 06506622053\n \n
X-ALT-DESC;FMTTYPE=text/html:<p></p><p>Pilates für Mamas, die nach der Geburt in einer kleinen Gruppe (m
 ax. 8 Mamas) wieder fit werden möchten. <br /> Die Übungen kräftigen die Pr
 oblemzonen nach der Geburt und fördern die allgemeine Beweglichkeit und Ent
 spannungsfähigkeit.</p><p>Stillen und Wickeln gehören bei einer "mit Baby" 
 Einheit natürlich dazu!<br /> Für Babys ab 8 Wochen bis ca. 1,5 Jahre geeig
 net!</p><p>Dienstag: 10:15 – 11:15 – Pilates mit Baby<br /> Donnerstag: 10:
 15 – 11:15 – Yoga mit Baby</p><p>Schnupperpreis: 10€</p><p>10er Block – 150
 € | 5erBlock - 85€ (6 Monate für alle "mit Baby" Kurse bei Körpergut gültig
 )</p><p>Anmeldung und nähere Infos unter <a href="https://www.koerpergut.at
 /kursformate/">www.koerpergut.at</a> | <a href="mailto:office@koerpergut.at
 ">office@koerpergut.at</a> | 06506622053</p><p> </p>
CONTACT:office@koerpergut.at
X-EXTRAINFO:[preis='000'][anmeldung='true']
DTSTAMP:20260425T141324
DTSTART:20190226T091500
DTEND:20190226T101500
SEQUENCE:0
TRANSP:OPAQUE
END:VEVENT
END:VCALENDAR