BEGIN:VCALENDAR
VERSION:2.0
PRODID:-//jEvents 2.0 for Joomla//EN
CALSCALE:GREGORIAN
METHOD:PUBLISH
BEGIN:VEVENT
UID:d64f26a339caf83836c1b676ded2b967
CATEGORIES:6. Bezirk
CREATED:20181004T175805
SUMMARY:Stillgruppe
LOCATION:Die Hebamme in Wien\, Haydngasse 21\, 1060
DESCRIPTION:Bei uns in der Stillgruppe sind alle willkommen!\nVon frisch gebackenen Mam
 as bis zur Langzeitstillmama!\nTermin: jeden Dienstag von 11:30 Uhr bis 12:
 30 Uhr\nKosten: 4 Euro\n \n
X-ALT-DESC;FMTTYPE=text/html:<p>Bei uns in der Stillgruppe sind alle willkommen!</p><p>Von frisch geback
 enen Mamas bis zur Langzeitstillmama!</p><p><strong>Termin:</strong> jeden 
 Dienstag von 11:30 Uhr bis 12:30 Uhr</p><p><strong>Kosten:</strong> 4 Euro<
 /p><p> </p>
CONTACT:www.diehebammeinwien.at
X-EXTRAINFO:[preis='400'][anmeldung='false']
DTSTAMP:20260423T194739
DTSTART:20190115T103000
DTEND:20190115T113000
SEQUENCE:0
TRANSP:OPAQUE
END:VEVENT
END:VCALENDAR