BEGIN:VCALENDAR
VERSION:2.0
PRODID:-//jEvents 2.0 for Joomla//EN
CALSCALE:GREGORIAN
METHOD:PUBLISH
BEGIN:VEVENT
UID:02c5f6acbc950066940c20af22d5d9e3
CATEGORIES:6. Bezirk
CREATED:20181004T180814
SUMMARY:Fit mit Baby - die Rückbildungsgymnastik mit Pfiff und Stillrunde
LOCATION:Die Hebamme in Wien\, Haydngasse 21\, 1060
DESCRIPTION:Der Kurs enthält Übungen, den durch Schwangerschaft und Geburt belasteten B
 eckenboden und die stark gedehnte Bauchmuskulatur zu kräftigen und den Rück
 en zu stärken. Die Übungen sollen Spaß machen, und es ist Raum für Fragen u
 nd Gespräche. Der Beckenboden wird durch die Belastung in der Schwangerscha
 ft geschwächt und hat ist unabhängig von dem Geburtsmodus, sprich ob Kaiser
 schnitt oder normale Geburt.\nDie Babies können natürlich mitgebracht werde
 n. Matten und Möglichkeiten um die Kinder anzulegen sind vorhanden, bitte b
 equeme Kleidung, Babydecke und Socken mitbringen!\nab 4 Wochen nach normale
 r Geburt und 6 Wochen nach Kaiserschnitt!\nTermin: jeden Dienstag und Donne
 rstag von 10:00 Uhr bis 11:00 Uhr\nKosten: 20 Euro pro Einheit oder 180 Eur
 o für den 10er Block\nDer Kurs läuft durch!!!\n
X-ALT-DESC;FMTTYPE=text/html:<p>Der Kurs enthält Übungen, den durch Schwangerschaft und Geburt belastete
 n Beckenboden und die stark gedehnte Bauchmuskulatur zu kräftigen und den R
 ücken zu stärken. Die Übungen sollen Spaß machen, und es ist Raum für Frage
 n und Gespräche. Der Beckenboden wird durch die Belastung in der Schwangers
 chaft geschwächt und hat ist unabhängig von dem Geburtsmodus, sprich ob Kai
 serschnitt oder normale Geburt.<br />Die Babies können natürlich mitgebrach
 t werden. Matten und Möglichkeiten um die Kinder anzulegen sind vorhanden, 
 bitte bequeme Kleidung, Babydecke und Socken mitbringen!</p><p>ab 4 Wochen 
 nach normaler Geburt und 6 Wochen nach Kaiserschnitt!</p><p><strong>Termin:
 </strong> jeden Dienstag und Donnerstag von 10:00 Uhr bis 11:00 Uhr</p><p><
 strong>Kosten: 20 Euro pro Einheit oder 180 Euro für den 10er Block</strong
 ></p><p><strong>Der Kurs läuft durch!!!</strong></p>
CONTACT:www.diehebammeinwien.at
X-EXTRAINFO:[preis='2000'][anmeldung='true']
DTSTAMP:20260423T141514
DTSTART:20190212T090000
DTEND:20190212T100000
SEQUENCE:0
TRANSP:OPAQUE
END:VEVENT
END:VCALENDAR