BEGIN:VCALENDAR
VERSION:2.0
PRODID:-//jEvents 2.0 for Joomla//EN
CALSCALE:GREGORIAN
METHOD:PUBLISH
BEGIN:VEVENT
UID:61afa8ce449c7e30e6874cc4bc20662d
CATEGORIES:6. Bezirk
CREATED:20181004T182942
SUMMARY:Eltern-Baby-Treff
LOCATION:Die Hebamme in Wien\, Haydngasse 21\, 1060
DESCRIPTION:Herzlich Willkommen zu unserem Babytreff!\nDieses wöchentliche Treffen dien
 t zum Austausch in der gleichen Lebensphase.\nTermin: immer Donnerstags von
  11:30 Uhr bis 12:30 Uhr\nKosten: 4 Euro\n \n
X-ALT-DESC;FMTTYPE=text/html:<p>Herzlich Willkommen zu unserem Babytreff!</p><p>Dieses wöchentliche Tref
 fen dient zum Austausch in der gleichen Lebensphase.</p><p>Termin: immer Do
 nnerstags von 11:30 Uhr bis 12:30 Uhr</p><p>Kosten: 4 Euro</p><p> </p>
CONTACT:www.diehebammeinwien.at
X-EXTRAINFO:[preis='400'][anmeldung='false']
DTSTAMP:20260423T211403
DTSTART:20191010T093000
DTEND:20191010T103000
SEQUENCE:0
TRANSP:OPAQUE
END:VEVENT
END:VCALENDAR