BEGIN:VCALENDAR
VERSION:2.0
PRODID:-//jEvents 2.0 for Joomla//EN
CALSCALE:GREGORIAN
METHOD:PUBLISH
BEGIN:VEVENT
UID:c7989dad44d759643bc47294e5601f3e
CATEGORIES:14. Bezirk
CREATED:20181015T104644
SUMMARY:Kreativraum- PEKiP für Babys im 1. Lebensjahr
LOCATION:derkreativraum14\, Linzerstraße 365\, 1140 Wien
DESCRIPTION:PEKiP® - Das Prager Eltern - Kind - Programm\nVon Geburt an begegnen Babies
  uns als eigenständige Persönlichkeiten. Das Prager Eltern - Kind - Program
 m wendet sich an Eltern, die die ganzheitliche Entwicklung ihres Kindes im 
 ersten Lebensjahr durch spielerische Anregungen bewußt unterstützen wollen.
 \nUnsere PEKiP® - Gruppe ist ein Spiel- und Förderangebot für 8 Babies ab d
 er 6. Lebenswoche mit ihrer erwachsenen Bezugsperson.\nIn einem gut beheizt
 en und sauberen Raum wollen wir uns bewußt Zeit für unser Baby nehmen, es i
 n seiner momentanen Situation wahrnehmen, begleiten und zu Bewegungen anreg
 en. Das Baby ist während der Spielzeit nackt, damit es großtmöglichste Bewe
 gungsfreiheit hat.\nIm Vordergrund stehen die Bedürnisse des Babies und die
  Vertiefung der Beziehung zwischen ihm und seiner Bezugsperson.\nUnter ande
 rem hat das Baby die Möglichkeit mit anderen Babies und deren Eltern Erfahr
 ungen zu sammeln.\nAuch die Erwachsenen haben die Zeit, sich untereinander 
 auszutauschen.\nBitte mitbringen: 1 Handtuch für das Baby; bequeme, luftige
  Kleidung für Erwachsenen; ev. Ersatzkleidung für Erwachsenen\nwww.derkreat
 ivraum.at (http://www.derkreativraum.at)\n
X-ALT-DESC;FMTTYPE=text/html:<p><strong>PEKiP® - Das Prager Eltern - Kind - Programm</strong></p><p>Von 
 Geburt an begegnen Babies uns als eigenständige Persönlichkeiten. Das Prage
 r Eltern - Kind - Programm wendet sich an Eltern, die die ganzheitliche Ent
 wicklung ihres Kindes im ersten Lebensjahr durch spielerische Anregungen be
 wußt unterstützen wollen.</p><p>Unsere PEKiP® - Gruppe ist ein Spiel- und F
 örderangebot für 8 Babies ab der 6. Lebenswoche mit ihrer erwachsenen Bezug
 sperson.</p><p>In einem gut beheizten und sauberen Raum wollen wir uns bewu
 ßt Zeit für unser Baby nehmen, es in seiner momentanen Situation wahrnehmen
 , begleiten und zu Bewegungen anregen. Das Baby ist während der Spielzeit n
 ackt, damit es großtmöglichste Bewegungsfreiheit hat.</p><p>Im Vordergrund 
 stehen die Bedürnisse des Babies und die Vertiefung der Beziehung zwischen 
 ihm und seiner Bezugsperson.</p><p>Unter anderem hat das Baby die Möglichke
 it mit anderen Babies und deren Eltern Erfahrungen zu sammeln.</p><p>Auch d
 ie Erwachsenen haben die Zeit, sich untereinander auszutauschen.</p><p>Bitt
 e mitbringen: 1 Handtuch für das Baby; bequeme, luftige Kleidung für Erwach
 senen; ev. Ersatzkleidung für Erwachsenen</p><p><a href="http://www.derkrea
 tivraum.at">www.derkreativraum.at</a></p>
CONTACT:0664 39 35 509, office@derkreativraum.at
X-EXTRAINFO:[preis='19800'][anmeldung='true']
DTSTAMP:20260423T143930
DTSTART:20190121T083000
DTEND:20190122T100000
SEQUENCE:0
TRANSP:OPAQUE
END:VEVENT
END:VCALENDAR