BEGIN:VCALENDAR
VERSION:2.0
PRODID:-//jEvents 2.0 for Joomla//EN
CALSCALE:GREGORIAN
METHOD:PUBLISH
BEGIN:VEVENT
UID:090c3b5eb1e14fdc00c08b12e78cd063
CATEGORIES:6. Bezirk
CREATED:20181024T172750
SUMMARY:Stillgruppe
LOCATION:Die Hebamme in Wien\, Haydngasse 21\, 1060
DESCRIPTION:<p>Bei uns in der Stillgruppe sind alle willkommen!</p><p>Von frisch geback
 enen Mamas bis zur Langzeitstillmama!</p><p><strong>Termin:</strong> jeden 
 Dienstag (läuft schon) und Donnerstag (ab 8.11.) von 11:30 Uhr bis 12:30 Uh
 r</p><p><strong>Kosten:</strong> 4 Euro</p><p>Anmeldung nicht erforderlich!
 </p>
CONTACT:www.diehebammeinwien.at
X-EXTRAINFO:[preis='400'][anmeldung='false']
DTSTAMP:20260423T182521
DTSTART:20190307T103000
DTEND:20190307T113000
SEQUENCE:0
TRANSP:OPAQUE
END:VEVENT
END:VCALENDAR