BEGIN:VCALENDAR
VERSION:2.0
PRODID:-//jEvents 2.0 for Joomla//EN
CALSCALE:GREGORIAN
METHOD:PUBLISH
BEGIN:VEVENT
UID:773f716e666c5436525761d166cdde17
CATEGORIES:21. Bezirk
CREATED:20181104T105522
SUMMARY:Mama-Baby-Yoga
LOCATION:littlesuns\, Donaufelderstrasse 102/2
DESCRIPTION:http://www.littlesuns.at/mama-baby-yoga (http://www.littlesuns.at/mama-baby
 -yoga)\n
X-ALT-DESC;FMTTYPE=text/html:<p><a href="http://www.littlesuns.at/mama-baby-yoga">http://www.littlesuns.
 at/mama-baby-yoga</a></p>
CONTACT:www.littlesuns.at/06645274715/info@littlesuns.at
X-EXTRAINFO:[preis='1500'][anmeldung='true']
DTSTAMP:20260423T152637
DTSTART:20190109T080000
DTEND:20190109T091500
SEQUENCE:0
TRANSP:OPAQUE
END:VEVENT
END:VCALENDAR