BEGIN:VCALENDAR
VERSION:2.0
PRODID:-//jEvents 2.0 for Joomla//EN
CALSCALE:GREGORIAN
METHOD:PUBLISH
BEGIN:VEVENT
UID:ad91c047b7bbac0b80cc9ffbc9e11ea5
CATEGORIES:21. Bezirk
CREATED:20181104T110150
SUMMARY:Babygruppe(im Littlesuns)
LOCATION:littlesuns\, Donaufelderstrasse 102/2
DESCRIPTION:http://www.littlesuns.at/babygruppe/ (http://www.littlesuns.at/babygruppe/)
 \n
X-ALT-DESC;FMTTYPE=text/html:<p><a href="http://www.littlesuns.at/babygruppe/">http://www.littlesuns.at/
 babygruppe/</a></p>
CONTACT:www.littlesuns.at/06645274715/info@littlesuns.at
X-EXTRAINFO:[preis='1000'][anmeldung='true']
DTSTAMP:20260423T162303
DTSTART:20190115T080000
DTEND:20190115T093000
SEQUENCE:0
TRANSP:OPAQUE
END:VEVENT
END:VCALENDAR