BEGIN:VCALENDAR
VERSION:2.0
PRODID:-//jEvents 2.0 for Joomla//EN
CALSCALE:GREGORIAN
METHOD:PUBLISH
BEGIN:VEVENT
UID:f72499994856a80acbb712bafb38fc2f
CATEGORIES:19. Bezirk
CREATED:20181104T141753
SUMMARY:Babyzeichensprache - Zwergensprache
LOCATION:Raum Happy im Lollipop des Q19
DESCRIPTION:<p>Zeigst Du Deinem Baby auch schon einfache Handzeichen wie winken und bra
 vo klatschen? Genauso einfach wie diese Handbewegungen sind andere Gebärden
  aus der Gebärdensprache, die Kinder schon recht bald nachmachen können. Au
 f diese Art kann Dir Dein Schatz zu verstehen geben was sie oder er möchte.
  Babys, die sich auf diese Art ausdrücken lernen sind zufriedener und queng
 eln weniger. Andererseits werden sie sehr bald zu kleinen Ansprechpartnern,
  was ihr Selbstwertgefühl deutlich steigert. <br /><br />Im Kurs lernt Ihr 
 ca 100 der wichtigsten Anfängerzeichen sowie Lieder und Spiele, die die Fam
 ilie lange begleiten. </p><p>In der ersten Kursstunde kannst Du kostenlos u
 nd unverbindlich schnuppern. <br />Anmeldung zum Schnuppern oder zum Kurs u
 nter <a href="mailto:mama@mamalogin.at">mama@mamalogin.at</a> oder 0664 751
 0 37 63. Ich freue mich auf Euch!</p>
CONTACT:Simone: mama@mamalogin.at oder 0664 7510 37 63
X-EXTRAINFO:[preis='15000'][anmeldung='true']
DTSTAMP:20260424T132556
DTSTART:20190530T073000
DTEND:20190530T083000
SEQUENCE:0
TRANSP:OPAQUE
END:VEVENT
END:VCALENDAR