BEGIN:VCALENDAR
VERSION:2.0
PRODID:-//jEvents 2.0 for Joomla//EN
CALSCALE:GREGORIAN
METHOD:PUBLISH
BEGIN:VEVENT
UID:16e3b6a78272d54ed6374722d6e4b237
CATEGORIES:6. Bezirk
CREATED:20181104T155516
SUMMARY:Offene STILLGRUPPE
LOCATION:6.\, Sandwirtgasse 13/12
DESCRIPTION:Offene Stillgruppe (https://www.biolino.at/offene-stillgruppe/) Bei biologi
 schem Tee und Knabbereien kannst du dich mit Hebamme Sabine und anderen Müt
 tern über Themen wie das Stillen, Fläschchen und Beikost austauschen. Wir l
 aden dich ein, mit uns und anderen Frauen ihr Bedürfnis nach Austausch zum 
 Leben mit ihren Babys zu stillen. Hebamme Sabine (https://www.biolino.at/ku
 rse-und-workshops-1/workshops-mit-hebamme-sabine/) nimmt sich in einer ents
 pannten ruhigen Atmosphäre ganz viel Zeit für dich und beantwortet alle dei
 ne Fragen zum Stillen und Leben mit Baby. Sie gibt Anregungen, Hilfe und Ti
 pps zu: Stillpositionen, Fläschchen oder Beikost, unruhigen und schlaflosen
  Nächten, deiner Mutterrolle, Partnerschaft, Verhütung, zum sanften Abstill
 en und vielem mehr. Jeden Dienstag von 12:30 - 14:00(außer in den Schulferi
 en)Im Biolino Institut (https://www.biolino.at): 6., Sandwirtgasse 13/12Ohn
 e AnmeldungUnkostenbeitrag: € 10.- (inkl. Tee und Knabbereien) Schau vorbei
  zum Austausch und Plaudern! &lt;3
X-ALT-DESC;FMTTYPE=text/html:<div data-contents="true"><div class="" data-block="true" data-editor="2ogo
 c" data-offset-key="9msfv-0-0"><div class="_1mf _1mj" data-offset-key="9msf
 v-0-0"><span data-offset-key="9msfv-0-0"><a title="https://www.biolino.at/o
 ffene-stillgruppe/" href="https://www.biolino.at/offene-stillgruppe/">Offen
 e Stillgruppe</a></span></div><div class="_1mf _1mj" data-offset-key="9msfv
 -0-0"> </div><div class="_1mf _1mj" data-offset-key="9msfv-0-0"><span data-
 offset-key="9msfv-0-0">Bei biologischem Tee und Knabbereien kannst du dich 
 mit Hebamme Sabine und anderen Müttern über Themen wie das Stillen, Fläschc
 hen und Beikost austauschen.</span></div></div><div class="" data-block="tr
 ue" data-editor="2ogoc" data-offset-key="7beg2-0-0"><div class="_1mf _1mj" 
 data-offset-key="7beg2-0-0"><span data-offset-key="7beg2-0-0"> </span></div
 ></div><div class="" data-block="true" data-editor="2ogoc" data-offset-key=
 "3d7dq-0-0"><div class="_1mf _1mj" data-offset-key="3d7dq-0-0"><span data-o
 ffset-key="3d7dq-0-0">Wir laden dich ein, mit uns und anderen Frauen ihr Be
 dürfnis nach Austausch zum Leben mit ihren Babys zu stillen. <a title="http
 s://www.biolino.at/kurse-und-workshops-1/workshops-mit-hebamme-sabine/" hre
 f="https://www.biolino.at/kurse-und-workshops-1/workshops-mit-hebamme-sabin
 e/">Hebamme Sabine</a> nimmt sich in einer entspannten ruhigen Atmosphäre g
 anz viel Zeit für dich und beantwortet alle deine Fragen zum Stillen und Le
 ben mit Baby. Sie gibt Anregungen, Hilfe und Tipps zu: Stillpositionen, Flä
 schchen oder Beikost, unruhigen und schlaflosen Nächten, deiner Mutterrolle
 , Partnerschaft, Verhütung, zum sanften Abstillen und vielem mehr.</span></
 div></div><div class="" data-block="true" data-editor="2ogoc" data-offset-k
 ey="59gkv-0-0"><div class="_1mf _1mj" data-offset-key="59gkv-0-0"><span dat
 a-offset-key="59gkv-0-0"> </span></div></div><div class="" data-block="true
 " data-editor="2ogoc" data-offset-key="6g7sb-0-0"><div class="_1mf _1mj" da
 ta-offset-key="6g7sb-0-0"><span data-offset-key="6g7sb-0-0">Jeden Dienstag 
 von 12:30 - 14:00</span></div></div><div class="" data-block="true" data-ed
 itor="2ogoc" data-offset-key="3ph3i-0-0"><div class="_1mf _1mj" data-offset
 -key="3ph3i-0-0"><span data-offset-key="3ph3i-0-0">(außer in den Schulferie
 n)</span></div></div><div class="" data-block="true" data-editor="2ogoc" da
 ta-offset-key="3he0i-0-0"><div class="_1mf _1mj" data-offset-key="3he0i-0-0
 "><span data-offset-key="3he0i-0-0">Im <a title="https://www.biolino.at" hr
 ef="https://www.biolino.at">Biolino Institut</a>: 6., Sandwirtgasse 13/12</
 span></div></div><div class="" data-block="true" data-editor="2ogoc" data-o
 ffset-key="c9c1m-0-0"><div class="_1mf _1mj" data-offset-key="c9c1m-0-0"><s
 pan data-offset-key="c9c1m-0-0">Ohne Anmeldung</span></div></div><div class
 ="" data-block="true" data-editor="2ogoc" data-offset-key="6lsjt-0-0"><div 
 class="_1mf _1mj" data-offset-key="6lsjt-0-0"><span data-offset-key="6lsjt-
 0-0">Unkostenbeitrag: € 10.- (inkl. Tee und Knabbereien)</span></div><div c
 lass="_1mf _1mj" data-offset-key="6lsjt-0-0"> </div><div class="_1mf _1mj" 
 data-offset-key="6lsjt-0-0"><span data-offset-key="6lsjt-0-0">Schau vorbei 
 zum Austausch und Plaudern! &lt;3</span></div></div></div>
CONTACT:martina.novak@biolino.at
X-EXTRAINFO:[preis='1000'][anmeldung='false']
DTSTAMP:20260423T194702
DTSTART:20181225T113000
DTEND:20181225T130000
SEQUENCE:0
TRANSP:OPAQUE
END:VEVENT
END:VCALENDAR