BEGIN:VCALENDAR
VERSION:2.0
PRODID:-//jEvents 2.0 for Joomla//EN
CALSCALE:GREGORIAN
METHOD:PUBLISH
BEGIN:VEVENT
UID:0e317cc0b1912bf588414a283475203e
CATEGORIES:7. Bezirk
CREATED:20181106T123428
SUMMARY:PIKLER-Spielraum 7 bis 15 Monate ab 22.11.
LOCATION:1070\, Westbahnstraße 56 - 58
DESCRIPTION:<p><strong>Raum und Zeit</strong><br /> im eigenen Rhythmus zu spielen, zu 
 entdecken, sich zu spüren,<br /> alleine - mit anderen <br /> in deiner lie
 bevollen und wahrnehmenden Begleitung,<br /> die Vertrauen und Sicherheit g
 ibt,<br /> <strong>inspiriert von der selbständigen Bewegungsentwicklung</s
 trong><br /> <a href="http://eltern-kind-freiraum.at/spielraum.php"><strong
 >nach Emmi Pikler</strong></a><strong> und Elfriede Hengstenberg.</strong><
 /p><p>Möchtest du entspannt dein Kind beim lustvollen Spielen beobachten <b
 r /> und mit unvoreingenommenem Blick wahrnehmen, was es alles kann?</p><p>
 Ich begleite in Situationen, die das erfordern - verbal oder nonverbal - un
 d beantworte deine Fragen, die in direktem Zusammenhang mit dem aktuellen G
 eschehen stehen.</p><p><strong>8 Einheiten und 2 Elterntankstellen.</strong
 ><strong><br /> </strong>Im Mittelpunkt der <strong>2 </strong><a href="htt
 p://eltern-kind-freiraum.at/fr_ef.php"><strong>Elterntankstellen</strong></
 a> - jeweils am Montag, den 26.11. und 7.1. um 19 Uhr - stehen deine Fragen
 , die sich aus dem Spielraum <br /> oder aus dem Alltag mit deiner Familie 
 ergeben.</p><p><strong>Wann</strong>: <strong>Donnerstag 13.45 bis 15.00</s
 trong></p><p>Der Einstieg in diese Spielraum-Gruppe ist jederzeit möglich,<
 br /> soferne Plätze frei sind.</p><p><strong><em><u>FRÜHLINGSKURS </u></em
 ></strong><em>: </em><strong><em>14. Februar bis 28. März</em></strong></p>
 <p>Mehr dazu:<a href="http://eltern-kind-freiraum.at/fr7.php"> http://elter
 n-kind-freiraum.at/fr7.php</a><a href="http://www.eltern-kind-freiraum.at">
 <br /> </a>Elterntankstellen:<a href="http://eltern-kind-freiraum.at/fr_ef.
 php"> http://eltern-kind-freiraum.at/fr_ef.php</a> </p><p><strong><em><u>We
 itere Gruppen:</u></em></strong></p><p><strong>3 bis 7 Monate: Montag</stro
 ng> 12.30 Uhr sowie Einzelstunden nach Vereinbarung</p><p><strong>7 bis 15 
 Monate: Montag </strong>9.30 und 11.00 Uhr<br /><br /><strong>15 bis 27 Mon
 ate: Dienstag </strong>13.45 Uhr<br /><strong>2 1/4 bis 3 1/2 Jahre: Montag
 </strong> 14.30 bis 15.45. Uhr</p><p><strong>2 bis 4 Jahre: Donnerstag</str
 ong> 15.25 Uhr<br /> <strong>GeschwisterFreiraum: Dienstag</strong> 15.25 U
 hr</p><p><a href="http://www.eltern-kind-freiraum.at"><strong>www.eltern-ki
 nd-freiraum.at</strong></a></p><p> </p>
CONTACT:0676-54 00 246; voelk@eltern-kind-freiraum.at
X-EXTRAINFO:[preis='2250'][anmeldung='true']
DTSTAMP:20260425T120433
DTSTART:20190124T124500
DTEND:20190124T140000
SEQUENCE:0
TRANSP:OPAQUE
END:VEVENT
END:VCALENDAR